BEGIN:VCALENDAR
VERSION:2.0
PRODID:-//destination.one//NONSGML destination.meta API//DE
X-WR-CALDESC:A calendar powered by destination.meta
X-WR-CALNAME:lueneburg Kalender via destination.meta
BEGIN:VEVENT
CATEGORIES:... zu Fuß
CATEGORIES:Kostümführung
CATEGORIES:Historische Führung
CATEGORIES:Themenführung
DESCRIPTION:Er arbeitet in den dunkelsten Hinterhöfen der Altstadt\, meidet
  die belebten Plätze\, fürchtet den „Narrwächter“ und ist ständig auf der 
 Flucht vor der Humorlosigkeit…\n\nmehr Informationen unter http://pages.de
 stination.one/de/lueneburg/streaming/detail/Event/e_100773753/der-rote-nar
 r
DTEND;TZID=Europe/Berlin:20240802T214500
DTSTAMP:20260422T085045Z
DTSTART;TZID=Europe/Berlin:20240802T200000
GEO:53.250108;10.407422
LOCATION:Tourist-Information Lüneburg\, Rathaus/Am Markt\, Lüneburg
ORGANIZER;CN=Lüneburg Marketing GmbH:mailto:touristik@lueneburg.info
RRULE:FREQ=WEEKLY;UNTIL=20240824T194500;BYDAY=FR,SA
SEQUENCE:0
SUMMARY:Der Rote Narr
UID:e_100773753_iv0
URL:http://pages.destination.one/de/lueneburg/streaming/detail/Event/e_1007
 73753/der-rote-narr
END:VEVENT
BEGIN:VEVENT
CATEGORIES:... zu Fuß
CATEGORIES:Kostümführung
CATEGORIES:Historische Führung
CATEGORIES:Themenführung
DESCRIPTION:Er arbeitet in den dunkelsten Hinterhöfen der Altstadt\, meidet
  die belebten Plätze\, fürchtet den „Narrwächter“ und ist ständig auf der 
 Flucht vor der Humorlosigkeit…\n\nmehr Informationen unter http://pages.de
 stination.one/de/lueneburg/streaming/detail/Event/e_100773753/der-rote-nar
 r
DTEND;TZID=Europe/Berlin:20260704T200000
DTSTAMP:20260422T085045Z
DTSTART;TZID=Europe/Berlin:20260704T183000
GEO:53.250108;10.407422
LOCATION:Tourist-Information Lüneburg\, Rathaus/Am Markt\, Lüneburg
ORGANIZER;CN=Lüneburg Marketing GmbH:mailto:touristik@lueneburg.info
SEQUENCE:0
SUMMARY:Der Rote Narr
UID:e_100773753_iv1
URL:http://pages.destination.one/de/lueneburg/streaming/detail/Event/e_1007
 73753/der-rote-narr
END:VEVENT
BEGIN:VEVENT
CATEGORIES:... zu Fuß
CATEGORIES:Kostümführung
CATEGORIES:Historische Führung
CATEGORIES:Themenführung
DESCRIPTION:Er arbeitet in den dunkelsten Hinterhöfen der Altstadt\, meidet
  die belebten Plätze\, fürchtet den „Narrwächter“ und ist ständig auf der 
 Flucht vor der Humorlosigkeit…\n\nmehr Informationen unter http://pages.de
 stination.one/de/lueneburg/streaming/detail/Event/e_100773753/der-rote-nar
 r
DTEND;TZID=Europe/Berlin:20260710T200000
DTSTAMP:20260422T085045Z
DTSTART;TZID=Europe/Berlin:20260710T183000
GEO:53.250108;10.407422
LOCATION:Tourist-Information Lüneburg\, Rathaus/Am Markt\, Lüneburg
ORGANIZER;CN=Lüneburg Marketing GmbH:mailto:touristik@lueneburg.info
RRULE:FREQ=WEEKLY;UNTIL=20260710T180000;BYDAY=FR,SA
SEQUENCE:0
SUMMARY:Der Rote Narr
UID:e_100773753_iv2
URL:http://pages.destination.one/de/lueneburg/streaming/detail/Event/e_1007
 73753/der-rote-narr
END:VEVENT
BEGIN:VEVENT
CATEGORIES:... zu Fuß
CATEGORIES:Kostümführung
CATEGORIES:Historische Führung
CATEGORIES:Themenführung
DESCRIPTION:Er arbeitet in den dunkelsten Hinterhöfen der Altstadt\, meidet
  die belebten Plätze\, fürchtet den „Narrwächter“ und ist ständig auf der 
 Flucht vor der Humorlosigkeit…\n\nmehr Informationen unter http://pages.de
 stination.one/de/lueneburg/streaming/detail/Event/e_100773753/der-rote-nar
 r
DTEND;TZID=Europe/Berlin:20260717T200000
DTSTAMP:20260422T085045Z
DTSTART;TZID=Europe/Berlin:20260717T183000
GEO:53.250108;10.407422
LOCATION:Tourist-Information Lüneburg\, Rathaus/Am Markt\, Lüneburg
ORGANIZER;CN=Lüneburg Marketing GmbH:mailto:touristik@lueneburg.info
RRULE:FREQ=WEEKLY;UNTIL=20260717T180000;BYDAY=FR,SA
SEQUENCE:0
SUMMARY:Der Rote Narr
UID:e_100773753_iv3
URL:http://pages.destination.one/de/lueneburg/streaming/detail/Event/e_1007
 73753/der-rote-narr
END:VEVENT
BEGIN:VEVENT
CATEGORIES:... zu Fuß
CATEGORIES:Kostümführung
CATEGORIES:Historische Führung
CATEGORIES:Themenführung
DESCRIPTION:Er arbeitet in den dunkelsten Hinterhöfen der Altstadt\, meidet
  die belebten Plätze\, fürchtet den „Narrwächter“ und ist ständig auf der 
 Flucht vor der Humorlosigkeit…\n\nmehr Informationen unter http://pages.de
 stination.one/de/lueneburg/streaming/detail/Event/e_100773753/der-rote-nar
 r
DTEND;TZID=Europe/Berlin:20260724T200000
DTSTAMP:20260422T085045Z
DTSTART;TZID=Europe/Berlin:20260724T183000
GEO:53.250108;10.407422
LOCATION:Tourist-Information Lüneburg\, Rathaus/Am Markt\, Lüneburg
ORGANIZER;CN=Lüneburg Marketing GmbH:mailto:touristik@lueneburg.info
RRULE:FREQ=WEEKLY;UNTIL=20260806T180000;BYDAY=FR,SA
SEQUENCE:0
SUMMARY:Der Rote Narr
UID:e_100773753_iv4
URL:http://pages.destination.one/de/lueneburg/streaming/detail/Event/e_1007
 73753/der-rote-narr
END:VEVENT
BEGIN:VEVENT
CATEGORIES:... zu Fuß
CATEGORIES:Kostümführung
CATEGORIES:Historische Führung
CATEGORIES:Themenführung
DESCRIPTION:Er arbeitet in den dunkelsten Hinterhöfen der Altstadt\, meidet
  die belebten Plätze\, fürchtet den „Narrwächter“ und ist ständig auf der 
 Flucht vor der Humorlosigkeit…\n\nmehr Informationen unter http://pages.de
 stination.one/de/lueneburg/streaming/detail/Event/e_100773753/der-rote-nar
 r
DTEND;TZID=Europe/Berlin:20260808T200000
DTSTAMP:20260422T085045Z
DTSTART;TZID=Europe/Berlin:20260808T183000
GEO:53.250108;10.407422
LOCATION:Tourist-Information Lüneburg\, Rathaus/Am Markt\, Lüneburg
ORGANIZER;CN=Lüneburg Marketing GmbH:mailto:touristik@lueneburg.info
RRULE:FREQ=WEEKLY;UNTIL=20260829T180000;BYDAY=FR,SA
SEQUENCE:0
SUMMARY:Der Rote Narr
UID:e_100773753_iv5
URL:http://pages.destination.one/de/lueneburg/streaming/detail/Event/e_1007
 73753/der-rote-narr
END:VEVENT
BEGIN:VTIMEZONE
TZID:Europe/Berlin
X-LIC-LOCATION:Europe/Berlin
BEGIN:DAYLIGHT
DTSTART:19700329T020000
RRULE:FREQ=YEARLY;BYDAY=-1SU;BYMONTH=3
TZNAME:CEST
TZOFFSETFROM:+0100
TZOFFSETTO:+0200
END:DAYLIGHT
BEGIN:STANDARD
DTSTART:19701025T030000
RRULE:FREQ=YEARLY;BYDAY=-1SU;BYMONTH=10
TZNAME:CET
TZOFFSETFROM:+0200
TZOFFSETTO:+0100
END:STANDARD
END:VTIMEZONE
END:VCALENDAR
