BEGIN:VCALENDAR
VERSION:2.0
PRODID:-//destination.one//NONSGML destination.meta API//DE
X-WR-CALDESC:A calendar powered by destination.meta
X-WR-CALNAME:lueneburg Kalender via destination.meta
BEGIN:VEVENT
CATEGORIES:... zu Fuß
CATEGORIES:Geführter Rundgang
CATEGORIES:Historische Führung
CATEGORIES:Kostümführung
CATEGORIES:Themenführung
DESCRIPTION:Ausgehend vom Marktplatz geht es mit dem Nachtwächter Claas vor
 an ins alte Hafenviertel Lüneburgs.\n\nmehr Informationen unter http://pag
 es.destination.one/de/lueneburg/streaming/detail/Event/e_100775216/durch-d
 ie-nacht-mit-claas-und-fischers-trine
DTEND;TZID=Europe/Berlin:20240323T194500
DTSTAMP:20260421T091536Z
DTSTART;TZID=Europe/Berlin:20240323T180000
GEO:53.250108;10.407422
LOCATION:Tourist-Information Lüneburg\, Rathaus/Am Markt\, Lüneburg
ORGANIZER;CN=Lüneburg Marketing GmbH:mailto:touristik@lueneburg.info
SEQUENCE:0
SUMMARY:Durch die Nacht mit Claas und Fischers Trine
UID:e_100775216_iv0
URL:http://pages.destination.one/de/lueneburg/streaming/detail/Event/e_1007
 75216/durch-die-nacht-mit-claas-und-fischers-trine
END:VEVENT
BEGIN:VEVENT
CATEGORIES:... zu Fuß
CATEGORIES:Geführter Rundgang
CATEGORIES:Historische Führung
CATEGORIES:Kostümführung
CATEGORIES:Themenführung
DESCRIPTION:Ausgehend vom Marktplatz geht es mit dem Nachtwächter Claas vor
 an ins alte Hafenviertel Lüneburgs.\n\nmehr Informationen unter http://pag
 es.destination.one/de/lueneburg/streaming/detail/Event/e_100775216/durch-d
 ie-nacht-mit-claas-und-fischers-trine
DTEND;TZID=Europe/Berlin:20240330T194500
DTSTAMP:20260421T091536Z
DTSTART;TZID=Europe/Berlin:20240330T180000
GEO:53.250108;10.407422
LOCATION:Tourist-Information Lüneburg\, Rathaus/Am Markt\, Lüneburg
ORGANIZER;CN=Lüneburg Marketing GmbH:mailto:touristik@lueneburg.info
SEQUENCE:0
SUMMARY:Durch die Nacht mit Claas und Fischers Trine
UID:e_100775216_iv1
URL:http://pages.destination.one/de/lueneburg/streaming/detail/Event/e_1007
 75216/durch-die-nacht-mit-claas-und-fischers-trine
END:VEVENT
BEGIN:VEVENT
CATEGORIES:... zu Fuß
CATEGORIES:Geführter Rundgang
CATEGORIES:Historische Führung
CATEGORIES:Kostümführung
CATEGORIES:Themenführung
DESCRIPTION:Ausgehend vom Marktplatz geht es mit dem Nachtwächter Claas vor
 an ins alte Hafenviertel Lüneburgs.\n\nmehr Informationen unter http://pag
 es.destination.one/de/lueneburg/streaming/detail/Event/e_100775216/durch-d
 ie-nacht-mit-claas-und-fischers-trine
DTEND;TZID=Europe/Berlin:20240420T194500
DTSTAMP:20260421T091536Z
DTSTART;TZID=Europe/Berlin:20240420T180000
GEO:53.250108;10.407422
LOCATION:Tourist-Information Lüneburg\, Rathaus/Am Markt\, Lüneburg
ORGANIZER;CN=Lüneburg Marketing GmbH:mailto:touristik@lueneburg.info
SEQUENCE:0
SUMMARY:Durch die Nacht mit Claas und Fischers Trine
UID:e_100775216_iv2
URL:http://pages.destination.one/de/lueneburg/streaming/detail/Event/e_1007
 75216/durch-die-nacht-mit-claas-und-fischers-trine
END:VEVENT
BEGIN:VEVENT
CATEGORIES:... zu Fuß
CATEGORIES:Geführter Rundgang
CATEGORIES:Historische Führung
CATEGORIES:Kostümführung
CATEGORIES:Themenführung
DESCRIPTION:Ausgehend vom Marktplatz geht es mit dem Nachtwächter Claas vor
 an ins alte Hafenviertel Lüneburgs.\n\nmehr Informationen unter http://pag
 es.destination.one/de/lueneburg/streaming/detail/Event/e_100775216/durch-d
 ie-nacht-mit-claas-und-fischers-trine
DTEND;TZID=Europe/Berlin:20240511T194500
DTSTAMP:20260421T091536Z
DTSTART;TZID=Europe/Berlin:20240511T180000
GEO:53.250108;10.407422
LOCATION:Tourist-Information Lüneburg\, Rathaus/Am Markt\, Lüneburg
ORGANIZER;CN=Lüneburg Marketing GmbH:mailto:touristik@lueneburg.info
SEQUENCE:0
SUMMARY:Durch die Nacht mit Claas und Fischers Trine
UID:e_100775216_iv3
URL:http://pages.destination.one/de/lueneburg/streaming/detail/Event/e_1007
 75216/durch-die-nacht-mit-claas-und-fischers-trine
END:VEVENT
BEGIN:VEVENT
CATEGORIES:... zu Fuß
CATEGORIES:Geführter Rundgang
CATEGORIES:Historische Führung
CATEGORIES:Kostümführung
CATEGORIES:Themenführung
DESCRIPTION:Ausgehend vom Marktplatz geht es mit dem Nachtwächter Claas vor
 an ins alte Hafenviertel Lüneburgs.\n\nmehr Informationen unter http://pag
 es.destination.one/de/lueneburg/streaming/detail/Event/e_100775216/durch-d
 ie-nacht-mit-claas-und-fischers-trine
DTEND;TZID=Europe/Berlin:20240615T194500
DTSTAMP:20260421T091536Z
DTSTART;TZID=Europe/Berlin:20240615T180000
GEO:53.250108;10.407422
LOCATION:Tourist-Information Lüneburg\, Rathaus/Am Markt\, Lüneburg
ORGANIZER;CN=Lüneburg Marketing GmbH:mailto:touristik@lueneburg.info
SEQUENCE:0
SUMMARY:Durch die Nacht mit Claas und Fischers Trine
UID:e_100775216_iv4
URL:http://pages.destination.one/de/lueneburg/streaming/detail/Event/e_1007
 75216/durch-die-nacht-mit-claas-und-fischers-trine
END:VEVENT
BEGIN:VEVENT
CATEGORIES:... zu Fuß
CATEGORIES:Geführter Rundgang
CATEGORIES:Historische Führung
CATEGORIES:Kostümführung
CATEGORIES:Themenführung
DESCRIPTION:Ausgehend vom Marktplatz geht es mit dem Nachtwächter Claas vor
 an ins alte Hafenviertel Lüneburgs.\n\nmehr Informationen unter http://pag
 es.destination.one/de/lueneburg/streaming/detail/Event/e_100775216/durch-d
 ie-nacht-mit-claas-und-fischers-trine
DTEND;TZID=Europe/Berlin:20240706T194500
DTSTAMP:20260421T091536Z
DTSTART;TZID=Europe/Berlin:20240706T180000
GEO:53.250108;10.407422
LOCATION:Tourist-Information Lüneburg\, Rathaus/Am Markt\, Lüneburg
ORGANIZER;CN=Lüneburg Marketing GmbH:mailto:touristik@lueneburg.info
SEQUENCE:0
SUMMARY:Durch die Nacht mit Claas und Fischers Trine
UID:e_100775216_iv5
URL:http://pages.destination.one/de/lueneburg/streaming/detail/Event/e_1007
 75216/durch-die-nacht-mit-claas-und-fischers-trine
END:VEVENT
BEGIN:VEVENT
CATEGORIES:... zu Fuß
CATEGORIES:Geführter Rundgang
CATEGORIES:Historische Führung
CATEGORIES:Kostümführung
CATEGORIES:Themenführung
DESCRIPTION:Ausgehend vom Marktplatz geht es mit dem Nachtwächter Claas vor
 an ins alte Hafenviertel Lüneburgs.\n\nmehr Informationen unter http://pag
 es.destination.one/de/lueneburg/streaming/detail/Event/e_100775216/durch-d
 ie-nacht-mit-claas-und-fischers-trine
DTEND;TZID=Europe/Berlin:20240803T194500
DTSTAMP:20260421T091536Z
DTSTART;TZID=Europe/Berlin:20240803T180000
GEO:53.250108;10.407422
LOCATION:Tourist-Information Lüneburg\, Rathaus/Am Markt\, Lüneburg
ORGANIZER;CN=Lüneburg Marketing GmbH:mailto:touristik@lueneburg.info
SEQUENCE:0
SUMMARY:Durch die Nacht mit Claas und Fischers Trine
UID:e_100775216_iv6
URL:http://pages.destination.one/de/lueneburg/streaming/detail/Event/e_1007
 75216/durch-die-nacht-mit-claas-und-fischers-trine
END:VEVENT
BEGIN:VEVENT
CATEGORIES:... zu Fuß
CATEGORIES:Geführter Rundgang
CATEGORIES:Historische Führung
CATEGORIES:Kostümführung
CATEGORIES:Themenführung
DESCRIPTION:Ausgehend vom Marktplatz geht es mit dem Nachtwächter Claas vor
 an ins alte Hafenviertel Lüneburgs.\n\nmehr Informationen unter http://pag
 es.destination.one/de/lueneburg/streaming/detail/Event/e_100775216/durch-d
 ie-nacht-mit-claas-und-fischers-trine
DTEND;TZID=Europe/Berlin:20240817T194500
DTSTAMP:20260421T091536Z
DTSTART;TZID=Europe/Berlin:20240817T180000
GEO:53.250108;10.407422
LOCATION:Tourist-Information Lüneburg\, Rathaus/Am Markt\, Lüneburg
ORGANIZER;CN=Lüneburg Marketing GmbH:mailto:touristik@lueneburg.info
SEQUENCE:0
SUMMARY:Durch die Nacht mit Claas und Fischers Trine
UID:e_100775216_iv7
URL:http://pages.destination.one/de/lueneburg/streaming/detail/Event/e_1007
 75216/durch-die-nacht-mit-claas-und-fischers-trine
END:VEVENT
BEGIN:VEVENT
CATEGORIES:... zu Fuß
CATEGORIES:Geführter Rundgang
CATEGORIES:Historische Führung
CATEGORIES:Kostümführung
CATEGORIES:Themenführung
DESCRIPTION:Ausgehend vom Marktplatz geht es mit dem Nachtwächter Claas vor
 an ins alte Hafenviertel Lüneburgs.\n\nmehr Informationen unter http://pag
 es.destination.one/de/lueneburg/streaming/detail/Event/e_100775216/durch-d
 ie-nacht-mit-claas-und-fischers-trine
DTEND;TZID=Europe/Berlin:20241005T194500
DTSTAMP:20260421T091536Z
DTSTART;TZID=Europe/Berlin:20241005T180000
GEO:53.250108;10.407422
LOCATION:Tourist-Information Lüneburg\, Rathaus/Am Markt\, Lüneburg
ORGANIZER;CN=Lüneburg Marketing GmbH:mailto:touristik@lueneburg.info
SEQUENCE:0
SUMMARY:Durch die Nacht mit Claas und Fischers Trine
UID:e_100775216_iv8
URL:http://pages.destination.one/de/lueneburg/streaming/detail/Event/e_1007
 75216/durch-die-nacht-mit-claas-und-fischers-trine
END:VEVENT
BEGIN:VEVENT
CATEGORIES:... zu Fuß
CATEGORIES:Geführter Rundgang
CATEGORIES:Historische Führung
CATEGORIES:Kostümführung
CATEGORIES:Themenführung
DESCRIPTION:Ausgehend vom Marktplatz geht es mit dem Nachtwächter Claas vor
 an ins alte Hafenviertel Lüneburgs.\n\nmehr Informationen unter http://pag
 es.destination.one/de/lueneburg/streaming/detail/Event/e_100775216/durch-d
 ie-nacht-mit-claas-und-fischers-trine
DTEND;TZID=Europe/Berlin:20241102T194500
DTSTAMP:20260421T091536Z
DTSTART;TZID=Europe/Berlin:20241102T180000
GEO:53.250108;10.407422
LOCATION:Tourist-Information Lüneburg\, Rathaus/Am Markt\, Lüneburg
ORGANIZER;CN=Lüneburg Marketing GmbH:mailto:touristik@lueneburg.info
SEQUENCE:0
SUMMARY:Durch die Nacht mit Claas und Fischers Trine
UID:e_100775216_iv9
URL:http://pages.destination.one/de/lueneburg/streaming/detail/Event/e_1007
 75216/durch-die-nacht-mit-claas-und-fischers-trine
END:VEVENT
BEGIN:VEVENT
CATEGORIES:... zu Fuß
CATEGORIES:Geführter Rundgang
CATEGORIES:Historische Führung
CATEGORIES:Kostümführung
CATEGORIES:Themenführung
DESCRIPTION:Ausgehend vom Marktplatz geht es mit dem Nachtwächter Claas vor
 an ins alte Hafenviertel Lüneburgs.\n\nmehr Informationen unter http://pag
 es.destination.one/de/lueneburg/streaming/detail/Event/e_100775216/durch-d
 ie-nacht-mit-claas-und-fischers-trine
DTEND;TZID=Europe/Berlin:20241123T194500
DTSTAMP:20260421T091536Z
DTSTART;TZID=Europe/Berlin:20241123T180000
GEO:53.250108;10.407422
LOCATION:Tourist-Information Lüneburg\, Rathaus/Am Markt\, Lüneburg
ORGANIZER;CN=Lüneburg Marketing GmbH:mailto:touristik@lueneburg.info
SEQUENCE:0
SUMMARY:Durch die Nacht mit Claas und Fischers Trine
UID:e_100775216_iv10
URL:http://pages.destination.one/de/lueneburg/streaming/detail/Event/e_1007
 75216/durch-die-nacht-mit-claas-und-fischers-trine
END:VEVENT
BEGIN:VEVENT
CATEGORIES:... zu Fuß
CATEGORIES:Geführter Rundgang
CATEGORIES:Historische Führung
CATEGORIES:Kostümführung
CATEGORIES:Themenführung
DESCRIPTION:Ausgehend vom Marktplatz geht es mit dem Nachtwächter Claas vor
 an ins alte Hafenviertel Lüneburgs.\n\nmehr Informationen unter http://pag
 es.destination.one/de/lueneburg/streaming/detail/Event/e_100775216/durch-d
 ie-nacht-mit-claas-und-fischers-trine
DTEND;TZID=Europe/Berlin:20241230T194500
DTSTAMP:20260421T091536Z
DTSTART;TZID=Europe/Berlin:20241230T180000
GEO:53.250108;10.407422
LOCATION:Tourist-Information Lüneburg\, Rathaus/Am Markt\, Lüneburg
ORGANIZER;CN=Lüneburg Marketing GmbH:mailto:touristik@lueneburg.info
SEQUENCE:0
SUMMARY:Durch die Nacht mit Claas und Fischers Trine
UID:e_100775216_iv11
URL:http://pages.destination.one/de/lueneburg/streaming/detail/Event/e_1007
 75216/durch-die-nacht-mit-claas-und-fischers-trine
END:VEVENT
BEGIN:VEVENT
CATEGORIES:... zu Fuß
CATEGORIES:Geführter Rundgang
CATEGORIES:Historische Führung
CATEGORIES:Kostümführung
CATEGORIES:Themenführung
DESCRIPTION:Ausgehend vom Marktplatz geht es mit dem Nachtwächter Claas vor
 an ins alte Hafenviertel Lüneburgs.\n\nmehr Informationen unter http://pag
 es.destination.one/de/lueneburg/streaming/detail/Event/e_100775216/durch-d
 ie-nacht-mit-claas-und-fischers-trine
DTEND;TZID=Europe/Berlin:20260321T194500
DTSTAMP:20260421T091536Z
DTSTART;TZID=Europe/Berlin:20260321T180000
GEO:53.250108;10.407422
LOCATION:Tourist-Information Lüneburg\, Rathaus/Am Markt\, Lüneburg
ORGANIZER;CN=Lüneburg Marketing GmbH:mailto:touristik@lueneburg.info
SEQUENCE:0
SUMMARY:Durch die Nacht mit Claas und Fischers Trine
UID:e_100775216_iv12
URL:http://pages.destination.one/de/lueneburg/streaming/detail/Event/e_1007
 75216/durch-die-nacht-mit-claas-und-fischers-trine
END:VEVENT
BEGIN:VEVENT
CATEGORIES:... zu Fuß
CATEGORIES:Geführter Rundgang
CATEGORIES:Historische Führung
CATEGORIES:Kostümführung
CATEGORIES:Themenführung
DESCRIPTION:Ausgehend vom Marktplatz geht es mit dem Nachtwächter Claas vor
 an ins alte Hafenviertel Lüneburgs.\n\nmehr Informationen unter http://pag
 es.destination.one/de/lueneburg/streaming/detail/Event/e_100775216/durch-d
 ie-nacht-mit-claas-und-fischers-trine
DTEND;TZID=Europe/Berlin:20260404T194500
DTSTAMP:20260421T091536Z
DTSTART;TZID=Europe/Berlin:20260404T180000
GEO:53.250108;10.407422
LOCATION:Tourist-Information Lüneburg\, Rathaus/Am Markt\, Lüneburg
ORGANIZER;CN=Lüneburg Marketing GmbH:mailto:touristik@lueneburg.info
SEQUENCE:0
SUMMARY:Durch die Nacht mit Claas und Fischers Trine
UID:e_100775216_iv13
URL:http://pages.destination.one/de/lueneburg/streaming/detail/Event/e_1007
 75216/durch-die-nacht-mit-claas-und-fischers-trine
END:VEVENT
BEGIN:VEVENT
CATEGORIES:... zu Fuß
CATEGORIES:Geführter Rundgang
CATEGORIES:Historische Führung
CATEGORIES:Kostümführung
CATEGORIES:Themenführung
DESCRIPTION:Ausgehend vom Marktplatz geht es mit dem Nachtwächter Claas vor
 an ins alte Hafenviertel Lüneburgs.\n\nmehr Informationen unter http://pag
 es.destination.one/de/lueneburg/streaming/detail/Event/e_100775216/durch-d
 ie-nacht-mit-claas-und-fischers-trine
DTEND;TZID=Europe/Berlin:20260502T194500
DTSTAMP:20260421T091536Z
DTSTART;TZID=Europe/Berlin:20260502T180000
GEO:53.250108;10.407422
LOCATION:Tourist-Information Lüneburg\, Rathaus/Am Markt\, Lüneburg
ORGANIZER;CN=Lüneburg Marketing GmbH:mailto:touristik@lueneburg.info
SEQUENCE:0
SUMMARY:Durch die Nacht mit Claas und Fischers Trine
UID:e_100775216_iv14
URL:http://pages.destination.one/de/lueneburg/streaming/detail/Event/e_1007
 75216/durch-die-nacht-mit-claas-und-fischers-trine
END:VEVENT
BEGIN:VEVENT
CATEGORIES:... zu Fuß
CATEGORIES:Geführter Rundgang
CATEGORIES:Historische Führung
CATEGORIES:Kostümführung
CATEGORIES:Themenführung
DESCRIPTION:Ausgehend vom Marktplatz geht es mit dem Nachtwächter Claas vor
 an ins alte Hafenviertel Lüneburgs.\n\nmehr Informationen unter http://pag
 es.destination.one/de/lueneburg/streaming/detail/Event/e_100775216/durch-d
 ie-nacht-mit-claas-und-fischers-trine
DTEND;TZID=Europe/Berlin:20260530T194500
DTSTAMP:20260421T091536Z
DTSTART;TZID=Europe/Berlin:20260530T180000
GEO:53.250108;10.407422
LOCATION:Tourist-Information Lüneburg\, Rathaus/Am Markt\, Lüneburg
ORGANIZER;CN=Lüneburg Marketing GmbH:mailto:touristik@lueneburg.info
SEQUENCE:0
SUMMARY:Durch die Nacht mit Claas und Fischers Trine
UID:e_100775216_iv15
URL:http://pages.destination.one/de/lueneburg/streaming/detail/Event/e_1007
 75216/durch-die-nacht-mit-claas-und-fischers-trine
END:VEVENT
BEGIN:VEVENT
CATEGORIES:... zu Fuß
CATEGORIES:Geführter Rundgang
CATEGORIES:Historische Führung
CATEGORIES:Kostümführung
CATEGORIES:Themenführung
DESCRIPTION:Ausgehend vom Marktplatz geht es mit dem Nachtwächter Claas vor
 an ins alte Hafenviertel Lüneburgs.\n\nmehr Informationen unter http://pag
 es.destination.one/de/lueneburg/streaming/detail/Event/e_100775216/durch-d
 ie-nacht-mit-claas-und-fischers-trine
DTEND;TZID=Europe/Berlin:20260613T194500
DTSTAMP:20260421T091536Z
DTSTART;TZID=Europe/Berlin:20260613T180000
GEO:53.250108;10.407422
LOCATION:Tourist-Information Lüneburg\, Rathaus/Am Markt\, Lüneburg
ORGANIZER;CN=Lüneburg Marketing GmbH:mailto:touristik@lueneburg.info
SEQUENCE:0
SUMMARY:Durch die Nacht mit Claas und Fischers Trine
UID:e_100775216_iv16
URL:http://pages.destination.one/de/lueneburg/streaming/detail/Event/e_1007
 75216/durch-die-nacht-mit-claas-und-fischers-trine
END:VEVENT
BEGIN:VEVENT
CATEGORIES:... zu Fuß
CATEGORIES:Geführter Rundgang
CATEGORIES:Historische Führung
CATEGORIES:Kostümführung
CATEGORIES:Themenführung
DESCRIPTION:Ausgehend vom Marktplatz geht es mit dem Nachtwächter Claas vor
 an ins alte Hafenviertel Lüneburgs.\n\nmehr Informationen unter http://pag
 es.destination.one/de/lueneburg/streaming/detail/Event/e_100775216/durch-d
 ie-nacht-mit-claas-und-fischers-trine
DTEND;TZID=Europe/Berlin:20260704T194500
DTSTAMP:20260421T091536Z
DTSTART;TZID=Europe/Berlin:20260704T180000
GEO:53.250108;10.407422
LOCATION:Tourist-Information Lüneburg\, Rathaus/Am Markt\, Lüneburg
ORGANIZER;CN=Lüneburg Marketing GmbH:mailto:touristik@lueneburg.info
SEQUENCE:0
SUMMARY:Durch die Nacht mit Claas und Fischers Trine
UID:e_100775216_iv17
URL:http://pages.destination.one/de/lueneburg/streaming/detail/Event/e_1007
 75216/durch-die-nacht-mit-claas-und-fischers-trine
END:VEVENT
BEGIN:VEVENT
CATEGORIES:... zu Fuß
CATEGORIES:Geführter Rundgang
CATEGORIES:Historische Führung
CATEGORIES:Kostümführung
CATEGORIES:Themenführung
DESCRIPTION:Ausgehend vom Marktplatz geht es mit dem Nachtwächter Claas vor
 an ins alte Hafenviertel Lüneburgs.\n\nmehr Informationen unter http://pag
 es.destination.one/de/lueneburg/streaming/detail/Event/e_100775216/durch-d
 ie-nacht-mit-claas-und-fischers-trine
DTEND;TZID=Europe/Berlin:20260725T194500
DTSTAMP:20260421T091537Z
DTSTART;TZID=Europe/Berlin:20260725T180000
GEO:53.250108;10.407422
LOCATION:Tourist-Information Lüneburg\, Rathaus/Am Markt\, Lüneburg
ORGANIZER;CN=Lüneburg Marketing GmbH:mailto:touristik@lueneburg.info
SEQUENCE:0
SUMMARY:Durch die Nacht mit Claas und Fischers Trine
UID:e_100775216_iv18
URL:http://pages.destination.one/de/lueneburg/streaming/detail/Event/e_1007
 75216/durch-die-nacht-mit-claas-und-fischers-trine
END:VEVENT
BEGIN:VEVENT
CATEGORIES:... zu Fuß
CATEGORIES:Geführter Rundgang
CATEGORIES:Historische Führung
CATEGORIES:Kostümführung
CATEGORIES:Themenführung
DESCRIPTION:Ausgehend vom Marktplatz geht es mit dem Nachtwächter Claas vor
 an ins alte Hafenviertel Lüneburgs.\n\nmehr Informationen unter http://pag
 es.destination.one/de/lueneburg/streaming/detail/Event/e_100775216/durch-d
 ie-nacht-mit-claas-und-fischers-trine
DTEND;TZID=Europe/Berlin:20260808T194500
DTSTAMP:20260421T091537Z
DTSTART;TZID=Europe/Berlin:20260808T180000
GEO:53.250108;10.407422
LOCATION:Tourist-Information Lüneburg\, Rathaus/Am Markt\, Lüneburg
ORGANIZER;CN=Lüneburg Marketing GmbH:mailto:touristik@lueneburg.info
SEQUENCE:0
SUMMARY:Durch die Nacht mit Claas und Fischers Trine
UID:e_100775216_iv19
URL:http://pages.destination.one/de/lueneburg/streaming/detail/Event/e_1007
 75216/durch-die-nacht-mit-claas-und-fischers-trine
END:VEVENT
BEGIN:VEVENT
CATEGORIES:... zu Fuß
CATEGORIES:Geführter Rundgang
CATEGORIES:Historische Führung
CATEGORIES:Kostümführung
CATEGORIES:Themenführung
DESCRIPTION:Ausgehend vom Marktplatz geht es mit dem Nachtwächter Claas vor
 an ins alte Hafenviertel Lüneburgs.\n\nmehr Informationen unter http://pag
 es.destination.one/de/lueneburg/streaming/detail/Event/e_100775216/durch-d
 ie-nacht-mit-claas-und-fischers-trine
DTEND;TZID=Europe/Berlin:20260822T194500
DTSTAMP:20260421T091537Z
DTSTART;TZID=Europe/Berlin:20260822T180000
GEO:53.250108;10.407422
LOCATION:Tourist-Information Lüneburg\, Rathaus/Am Markt\, Lüneburg
ORGANIZER;CN=Lüneburg Marketing GmbH:mailto:touristik@lueneburg.info
SEQUENCE:0
SUMMARY:Durch die Nacht mit Claas und Fischers Trine
UID:e_100775216_iv20
URL:http://pages.destination.one/de/lueneburg/streaming/detail/Event/e_1007
 75216/durch-die-nacht-mit-claas-und-fischers-trine
END:VEVENT
BEGIN:VEVENT
CATEGORIES:... zu Fuß
CATEGORIES:Geführter Rundgang
CATEGORIES:Historische Führung
CATEGORIES:Kostümführung
CATEGORIES:Themenführung
DESCRIPTION:Ausgehend vom Marktplatz geht es mit dem Nachtwächter Claas vor
 an ins alte Hafenviertel Lüneburgs.\n\nmehr Informationen unter http://pag
 es.destination.one/de/lueneburg/streaming/detail/Event/e_100775216/durch-d
 ie-nacht-mit-claas-und-fischers-trine
DTEND;TZID=Europe/Berlin:20260919T194500
DTSTAMP:20260421T091537Z
DTSTART;TZID=Europe/Berlin:20260919T180000
GEO:53.250108;10.407422
LOCATION:Tourist-Information Lüneburg\, Rathaus/Am Markt\, Lüneburg
ORGANIZER;CN=Lüneburg Marketing GmbH:mailto:touristik@lueneburg.info
SEQUENCE:0
SUMMARY:Durch die Nacht mit Claas und Fischers Trine
UID:e_100775216_iv21
URL:http://pages.destination.one/de/lueneburg/streaming/detail/Event/e_1007
 75216/durch-die-nacht-mit-claas-und-fischers-trine
END:VEVENT
BEGIN:VEVENT
CATEGORIES:... zu Fuß
CATEGORIES:Geführter Rundgang
CATEGORIES:Historische Führung
CATEGORIES:Kostümführung
CATEGORIES:Themenführung
DESCRIPTION:Ausgehend vom Marktplatz geht es mit dem Nachtwächter Claas vor
 an ins alte Hafenviertel Lüneburgs.\n\nmehr Informationen unter http://pag
 es.destination.one/de/lueneburg/streaming/detail/Event/e_100775216/durch-d
 ie-nacht-mit-claas-und-fischers-trine
DTEND;TZID=Europe/Berlin:20261003T194500
DTSTAMP:20260421T091537Z
DTSTART;TZID=Europe/Berlin:20261003T180000
GEO:53.250108;10.407422
LOCATION:Tourist-Information Lüneburg\, Rathaus/Am Markt\, Lüneburg
ORGANIZER;CN=Lüneburg Marketing GmbH:mailto:touristik@lueneburg.info
SEQUENCE:0
SUMMARY:Durch die Nacht mit Claas und Fischers Trine
UID:e_100775216_iv22
URL:http://pages.destination.one/de/lueneburg/streaming/detail/Event/e_1007
 75216/durch-die-nacht-mit-claas-und-fischers-trine
END:VEVENT
BEGIN:VEVENT
CATEGORIES:... zu Fuß
CATEGORIES:Geführter Rundgang
CATEGORIES:Historische Führung
CATEGORIES:Kostümführung
CATEGORIES:Themenführung
DESCRIPTION:Ausgehend vom Marktplatz geht es mit dem Nachtwächter Claas vor
 an ins alte Hafenviertel Lüneburgs.\n\nmehr Informationen unter http://pag
 es.destination.one/de/lueneburg/streaming/detail/Event/e_100775216/durch-d
 ie-nacht-mit-claas-und-fischers-trine
DTEND;TZID=Europe/Berlin:20261017T194500
DTSTAMP:20260421T091537Z
DTSTART;TZID=Europe/Berlin:20261017T180000
GEO:53.250108;10.407422
LOCATION:Tourist-Information Lüneburg\, Rathaus/Am Markt\, Lüneburg
ORGANIZER;CN=Lüneburg Marketing GmbH:mailto:touristik@lueneburg.info
SEQUENCE:0
SUMMARY:Durch die Nacht mit Claas und Fischers Trine
UID:e_100775216_iv23
URL:http://pages.destination.one/de/lueneburg/streaming/detail/Event/e_1007
 75216/durch-die-nacht-mit-claas-und-fischers-trine
END:VEVENT
BEGIN:VEVENT
CATEGORIES:... zu Fuß
CATEGORIES:Geführter Rundgang
CATEGORIES:Historische Führung
CATEGORIES:Kostümführung
CATEGORIES:Themenführung
DESCRIPTION:Ausgehend vom Marktplatz geht es mit dem Nachtwächter Claas vor
 an ins alte Hafenviertel Lüneburgs.\n\nmehr Informationen unter http://pag
 es.destination.one/de/lueneburg/streaming/detail/Event/e_100775216/durch-d
 ie-nacht-mit-claas-und-fischers-trine
DTEND;TZID=Europe/Berlin:20261128T194500
DTSTAMP:20260421T091537Z
DTSTART;TZID=Europe/Berlin:20261128T180000
GEO:53.250108;10.407422
LOCATION:Tourist-Information Lüneburg\, Rathaus/Am Markt\, Lüneburg
ORGANIZER;CN=Lüneburg Marketing GmbH:mailto:touristik@lueneburg.info
SEQUENCE:0
SUMMARY:Durch die Nacht mit Claas und Fischers Trine
UID:e_100775216_iv24
URL:http://pages.destination.one/de/lueneburg/streaming/detail/Event/e_1007
 75216/durch-die-nacht-mit-claas-und-fischers-trine
END:VEVENT
BEGIN:VTIMEZONE
TZID:Europe/Berlin
X-LIC-LOCATION:Europe/Berlin
BEGIN:DAYLIGHT
DTSTART:19700329T020000
RRULE:FREQ=YEARLY;BYDAY=-1SU;BYMONTH=3
TZNAME:CEST
TZOFFSETFROM:+0100
TZOFFSETTO:+0200
END:DAYLIGHT
BEGIN:STANDARD
DTSTART:19701025T030000
RRULE:FREQ=YEARLY;BYDAY=-1SU;BYMONTH=10
TZNAME:CET
TZOFFSETFROM:+0200
TZOFFSETTO:+0100
END:STANDARD
END:VTIMEZONE
END:VCALENDAR
