BEGIN:VCALENDAR
VERSION:2.0
PRODID:-//destination.one//NONSGML destination.meta API//DE
X-WR-CALDESC:A calendar powered by destination.meta
X-WR-CALNAME:lueneburg Kalender via destination.meta
BEGIN:VEVENT
CATEGORIES:... zu Fuß
CATEGORIES:Kostümführung
CATEGORIES:Stadtrundgang
CATEGORIES:Themenführung
DESCRIPTION:Am Mittwoch vor dem 1. Advent ist es wieder so weit und die Sal
 z- und Hansestadt schlüpft in ihr alljährliches Festtagsgewand. Lüneburg l
 ässt Giebel\, Gebäude und Kirchen leuchten wie Sterne und verwandelt sich 
 in eine traumhaft\, himmlische Weihnachtsstadt.\n\nmehr Informationen unte
 r http://pages.destination.one/de/lueneburg/streaming/detail/Event/e_10077
 5267/giebel-im-licht
DTEND;TZID=Europe/Berlin:20241127T173000
DTSTAMP:20260422T085102Z
DTSTART;TZID=Europe/Berlin:20241127T160000
GEO:53.250108;10.407422
LOCATION:Tourist-Information Lüneburg\, Rathaus/Am Markt\, Lüneburg
ORGANIZER;CN=Lüneburg Marketing GmbH:mailto:touristik@lueneburg.info
RRULE:FREQ=WEEKLY;UNTIL=20241222T163000;BYDAY=WE,TH,FR,SA,SU
SEQUENCE:0
SUMMARY:Giebel im Licht
UID:e_100775267_iv0
URL:http://pages.destination.one/de/lueneburg/streaming/detail/Event/e_1007
 75267/giebel-im-licht
END:VEVENT
BEGIN:VEVENT
CATEGORIES:... zu Fuß
CATEGORIES:Kostümführung
CATEGORIES:Stadtrundgang
CATEGORIES:Themenführung
DESCRIPTION:Am Mittwoch vor dem 1. Advent ist es wieder so weit und die Sal
 z- und Hansestadt schlüpft in ihr alljährliches Festtagsgewand. Lüneburg l
 ässt Giebel\, Gebäude und Kirchen leuchten wie Sterne und verwandelt sich 
 in eine traumhaft\, himmlische Weihnachtsstadt.\n\nmehr Informationen unte
 r http://pages.destination.one/de/lueneburg/streaming/detail/Event/e_10077
 5267/giebel-im-licht
DTEND;TZID=Europe/Berlin:20261125T173000
DTSTAMP:20260422T085102Z
DTSTART;TZID=Europe/Berlin:20261125T160000
GEO:53.250108;10.407422
LOCATION:Tourist-Information Lüneburg\, Rathaus/Am Markt\, Lüneburg
ORGANIZER;CN=Lüneburg Marketing GmbH:mailto:touristik@lueneburg.info
RRULE:FREQ=WEEKLY;UNTIL=20261223T163000;BYDAY=WE,TH,FR,SA
SEQUENCE:0
SUMMARY:Giebel im Licht
UID:e_100775267_iv1
URL:http://pages.destination.one/de/lueneburg/streaming/detail/Event/e_1007
 75267/giebel-im-licht
END:VEVENT
BEGIN:VTIMEZONE
TZID:Europe/Berlin
X-LIC-LOCATION:Europe/Berlin
BEGIN:DAYLIGHT
DTSTART:19700329T020000
RRULE:FREQ=YEARLY;BYDAY=-1SU;BYMONTH=3
TZNAME:CEST
TZOFFSETFROM:+0100
TZOFFSETTO:+0200
END:DAYLIGHT
BEGIN:STANDARD
DTSTART:19701025T030000
RRULE:FREQ=YEARLY;BYDAY=-1SU;BYMONTH=10
TZNAME:CET
TZOFFSETFROM:+0200
TZOFFSETTO:+0100
END:STANDARD
END:VTIMEZONE
END:VCALENDAR
