BEGIN:VCALENDAR
VERSION:2.0
PRODID:-//destination.one//NONSGML destination.meta API//DE
X-WR-CALDESC:A calendar powered by destination.meta
X-WR-CALNAME:lueneburg Kalender via destination.meta
BEGIN:VEVENT
CATEGORIES:... zu Fuß
CATEGORIES:Geführter Rundgang
CATEGORIES:Historische Führung
CATEGORIES:Kostümführung
CATEGORIES:Themenführung
DESCRIPTION:Das wird ein Mordsspaß: Begleiten Sie Meister Hans\, den Scharf
 richter von Lüneburg bei seinen beruflichen Besorgungen in den malerischen
  Winkeln der Hansestadt.\n\nmehr Informationen unter http://pages.destinat
 ion.one/de/lueneburg/streaming/detail/Event/e_100777708/l-neburger-henkerf
 -hrung
DTEND;TZID=Europe/Berlin:20240216T203000
DTSTAMP:20260422T085045Z
DTSTART;TZID=Europe/Berlin:20240216T190000
GEO:53.250108;10.407422
LOCATION:Tourist-Information Lüneburg\, Rathaus/Am Markt\, Lüneburg
ORGANIZER;CN=Lüneburg Marketing GmbH:mailto:touristik@lueneburg.info
SEQUENCE:0
SUMMARY:Lüneburger Henkerführung
UID:e_100777708_iv0
URL:http://pages.destination.one/de/lueneburg/streaming/detail/Event/e_1007
 77708/l-neburger-henkerf-hrung
END:VEVENT
BEGIN:VEVENT
CATEGORIES:... zu Fuß
CATEGORIES:Geführter Rundgang
CATEGORIES:Historische Führung
CATEGORIES:Kostümführung
CATEGORIES:Themenführung
DESCRIPTION:Das wird ein Mordsspaß: Begleiten Sie Meister Hans\, den Scharf
 richter von Lüneburg bei seinen beruflichen Besorgungen in den malerischen
  Winkeln der Hansestadt.\n\nmehr Informationen unter http://pages.destinat
 ion.one/de/lueneburg/streaming/detail/Event/e_100777708/l-neburger-henkerf
 -hrung
DTEND;TZID=Europe/Berlin:20240223T203000
DTSTAMP:20260422T085045Z
DTSTART;TZID=Europe/Berlin:20240223T190000
GEO:53.250108;10.407422
LOCATION:Tourist-Information Lüneburg\, Rathaus/Am Markt\, Lüneburg
ORGANIZER;CN=Lüneburg Marketing GmbH:mailto:touristik@lueneburg.info
SEQUENCE:0
SUMMARY:Lüneburger Henkerführung
UID:e_100777708_iv1
URL:http://pages.destination.one/de/lueneburg/streaming/detail/Event/e_1007
 77708/l-neburger-henkerf-hrung
END:VEVENT
BEGIN:VEVENT
CATEGORIES:... zu Fuß
CATEGORIES:Geführter Rundgang
CATEGORIES:Historische Führung
CATEGORIES:Kostümführung
CATEGORIES:Themenführung
DESCRIPTION:Das wird ein Mordsspaß: Begleiten Sie Meister Hans\, den Scharf
 richter von Lüneburg bei seinen beruflichen Besorgungen in den malerischen
  Winkeln der Hansestadt.\n\nmehr Informationen unter http://pages.destinat
 ion.one/de/lueneburg/streaming/detail/Event/e_100777708/l-neburger-henkerf
 -hrung
DTEND;TZID=Europe/Berlin:20240303T203000
DTSTAMP:20260422T085045Z
DTSTART;TZID=Europe/Berlin:20240303T190000
GEO:53.250108;10.407422
LOCATION:Tourist-Information Lüneburg\, Rathaus/Am Markt\, Lüneburg
ORGANIZER;CN=Lüneburg Marketing GmbH:mailto:touristik@lueneburg.info
RRULE:FREQ=WEEKLY;UNTIL=20240331T183000;BYDAY=FR,SU
SEQUENCE:0
SUMMARY:Lüneburger Henkerführung
UID:e_100777708_iv2
URL:http://pages.destination.one/de/lueneburg/streaming/detail/Event/e_1007
 77708/l-neburger-henkerf-hrung
END:VEVENT
BEGIN:VEVENT
CATEGORIES:... zu Fuß
CATEGORIES:Geführter Rundgang
CATEGORIES:Historische Führung
CATEGORIES:Kostümführung
CATEGORIES:Themenführung
DESCRIPTION:Das wird ein Mordsspaß: Begleiten Sie Meister Hans\, den Scharf
 richter von Lüneburg bei seinen beruflichen Besorgungen in den malerischen
  Winkeln der Hansestadt.\n\nmehr Informationen unter http://pages.destinat
 ion.one/de/lueneburg/streaming/detail/Event/e_100777708/l-neburger-henkerf
 -hrung
DTEND;TZID=Europe/Berlin:20240328T203000
DTSTAMP:20260422T085045Z
DTSTART;TZID=Europe/Berlin:20240328T190000
GEO:53.250108;10.407422
LOCATION:Tourist-Information Lüneburg\, Rathaus/Am Markt\, Lüneburg
ORGANIZER;CN=Lüneburg Marketing GmbH:mailto:touristik@lueneburg.info
SEQUENCE:0
SUMMARY:Lüneburger Henkerführung
UID:e_100777708_iv3
URL:http://pages.destination.one/de/lueneburg/streaming/detail/Event/e_1007
 77708/l-neburger-henkerf-hrung
END:VEVENT
BEGIN:VEVENT
CATEGORIES:... zu Fuß
CATEGORIES:Geführter Rundgang
CATEGORIES:Historische Führung
CATEGORIES:Kostümführung
CATEGORIES:Themenführung
DESCRIPTION:Das wird ein Mordsspaß: Begleiten Sie Meister Hans\, den Scharf
 richter von Lüneburg bei seinen beruflichen Besorgungen in den malerischen
  Winkeln der Hansestadt.\n\nmehr Informationen unter http://pages.destinat
 ion.one/de/lueneburg/streaming/detail/Event/e_100777708/l-neburger-henkerf
 -hrung
DTEND;TZID=Europe/Berlin:20240405T203000
DTSTAMP:20260422T085045Z
DTSTART;TZID=Europe/Berlin:20240405T190000
GEO:53.250108;10.407422
LOCATION:Tourist-Information Lüneburg\, Rathaus/Am Markt\, Lüneburg
ORGANIZER;CN=Lüneburg Marketing GmbH:mailto:touristik@lueneburg.info
RRULE:FREQ=WEEKLY;UNTIL=20240711T183000;BYDAY=FR
SEQUENCE:0
SUMMARY:Lüneburger Henkerführung
UID:e_100777708_iv4
URL:http://pages.destination.one/de/lueneburg/streaming/detail/Event/e_1007
 77708/l-neburger-henkerf-hrung
END:VEVENT
BEGIN:VEVENT
CATEGORIES:... zu Fuß
CATEGORIES:Geführter Rundgang
CATEGORIES:Historische Führung
CATEGORIES:Kostümführung
CATEGORIES:Themenführung
DESCRIPTION:Das wird ein Mordsspaß: Begleiten Sie Meister Hans\, den Scharf
 richter von Lüneburg bei seinen beruflichen Besorgungen in den malerischen
  Winkeln der Hansestadt.\n\nmehr Informationen unter http://pages.destinat
 ion.one/de/lueneburg/streaming/detail/Event/e_100777708/l-neburger-henkerf
 -hrung
DTEND;TZID=Europe/Berlin:20240414T203000
DTSTAMP:20260422T085045Z
DTSTART;TZID=Europe/Berlin:20240414T190000
GEO:53.250108;10.407422
LOCATION:Tourist-Information Lüneburg\, Rathaus/Am Markt\, Lüneburg
ORGANIZER;CN=Lüneburg Marketing GmbH:mailto:touristik@lueneburg.info
SEQUENCE:0
SUMMARY:Lüneburger Henkerführung
UID:e_100777708_iv5
URL:http://pages.destination.one/de/lueneburg/streaming/detail/Event/e_1007
 77708/l-neburger-henkerf-hrung
END:VEVENT
BEGIN:VEVENT
CATEGORIES:... zu Fuß
CATEGORIES:Geführter Rundgang
CATEGORIES:Historische Führung
CATEGORIES:Kostümführung
CATEGORIES:Themenführung
DESCRIPTION:Das wird ein Mordsspaß: Begleiten Sie Meister Hans\, den Scharf
 richter von Lüneburg bei seinen beruflichen Besorgungen in den malerischen
  Winkeln der Hansestadt.\n\nmehr Informationen unter http://pages.destinat
 ion.one/de/lueneburg/streaming/detail/Event/e_100777708/l-neburger-henkerf
 -hrung
DTEND;TZID=Europe/Berlin:20240505T203000
DTSTAMP:20260422T085045Z
DTSTART;TZID=Europe/Berlin:20240505T190000
GEO:53.250108;10.407422
LOCATION:Tourist-Information Lüneburg\, Rathaus/Am Markt\, Lüneburg
ORGANIZER;CN=Lüneburg Marketing GmbH:mailto:touristik@lueneburg.info
SEQUENCE:0
SUMMARY:Lüneburger Henkerführung
UID:e_100777708_iv6
URL:http://pages.destination.one/de/lueneburg/streaming/detail/Event/e_1007
 77708/l-neburger-henkerf-hrung
END:VEVENT
BEGIN:VEVENT
CATEGORIES:... zu Fuß
CATEGORIES:Geführter Rundgang
CATEGORIES:Historische Führung
CATEGORIES:Kostümführung
CATEGORIES:Themenführung
DESCRIPTION:Das wird ein Mordsspaß: Begleiten Sie Meister Hans\, den Scharf
 richter von Lüneburg bei seinen beruflichen Besorgungen in den malerischen
  Winkeln der Hansestadt.\n\nmehr Informationen unter http://pages.destinat
 ion.one/de/lueneburg/streaming/detail/Event/e_100777708/l-neburger-henkerf
 -hrung
DTEND;TZID=Europe/Berlin:20240519T203000
DTSTAMP:20260422T085045Z
DTSTART;TZID=Europe/Berlin:20240519T190000
GEO:53.250108;10.407422
LOCATION:Tourist-Information Lüneburg\, Rathaus/Am Markt\, Lüneburg
ORGANIZER;CN=Lüneburg Marketing GmbH:mailto:touristik@lueneburg.info
SEQUENCE:0
SUMMARY:Lüneburger Henkerführung
UID:e_100777708_iv7
URL:http://pages.destination.one/de/lueneburg/streaming/detail/Event/e_1007
 77708/l-neburger-henkerf-hrung
END:VEVENT
BEGIN:VEVENT
CATEGORIES:... zu Fuß
CATEGORIES:Geführter Rundgang
CATEGORIES:Historische Führung
CATEGORIES:Kostümführung
CATEGORIES:Themenführung
DESCRIPTION:Das wird ein Mordsspaß: Begleiten Sie Meister Hans\, den Scharf
 richter von Lüneburg bei seinen beruflichen Besorgungen in den malerischen
  Winkeln der Hansestadt.\n\nmehr Informationen unter http://pages.destinat
 ion.one/de/lueneburg/streaming/detail/Event/e_100777708/l-neburger-henkerf
 -hrung
DTEND;TZID=Europe/Berlin:20240526T203000
DTSTAMP:20260422T085045Z
DTSTART;TZID=Europe/Berlin:20240526T190000
GEO:53.250108;10.407422
LOCATION:Tourist-Information Lüneburg\, Rathaus/Am Markt\, Lüneburg
ORGANIZER;CN=Lüneburg Marketing GmbH:mailto:touristik@lueneburg.info
SEQUENCE:0
SUMMARY:Lüneburger Henkerführung
UID:e_100777708_iv8
URL:http://pages.destination.one/de/lueneburg/streaming/detail/Event/e_1007
 77708/l-neburger-henkerf-hrung
END:VEVENT
BEGIN:VEVENT
CATEGORIES:... zu Fuß
CATEGORIES:Geführter Rundgang
CATEGORIES:Historische Führung
CATEGORIES:Kostümführung
CATEGORIES:Themenführung
DESCRIPTION:Das wird ein Mordsspaß: Begleiten Sie Meister Hans\, den Scharf
 richter von Lüneburg bei seinen beruflichen Besorgungen in den malerischen
  Winkeln der Hansestadt.\n\nmehr Informationen unter http://pages.destinat
 ion.one/de/lueneburg/streaming/detail/Event/e_100777708/l-neburger-henkerf
 -hrung
DTEND;TZID=Europe/Berlin:20240609T203000
DTSTAMP:20260422T085045Z
DTSTART;TZID=Europe/Berlin:20240609T190000
GEO:53.250108;10.407422
LOCATION:Tourist-Information Lüneburg\, Rathaus/Am Markt\, Lüneburg
ORGANIZER;CN=Lüneburg Marketing GmbH:mailto:touristik@lueneburg.info
RRULE:FREQ=WEEKLY;UNTIL=20240630T183000;BYDAY=SU
SEQUENCE:0
SUMMARY:Lüneburger Henkerführung
UID:e_100777708_iv9
URL:http://pages.destination.one/de/lueneburg/streaming/detail/Event/e_1007
 77708/l-neburger-henkerf-hrung
END:VEVENT
BEGIN:VEVENT
CATEGORIES:... zu Fuß
CATEGORIES:Geführter Rundgang
CATEGORIES:Historische Führung
CATEGORIES:Kostümführung
CATEGORIES:Themenführung
DESCRIPTION:Das wird ein Mordsspaß: Begleiten Sie Meister Hans\, den Scharf
 richter von Lüneburg bei seinen beruflichen Besorgungen in den malerischen
  Winkeln der Hansestadt.\n\nmehr Informationen unter http://pages.destinat
 ion.one/de/lueneburg/streaming/detail/Event/e_100777708/l-neburger-henkerf
 -hrung
DTEND;TZID=Europe/Berlin:20240707T203000
DTSTAMP:20260422T085045Z
DTSTART;TZID=Europe/Berlin:20240707T190000
GEO:53.250108;10.407422
LOCATION:Tourist-Information Lüneburg\, Rathaus/Am Markt\, Lüneburg
ORGANIZER;CN=Lüneburg Marketing GmbH:mailto:touristik@lueneburg.info
RRULE:FREQ=WEEKLY;UNTIL=20240720T183000;BYDAY=SU
SEQUENCE:0
SUMMARY:Lüneburger Henkerführung
UID:e_100777708_iv10
URL:http://pages.destination.one/de/lueneburg/streaming/detail/Event/e_1007
 77708/l-neburger-henkerf-hrung
END:VEVENT
BEGIN:VEVENT
CATEGORIES:... zu Fuß
CATEGORIES:Geführter Rundgang
CATEGORIES:Historische Führung
CATEGORIES:Kostümführung
CATEGORIES:Themenführung
DESCRIPTION:Das wird ein Mordsspaß: Begleiten Sie Meister Hans\, den Scharf
 richter von Lüneburg bei seinen beruflichen Besorgungen in den malerischen
  Winkeln der Hansestadt.\n\nmehr Informationen unter http://pages.destinat
 ion.one/de/lueneburg/streaming/detail/Event/e_100777708/l-neburger-henkerf
 -hrung
DTEND;TZID=Europe/Berlin:20240719T203000
DTSTAMP:20260422T085045Z
DTSTART;TZID=Europe/Berlin:20240719T190000
GEO:53.250108;10.407422
LOCATION:Tourist-Information Lüneburg\, Rathaus/Am Markt\, Lüneburg
ORGANIZER;CN=Lüneburg Marketing GmbH:mailto:touristik@lueneburg.info
RRULE:FREQ=WEEKLY;UNTIL=20241129T193000;BYDAY=FR
SEQUENCE:0
SUMMARY:Lüneburger Henkerführung
UID:e_100777708_iv11
URL:http://pages.destination.one/de/lueneburg/streaming/detail/Event/e_1007
 77708/l-neburger-henkerf-hrung
END:VEVENT
BEGIN:VEVENT
CATEGORIES:... zu Fuß
CATEGORIES:Geführter Rundgang
CATEGORIES:Historische Führung
CATEGORIES:Kostümführung
CATEGORIES:Themenführung
DESCRIPTION:Das wird ein Mordsspaß: Begleiten Sie Meister Hans\, den Scharf
 richter von Lüneburg bei seinen beruflichen Besorgungen in den malerischen
  Winkeln der Hansestadt.\n\nmehr Informationen unter http://pages.destinat
 ion.one/de/lueneburg/streaming/detail/Event/e_100777708/l-neburger-henkerf
 -hrung
DTEND;TZID=Europe/Berlin:20240728T203000
DTSTAMP:20260422T085045Z
DTSTART;TZID=Europe/Berlin:20240728T190000
GEO:53.250108;10.407422
LOCATION:Tourist-Information Lüneburg\, Rathaus/Am Markt\, Lüneburg
ORGANIZER;CN=Lüneburg Marketing GmbH:mailto:touristik@lueneburg.info
RRULE:FREQ=WEEKLY;UNTIL=20240728T183000;BYDAY=SU
SEQUENCE:0
SUMMARY:Lüneburger Henkerführung
UID:e_100777708_iv12
URL:http://pages.destination.one/de/lueneburg/streaming/detail/Event/e_1007
 77708/l-neburger-henkerf-hrung
END:VEVENT
BEGIN:VEVENT
CATEGORIES:... zu Fuß
CATEGORIES:Geführter Rundgang
CATEGORIES:Historische Führung
CATEGORIES:Kostümführung
CATEGORIES:Themenführung
DESCRIPTION:Das wird ein Mordsspaß: Begleiten Sie Meister Hans\, den Scharf
 richter von Lüneburg bei seinen beruflichen Besorgungen in den malerischen
  Winkeln der Hansestadt.\n\nmehr Informationen unter http://pages.destinat
 ion.one/de/lueneburg/streaming/detail/Event/e_100777708/l-neburger-henkerf
 -hrung
DTEND;TZID=Europe/Berlin:20240804T203000
DTSTAMP:20260422T085045Z
DTSTART;TZID=Europe/Berlin:20240804T190000
GEO:53.250108;10.407422
LOCATION:Tourist-Information Lüneburg\, Rathaus/Am Markt\, Lüneburg
ORGANIZER;CN=Lüneburg Marketing GmbH:mailto:touristik@lueneburg.info
RRULE:FREQ=WEEKLY;UNTIL=20240818T183000;BYDAY=SU
SEQUENCE:0
SUMMARY:Lüneburger Henkerführung
UID:e_100777708_iv13
URL:http://pages.destination.one/de/lueneburg/streaming/detail/Event/e_1007
 77708/l-neburger-henkerf-hrung
END:VEVENT
BEGIN:VEVENT
CATEGORIES:... zu Fuß
CATEGORIES:Geführter Rundgang
CATEGORIES:Historische Führung
CATEGORIES:Kostümführung
CATEGORIES:Themenführung
DESCRIPTION:Das wird ein Mordsspaß: Begleiten Sie Meister Hans\, den Scharf
 richter von Lüneburg bei seinen beruflichen Besorgungen in den malerischen
  Winkeln der Hansestadt.\n\nmehr Informationen unter http://pages.destinat
 ion.one/de/lueneburg/streaming/detail/Event/e_100777708/l-neburger-henkerf
 -hrung
DTEND;TZID=Europe/Berlin:20240901T203000
DTSTAMP:20260422T085045Z
DTSTART;TZID=Europe/Berlin:20240901T190000
GEO:53.250108;10.407422
LOCATION:Tourist-Information Lüneburg\, Rathaus/Am Markt\, Lüneburg
ORGANIZER;CN=Lüneburg Marketing GmbH:mailto:touristik@lueneburg.info
RRULE:FREQ=WEEKLY;UNTIL=20240929T183000;BYDAY=SU
SEQUENCE:0
SUMMARY:Lüneburger Henkerführung
UID:e_100777708_iv14
URL:http://pages.destination.one/de/lueneburg/streaming/detail/Event/e_1007
 77708/l-neburger-henkerf-hrung
END:VEVENT
BEGIN:VEVENT
CATEGORIES:... zu Fuß
CATEGORIES:Geführter Rundgang
CATEGORIES:Historische Führung
CATEGORIES:Kostümführung
CATEGORIES:Themenführung
DESCRIPTION:Das wird ein Mordsspaß: Begleiten Sie Meister Hans\, den Scharf
 richter von Lüneburg bei seinen beruflichen Besorgungen in den malerischen
  Winkeln der Hansestadt.\n\nmehr Informationen unter http://pages.destinat
 ion.one/de/lueneburg/streaming/detail/Event/e_100777708/l-neburger-henkerf
 -hrung
DTEND;TZID=Europe/Berlin:20241006T203000
DTSTAMP:20260422T085045Z
DTSTART;TZID=Europe/Berlin:20241006T190000
GEO:53.250108;10.407422
LOCATION:Tourist-Information Lüneburg\, Rathaus/Am Markt\, Lüneburg
ORGANIZER;CN=Lüneburg Marketing GmbH:mailto:touristik@lueneburg.info
RRULE:FREQ=WEEKLY;UNTIL=20241012T183000;BYDAY=SU
SEQUENCE:0
SUMMARY:Lüneburger Henkerführung
UID:e_100777708_iv15
URL:http://pages.destination.one/de/lueneburg/streaming/detail/Event/e_1007
 77708/l-neburger-henkerf-hrung
END:VEVENT
BEGIN:VEVENT
CATEGORIES:... zu Fuß
CATEGORIES:Geführter Rundgang
CATEGORIES:Historische Führung
CATEGORIES:Kostümführung
CATEGORIES:Themenführung
DESCRIPTION:Das wird ein Mordsspaß: Begleiten Sie Meister Hans\, den Scharf
 richter von Lüneburg bei seinen beruflichen Besorgungen in den malerischen
  Winkeln der Hansestadt.\n\nmehr Informationen unter http://pages.destinat
 ion.one/de/lueneburg/streaming/detail/Event/e_100777708/l-neburger-henkerf
 -hrung
DTEND;TZID=Europe/Berlin:20241020T203000
DTSTAMP:20260422T085045Z
DTSTART;TZID=Europe/Berlin:20241020T190000
GEO:53.250108;10.407422
LOCATION:Tourist-Information Lüneburg\, Rathaus/Am Markt\, Lüneburg
ORGANIZER;CN=Lüneburg Marketing GmbH:mailto:touristik@lueneburg.info
RRULE:FREQ=WEEKLY;UNTIL=20241027T193000;BYDAY=SU
SEQUENCE:0
SUMMARY:Lüneburger Henkerführung
UID:e_100777708_iv16
URL:http://pages.destination.one/de/lueneburg/streaming/detail/Event/e_1007
 77708/l-neburger-henkerf-hrung
END:VEVENT
BEGIN:VEVENT
CATEGORIES:... zu Fuß
CATEGORIES:Geführter Rundgang
CATEGORIES:Historische Führung
CATEGORIES:Kostümführung
CATEGORIES:Themenführung
DESCRIPTION:Das wird ein Mordsspaß: Begleiten Sie Meister Hans\, den Scharf
 richter von Lüneburg bei seinen beruflichen Besorgungen in den malerischen
  Winkeln der Hansestadt.\n\nmehr Informationen unter http://pages.destinat
 ion.one/de/lueneburg/streaming/detail/Event/e_100777708/l-neburger-henkerf
 -hrung
DTEND;TZID=Europe/Berlin:20241110T203000
DTSTAMP:20260422T085045Z
DTSTART;TZID=Europe/Berlin:20241110T190000
GEO:53.250108;10.407422
LOCATION:Tourist-Information Lüneburg\, Rathaus/Am Markt\, Lüneburg
ORGANIZER;CN=Lüneburg Marketing GmbH:mailto:touristik@lueneburg.info
RRULE:FREQ=WEEKLY;UNTIL=20241124T193000;BYDAY=SU
SEQUENCE:0
SUMMARY:Lüneburger Henkerführung
UID:e_100777708_iv17
URL:http://pages.destination.one/de/lueneburg/streaming/detail/Event/e_1007
 77708/l-neburger-henkerf-hrung
END:VEVENT
BEGIN:VEVENT
CATEGORIES:... zu Fuß
CATEGORIES:Geführter Rundgang
CATEGORIES:Historische Führung
CATEGORIES:Kostümführung
CATEGORIES:Themenführung
DESCRIPTION:Das wird ein Mordsspaß: Begleiten Sie Meister Hans\, den Scharf
 richter von Lüneburg bei seinen beruflichen Besorgungen in den malerischen
  Winkeln der Hansestadt.\n\nmehr Informationen unter http://pages.destinat
 ion.one/de/lueneburg/streaming/detail/Event/e_100777708/l-neburger-henkerf
 -hrung
DTEND;TZID=Europe/Berlin:20241201T203000
DTSTAMP:20260422T085045Z
DTSTART;TZID=Europe/Berlin:20241201T190000
GEO:53.250108;10.407422
LOCATION:Tourist-Information Lüneburg\, Rathaus/Am Markt\, Lüneburg
ORGANIZER;CN=Lüneburg Marketing GmbH:mailto:touristik@lueneburg.info
RRULE:FREQ=WEEKLY;UNTIL=20241215T193000;BYDAY=SU
SEQUENCE:0
SUMMARY:Lüneburger Henkerführung
UID:e_100777708_iv18
URL:http://pages.destination.one/de/lueneburg/streaming/detail/Event/e_1007
 77708/l-neburger-henkerf-hrung
END:VEVENT
BEGIN:VEVENT
CATEGORIES:... zu Fuß
CATEGORIES:Geführter Rundgang
CATEGORIES:Historische Führung
CATEGORIES:Kostümführung
CATEGORIES:Themenführung
DESCRIPTION:Das wird ein Mordsspaß: Begleiten Sie Meister Hans\, den Scharf
 richter von Lüneburg bei seinen beruflichen Besorgungen in den malerischen
  Winkeln der Hansestadt.\n\nmehr Informationen unter http://pages.destinat
 ion.one/de/lueneburg/streaming/detail/Event/e_100777708/l-neburger-henkerf
 -hrung
DTEND;TZID=Europe/Berlin:20260227T203000
DTSTAMP:20260422T085045Z
DTSTART;TZID=Europe/Berlin:20260227T190000
GEO:53.250108;10.407422
LOCATION:Tourist-Information Lüneburg\, Rathaus/Am Markt\, Lüneburg
ORGANIZER;CN=Lüneburg Marketing GmbH:mailto:touristik@lueneburg.info
SEQUENCE:0
SUMMARY:Lüneburger Henkerführung
UID:e_100777708_iv19
URL:http://pages.destination.one/de/lueneburg/streaming/detail/Event/e_1007
 77708/l-neburger-henkerf-hrung
END:VEVENT
BEGIN:VEVENT
CATEGORIES:... zu Fuß
CATEGORIES:Geführter Rundgang
CATEGORIES:Historische Führung
CATEGORIES:Kostümführung
CATEGORIES:Themenführung
DESCRIPTION:Das wird ein Mordsspaß: Begleiten Sie Meister Hans\, den Scharf
 richter von Lüneburg bei seinen beruflichen Besorgungen in den malerischen
  Winkeln der Hansestadt.\n\nmehr Informationen unter http://pages.destinat
 ion.one/de/lueneburg/streaming/detail/Event/e_100777708/l-neburger-henkerf
 -hrung
DTEND;TZID=Europe/Berlin:20260301T203000
DTSTAMP:20260422T085045Z
DTSTART;TZID=Europe/Berlin:20260301T190000
GEO:53.250108;10.407422
LOCATION:Tourist-Information Lüneburg\, Rathaus/Am Markt\, Lüneburg
ORGANIZER;CN=Lüneburg Marketing GmbH:mailto:touristik@lueneburg.info
RRULE:FREQ=WEEKLY;UNTIL=20260312T193000;BYDAY=FR,SU
SEQUENCE:0
SUMMARY:Lüneburger Henkerführung
UID:e_100777708_iv20
URL:http://pages.destination.one/de/lueneburg/streaming/detail/Event/e_1007
 77708/l-neburger-henkerf-hrung
END:VEVENT
BEGIN:VEVENT
CATEGORIES:... zu Fuß
CATEGORIES:Geführter Rundgang
CATEGORIES:Historische Führung
CATEGORIES:Kostümführung
CATEGORIES:Themenführung
DESCRIPTION:Das wird ein Mordsspaß: Begleiten Sie Meister Hans\, den Scharf
 richter von Lüneburg bei seinen beruflichen Besorgungen in den malerischen
  Winkeln der Hansestadt.\n\nmehr Informationen unter http://pages.destinat
 ion.one/de/lueneburg/streaming/detail/Event/e_100777708/l-neburger-henkerf
 -hrung
DTEND;TZID=Europe/Berlin:20260314T203000
DTSTAMP:20260422T085045Z
DTSTART;TZID=Europe/Berlin:20260314T190000
GEO:53.250108;10.407422
LOCATION:Tourist-Information Lüneburg\, Rathaus/Am Markt\, Lüneburg
ORGANIZER;CN=Lüneburg Marketing GmbH:mailto:touristik@lueneburg.info
RRULE:FREQ=WEEKLY;UNTIL=20261218T193000;BYDAY=FR,SU
SEQUENCE:0
SUMMARY:Lüneburger Henkerführung
UID:e_100777708_iv21
URL:http://pages.destination.one/de/lueneburg/streaming/detail/Event/e_1007
 77708/l-neburger-henkerf-hrung
END:VEVENT
BEGIN:VTIMEZONE
TZID:Europe/Berlin
X-LIC-LOCATION:Europe/Berlin
BEGIN:DAYLIGHT
DTSTART:19700329T020000
RRULE:FREQ=YEARLY;BYDAY=-1SU;BYMONTH=3
TZNAME:CEST
TZOFFSETFROM:+0100
TZOFFSETTO:+0200
END:DAYLIGHT
BEGIN:STANDARD
DTSTART:19701025T030000
RRULE:FREQ=YEARLY;BYDAY=-1SU;BYMONTH=10
TZNAME:CET
TZOFFSETFROM:+0200
TZOFFSETTO:+0100
END:STANDARD
END:VTIMEZONE
END:VCALENDAR
