BEGIN:VCALENDAR
VERSION:2.0
PRODID:-//destination.one//NONSGML destination.meta API//DE
X-WR-CALDESC:A calendar powered by destination.meta
X-WR-CALNAME:lueneburg Kalender via destination.meta
BEGIN:VEVENT
CATEGORIES:Historische Führung
CATEGORIES:Kostümführung
CATEGORIES:Themenführung
CATEGORIES:Führung
DESCRIPTION:Hört\, ihr Leut`\, und lasst euch sagen… eine Stadtwachenführun
 g sollt ihr wagen!\n\nmehr Informationen unter http://pages.destination.on
 e/de/lueneburg/streaming/detail/Event/e_100777777/l-neburger-stadtwache-no
 vember-dezember
DTEND;TZID=Europe/Berlin:20240805T213000
DTSTAMP:20260420T112537Z
DTSTART;TZID=Europe/Berlin:20240805T200000
GEO:53.250108;10.407422
LOCATION:Tourist-Information Lüneburg\, Rathaus/Am Markt\, Lüneburg
ORGANIZER;CN=Lüneburg Marketing GmbH:mailto:touristik@lueneburg.info
RRULE:FREQ=WEEKLY;UNTIL=20240930T193000;BYDAY=TH,FR,SA
SEQUENCE:0
SUMMARY:Lüneburger Stadtwache November - Dezember
UID:e_100777777_iv0
URL:http://pages.destination.one/de/lueneburg/streaming/detail/Event/e_1007
 77777/l-neburger-stadtwache-november-dezember
END:VEVENT
BEGIN:VEVENT
CATEGORIES:Historische Führung
CATEGORIES:Kostümführung
CATEGORIES:Themenführung
CATEGORIES:Führung
DESCRIPTION:Hört\, ihr Leut`\, und lasst euch sagen… eine Stadtwachenführun
 g sollt ihr wagen!\n\nmehr Informationen unter http://pages.destination.on
 e/de/lueneburg/streaming/detail/Event/e_100777777/l-neburger-stadtwache-no
 vember-dezember
DTEND;TZID=Europe/Berlin:20240806T183000
DTSTAMP:20260420T112537Z
DTSTART;TZID=Europe/Berlin:20240806T170000
GEO:53.250108;10.407422
LOCATION:Tourist-Information Lüneburg\, Rathaus/Am Markt\, Lüneburg
ORGANIZER;CN=Lüneburg Marketing GmbH:mailto:touristik@lueneburg.info
RRULE:FREQ=WEEKLY;UNTIL=20240930T163000;BYDAY=TU
SEQUENCE:0
SUMMARY:Lüneburger Stadtwache November - Dezember
UID:e_100777777_iv1
URL:http://pages.destination.one/de/lueneburg/streaming/detail/Event/e_1007
 77777/l-neburger-stadtwache-november-dezember
END:VEVENT
BEGIN:VEVENT
CATEGORIES:Historische Führung
CATEGORIES:Kostümführung
CATEGORIES:Themenführung
CATEGORIES:Führung
DESCRIPTION:Hört\, ihr Leut`\, und lasst euch sagen… eine Stadtwachenführun
 g sollt ihr wagen!\n\nmehr Informationen unter http://pages.destination.on
 e/de/lueneburg/streaming/detail/Event/e_100777777/l-neburger-stadtwache-no
 vember-dezember
DTEND;TZID=Europe/Berlin:20241004T193000
DTSTAMP:20260420T112537Z
DTSTART;TZID=Europe/Berlin:20241004T180000
GEO:53.250108;10.407422
LOCATION:Tourist-Information Lüneburg\, Rathaus/Am Markt\, Lüneburg
ORGANIZER;CN=Lüneburg Marketing GmbH:mailto:touristik@lueneburg.info
RRULE:FREQ=WEEKLY;UNTIL=20241231T183000;BYDAY=FR,SA
SEQUENCE:0
SUMMARY:Lüneburger Stadtwache November - Dezember
UID:e_100777777_iv2
URL:http://pages.destination.one/de/lueneburg/streaming/detail/Event/e_1007
 77777/l-neburger-stadtwache-november-dezember
END:VEVENT
BEGIN:VEVENT
CATEGORIES:Historische Führung
CATEGORIES:Kostümführung
CATEGORIES:Themenführung
CATEGORIES:Führung
DESCRIPTION:Hört\, ihr Leut`\, und lasst euch sagen… eine Stadtwachenführun
 g sollt ihr wagen!\n\nmehr Informationen unter http://pages.destination.on
 e/de/lueneburg/streaming/detail/Event/e_100777777/l-neburger-stadtwache-no
 vember-dezember
DTEND;TZID=Europe/Berlin:20261106T190000
DTSTAMP:20260420T112537Z
DTSTART;TZID=Europe/Berlin:20261106T173000
GEO:53.250108;10.407422
LOCATION:Tourist-Information Lüneburg\, Rathaus/Am Markt\, Lüneburg
ORGANIZER;CN=Lüneburg Marketing GmbH:mailto:touristik@lueneburg.info
RRULE:FREQ=WEEKLY;UNTIL=20261219T180000;BYDAY=FR,SA
SEQUENCE:0
SUMMARY:Lüneburger Stadtwache November - Dezember
UID:e_100777777_iv3
URL:http://pages.destination.one/de/lueneburg/streaming/detail/Event/e_1007
 77777/l-neburger-stadtwache-november-dezember
END:VEVENT
BEGIN:VTIMEZONE
TZID:Europe/Berlin
X-LIC-LOCATION:Europe/Berlin
BEGIN:DAYLIGHT
DTSTART:19700329T020000
RRULE:FREQ=YEARLY;BYDAY=-1SU;BYMONTH=3
TZNAME:CEST
TZOFFSETFROM:+0100
TZOFFSETTO:+0200
END:DAYLIGHT
BEGIN:STANDARD
DTSTART:19701025T030000
RRULE:FREQ=YEARLY;BYDAY=-1SU;BYMONTH=10
TZNAME:CET
TZOFFSETFROM:+0200
TZOFFSETTO:+0100
END:STANDARD
END:VTIMEZONE
END:VCALENDAR
