BEGIN:VCALENDAR
VERSION:2.0
PRODID:-//destination.one//NONSGML destination.meta API//DE
X-WR-CALDESC:A calendar powered by destination.meta
X-WR-CALNAME:lueneburg Kalender via destination.meta
BEGIN:VEVENT
CATEGORIES:... zu Fuß
CATEGORIES:Themenführung
CATEGORIES:Führung
CATEGORIES:Stadtrundgang
DESCRIPTION:3 Stunden interaktives Theater und Stadtrallye durch die Lünebu
 rger Altstadt – Detektivausrüstung inklusive!\nLernen Sie das Lüneburg der
  1920er Jahre kennen. Der mysteriöse Tod des bekannten und beliebten Poliz
 isten Graumann wirft Rätsel auf.\n\nmehr Informationen unter http://pages.
 destination.one/de/lueneburg/streaming/detail/Event/e_100782219/krimi-tour
 -unter-verdacht
DTEND;TZID=Europe/Berlin:20240525T180000
DTSTAMP:20260421T091217Z
DTSTART;TZID=Europe/Berlin:20240525T150000
GEO:53.246847;10.413663
LOCATION:Bei der Ratsmühle\, Am Wasserturm 15\, Lüneburg
ORGANIZER;CN=Die Stadtgeschichten - Krimitouren:https://die-stadtgeschichte
 n.de/
SEQUENCE:0
SUMMARY:Krimi & Tour "Unter Verdacht"
UID:e_100782219_iv0
URL:http://pages.destination.one/de/lueneburg/streaming/detail/Event/e_1007
 82219/krimi-tour-unter-verdacht
END:VEVENT
BEGIN:VEVENT
CATEGORIES:... zu Fuß
CATEGORIES:Themenführung
CATEGORIES:Führung
CATEGORIES:Stadtrundgang
DESCRIPTION:3 Stunden interaktives Theater und Stadtrallye durch die Lünebu
 rger Altstadt – Detektivausrüstung inklusive!\nLernen Sie das Lüneburg der
  1920er Jahre kennen. Der mysteriöse Tod des bekannten und beliebten Poliz
 isten Graumann wirft Rätsel auf.\n\nmehr Informationen unter http://pages.
 destination.one/de/lueneburg/streaming/detail/Event/e_100782219/krimi-tour
 -unter-verdacht
DTEND;TZID=Europe/Berlin:20260530T180000
DTSTAMP:20260421T091217Z
DTSTART;TZID=Europe/Berlin:20260530T150000
GEO:53.246847;10.413663
LOCATION:Bei der Ratsmühle\, Am Wasserturm 15\, Lüneburg
ORGANIZER;CN=Die Stadtgeschichten - Krimitouren:https://die-stadtgeschichte
 n.de/
SEQUENCE:0
SUMMARY:Krimi & Tour "Unter Verdacht"
UID:e_100782219_iv1
URL:http://pages.destination.one/de/lueneburg/streaming/detail/Event/e_1007
 82219/krimi-tour-unter-verdacht
END:VEVENT
BEGIN:VTIMEZONE
TZID:Europe/Berlin
X-LIC-LOCATION:Europe/Berlin
BEGIN:DAYLIGHT
DTSTART:19700329T020000
RRULE:FREQ=YEARLY;BYDAY=-1SU;BYMONTH=3
TZNAME:CEST
TZOFFSETFROM:+0100
TZOFFSETTO:+0200
END:DAYLIGHT
BEGIN:STANDARD
DTSTART:19701025T030000
RRULE:FREQ=YEARLY;BYDAY=-1SU;BYMONTH=10
TZNAME:CET
TZOFFSETFROM:+0200
TZOFFSETTO:+0100
END:STANDARD
END:VTIMEZONE
END:VCALENDAR
