BEGIN:VCALENDAR
VERSION:2.0
PRODID:-//destination.one//NONSGML destination.meta API//DE
X-WR-CALDESC:A calendar powered by destination.meta
X-WR-CALNAME:lueneburg Kalender via destination.meta
BEGIN:VEVENT
CATEGORIES:... zu Fuß
CATEGORIES:Stadtrundgang
DESCRIPTION:Erkunden Sie die Salz- und Hansestadt Lüneburg bei einem Klassi
 schen Rundgang.\n\nmehr Informationen unter http://pages.destination.one/d
 e/lueneburg/streaming/detail/Event/e_100796916/klassischer-rundgang-11-30-
 uhr
DTEND;TZID=Europe/Berlin:20260404T130000
DTSTAMP:20260421T092104Z
DTSTART;TZID=Europe/Berlin:20260404T113000
GEO:53.250108;10.407422
LOCATION:Tourist-Information Lüneburg\, Rathaus/Am Markt\, Lüneburg
ORGANIZER;CN=Lüneburg Marketing GmbH:mailto:touristik@lueneburg.info
RRULE:FREQ=WEEKLY;UNTIL=20261219T120000;BYDAY=SA
SEQUENCE:0
SUMMARY:Klassischer Rundgang 11:30 Uhr
UID:e_100796916_iv0
URL:http://pages.destination.one/de/lueneburg/streaming/detail/Event/e_1007
 96916/klassischer-rundgang-11-30-uhr
END:VEVENT
BEGIN:VTIMEZONE
TZID:Europe/Berlin
X-LIC-LOCATION:Europe/Berlin
BEGIN:DAYLIGHT
DTSTART:19700329T020000
RRULE:FREQ=YEARLY;BYDAY=-1SU;BYMONTH=3
TZNAME:CEST
TZOFFSETFROM:+0100
TZOFFSETTO:+0200
END:DAYLIGHT
BEGIN:STANDARD
DTSTART:19701025T030000
RRULE:FREQ=YEARLY;BYDAY=-1SU;BYMONTH=10
TZNAME:CET
TZOFFSETFROM:+0200
TZOFFSETTO:+0100
END:STANDARD
END:VTIMEZONE
END:VCALENDAR
