BEGIN:VCALENDAR
VERSION:2.0
PRODID:-//destination.one//NONSGML destination.meta API//DE
X-WR-CALDESC:A calendar powered by destination.meta
X-WR-CALNAME:lueneburg Kalender via destination.meta
BEGIN:VEVENT
CATEGORIES:Varieté
CATEGORIES:Musical
DESCRIPTION:Eine Veranstaltung der Reihe Das Kriminal Dinner - Der Polterab
 endkiller\nVerzwickte Kriminalfälle und kulinarischer Genuss beim Kriminal
  Dinner\n\nSie suchen nach einem außergewöhnlichen Abend\, bei dem Sie den
  Alltag hinter sich lassen können?\nDas Kriminal Dinner bietet Ihnen die p
 erfekte Kombination aus spannenden Kriminalfällen und einem köstlichen 3-G
 änge-Menü. In einer Atmosphäre voller Spannung und Genuss erleben Sie ein 
 Theaterstück der besonderen Art.\n\nDeutschlands größter Krimidinner Anbie
 ter\n\nAn über 400 Standorten in Deutschland\, Österreich und der Schweiz 
 haben Sie die Möglichkeit\, eines unserer vielfältigen Theater-Erlebnisse 
 zu entdecken.\n\nFür jeden Geschmack ist etwas dabei!\n\nKein Krimifan? – 
 kein Problem! Neben den klassischen Kriminal Dinner Veranstaltungen werden
  auch weitere Dinner Erlebnisse wie „Das Escape Dinner“\, Das Musical Dinn
 er“ und viele mehr angeboten.\n\nEin rundum gelungener Krimidinner Abend\n
 \nOb entspannt das Menü bei einem mitreißenden Fall genießen oder gemeinsa
 m mit anderen Gästen gleich selbst zum Ermittler werden – wer Lust hat\, e
 twas Prickelndes zu erleben\, der findet bei einem Krimidinner den idealen
  Rahmen für eine gelungene Abendveranstaltung.\n\nmehr Informationen unter
  http://pages.destination.one/de/lueneburg/streaming/detail/Event/e_100861
 032/das-kriminal-dinner-krimidinner-der-polterabendkiller
DTEND;TZID=Europe/Berlin:20260419T235900
DTSTAMP:20260421T081406Z
DTSTART;TZID=Europe/Berlin:20260419T170000
GEO:53.208710;10.409410
LOCATION:Forsthaus Rote Schleuse\, Rote Schleuse 1\, Lüneburg
SEQUENCE:0
SUMMARY:Das Kriminal Dinner - Krimidinner: Der Polterabendkiller
UID:e_100861032_iv0
URL:http://pages.destination.one/de/lueneburg/streaming/detail/Event/e_1008
 61032/das-kriminal-dinner-krimidinner-der-polterabendkiller
END:VEVENT
BEGIN:VTIMEZONE
TZID:Europe/Berlin
X-LIC-LOCATION:Europe/Berlin
BEGIN:DAYLIGHT
DTSTART:19700329T020000
RRULE:FREQ=YEARLY;BYDAY=-1SU;BYMONTH=3
TZNAME:CEST
TZOFFSETFROM:+0100
TZOFFSETTO:+0200
END:DAYLIGHT
BEGIN:STANDARD
DTSTART:19701025T030000
RRULE:FREQ=YEARLY;BYDAY=-1SU;BYMONTH=10
TZNAME:CET
TZOFFSETFROM:+0200
TZOFFSETTO:+0100
END:STANDARD
END:VTIMEZONE
END:VCALENDAR
