BEGIN:VCALENDAR
VERSION:2.0
PRODID:-//destination.one//NONSGML destination.meta API//DE
X-WR-CALDESC:A calendar powered by destination.meta
X-WR-CALNAME:lueneburg Kalender via destination.meta
BEGIN:VEVENT
CATEGORIES:Konzert
CATEGORIES:Musik sonstige
DESCRIPTION:THE TEN TENORS – Time of Your Life Tour 2026 Die Erfolgsgeschic
 hte geht weiter!\n\nNach einer grandiosen Tournee im Jahr 2025 mit restlos
  ausverkauften Häusern\, stehenden Ovationen und durchweg begeisterten Kri
 tiken freuen sich die TEN TENORS\, ihre Erfolgsgeschichte mit der Time of 
 Your Life Tour 2026 fortzusetzen! Die Resonanz auf ihre Auftritte in Deuts
 chland war überwältigend – langjährige Fans strömten in die Konzerthallen\
 , während zahlreiche neue Zuhörer die faszinierende Mischung aus Klassik\,
  Rock und Pop für sich entdeckten.\n\nZehn Jahre lang waren die TEN TENORS
  nicht in Deutschland aufgetreten – umso größer war die Begeisterung\, als
  sie 2025 ihre triumphale Rückkehr feierten. Die alteingesessenen Fans wur
 den erneut in ihren Bann gezogen\, während eine völlig neue Generation von
  Konzertbesuchern ihre einzigartige Show für sich entdeckte. Besonders bee
 indruckend war\, dass die TEN TENORS mit eigens für die Deutschland-Tour e
 ingeübten Songs überraschten. Titel wie „Komet“ von Udo Lindenberg & Apach
 e 207 oder „99 Luftballons“ von Nena sorgten für Begeisterung und kamen be
 im Publikum hervorragend an.\n\nMit ihrer mitreißenden Bühnenpräsenz\, ihr
 en einzigartigen Stimmen und der beeindruckenden Harmonie zwischen klassis
 cher Opernkunst und moderner Popmusik haben die TEN TENORS erneut bewiesen
 \, warum sie seit drei Jahrzehnten zu den erfolgreichsten und beliebtesten
  Gesangsgruppen der Welt gehören.\n\nDas Publikum erlebte 2025 eine Show v
 oller Emotionen\, virtuoser Stimmkunst und ansteckender Begeisterung. Aufg
 rund dieses großen Erfolgs kündigen die Tenöre nun voller Vorfreude ihre g
 roße Time of Your Life Tour 2026 an\, die noch spektakulärer werden soll!\
 n\nEin unvergessliches Live-Erlebnis – Die Time of Your Life Tour 2026\n\n
 Die neue Tournee wird sowohl beliebte Klassiker als auch spannende neue Hi
 ghlights bereithalten – freuen Sie sich auf mitreißende Überraschungen und
  unvergessliche Momente!\n\nEin großes Dankeschön an die Fans!\n\nDie TEN 
 TENORS möchten sich herzlich bei ihrem treuen Publikum bedanken. Deutschla
 nd hat einen ganz besonderen Platz in ihrer Karriere eingenommen\, und sie
  freuen sich darauf\, 2026 erneut mit ihren Fans zu feiern.\n\nSichern Sie
  sich Ihre Tickets und erleben Sie die TEN TENORS live – es erwartet Sie e
 in Abend voller magischer Momente\, kraftvoller Stimmen und emotionaler Hö
 hepunkte!\n\nmehr Informationen unter http://pages.destination.one/de/luen
 eburg/streaming/detail/Event/e_100985641/the-ten-tenors-time-of-your-life-
 tour-2026
DTEND;TZID=Europe/Berlin:20260508T235900
DTSTAMP:20260420T124034Z
DTSTART;TZID=Europe/Berlin:20260508T200000
GEO:53.228442;10.404695
LOCATION:Leuphana Universität (Libeskind Auditorium)\, Universitätsallee 1\
 , Lüneburg
SEQUENCE:0
SUMMARY:The Ten Tenors - Time of your Life Tour 2026
UID:e_100985641_iv0
URL:http://pages.destination.one/de/lueneburg/streaming/detail/Event/e_1009
 85641/the-ten-tenors-time-of-your-life-tour-2026
END:VEVENT
BEGIN:VTIMEZONE
TZID:Europe/Berlin
X-LIC-LOCATION:Europe/Berlin
BEGIN:DAYLIGHT
DTSTART:19700329T020000
RRULE:FREQ=YEARLY;BYDAY=-1SU;BYMONTH=3
TZNAME:CEST
TZOFFSETFROM:+0100
TZOFFSETTO:+0200
END:DAYLIGHT
BEGIN:STANDARD
DTSTART:19701025T030000
RRULE:FREQ=YEARLY;BYDAY=-1SU;BYMONTH=10
TZNAME:CET
TZOFFSETFROM:+0200
TZOFFSETTO:+0100
END:STANDARD
END:VTIMEZONE
END:VCALENDAR
