BEGIN:VCALENDAR
VERSION:2.0
PRODID:-//destination.one//NONSGML destination.meta API//DE
X-WR-CALDESC:A calendar powered by destination.meta
X-WR-CALNAME:lueneburg Kalender via destination.meta
BEGIN:VEVENT
CATEGORIES:Comedy
CATEGORIES:Bühnenkunst
DESCRIPTION:DANIEL LUIS geht bei Social Media durch die Decke. Sein Spezial
 gebiet ist die spontane \nInteraktion & das Roasting des Publikums. Setz D
 ich lieber nicht in die 1.Reihe! Oder traust \nDu Dich doch? Sein Stand Up
  Comedy Solo Programm HYPERAKTIV hat es in sich! Sehr \naufgedreht & aufge
 regt redet er über Stereotypen\, das verrückte Leben in Berlin & \nmerkwür
 dige Alltagsbeobachtungen.\nDaniel Luis ist geboren und aufgewachsen in Be
 rlin Wedding\, als Sohn ausländischer \nEinwanderer. Er war schon immer de
 r Klassenentertainer. Jetzt macht er es über große \nUmwege zum Beruf. Vom
  Gangmitglied zum BWL Diplom\, vom Bagpacker (85 Länder) zum \nVegetarier\
 , vom Model zum Grundschullehrer\, vom selbstständigen zur \nLangzeitarbei
 tslosigkeit. Und jetzt zum Comedian. Was für andere eine Lücke im Lebensla
 uf \nist\, ist für Daniel Luis der Stoff aus dem er Comedy macht.\n\nmehr 
 Informationen unter http://pages.destination.one/de/lueneburg/streaming/de
 tail/Event/e_101009182/daniel-luis-hyperaktiv
DTEND;TZID=Europe/Berlin:20260417T235900
DTSTAMP:20260421T081136Z
DTSTART;TZID=Europe/Berlin:20260417T200000
GEO:53.262840;10.371900
LOCATION:Kulturforum Lüneburg\, Gut Wienebüttel 1\, Lüneburg
SEQUENCE:0
SUMMARY:Daniel Luis - Hyperaktiv
UID:e_101009182_iv0
URL:http://pages.destination.one/de/lueneburg/streaming/detail/Event/e_1010
 09182/daniel-luis-hyperaktiv
END:VEVENT
BEGIN:VTIMEZONE
TZID:Europe/Berlin
X-LIC-LOCATION:Europe/Berlin
BEGIN:DAYLIGHT
DTSTART:19700329T020000
RRULE:FREQ=YEARLY;BYDAY=-1SU;BYMONTH=3
TZNAME:CEST
TZOFFSETFROM:+0100
TZOFFSETTO:+0200
END:DAYLIGHT
BEGIN:STANDARD
DTSTART:19701025T030000
RRULE:FREQ=YEARLY;BYDAY=-1SU;BYMONTH=10
TZNAME:CET
TZOFFSETFROM:+0200
TZOFFSETTO:+0100
END:STANDARD
END:VTIMEZONE
END:VCALENDAR
