BEGIN:VCALENDAR
VERSION:2.0
PRODID:-//destination.one//NONSGML destination.meta API//DE
X-WR-CALDESC:A calendar powered by destination.meta
X-WR-CALNAME:lueneburg Kalender via destination.meta
BEGIN:VEVENT
CATEGORIES:Konzert
DESCRIPTION:das war doch grad’ erst eben - 50 Jahre auf der Bühne\n\nSacksc
 hlepper\, Sonnenbankaufsteller und Soul-Sensation\, Hafen-Malocher und Lyr
 ik-Rezitator\, Fabrik-Besetzer\, Gelegenheits-Weihnachtsmann und Deutschla
 nds Antwort auf George Clooney – was ist Stefan Gwildis nicht alles schon 
 gewesen. Dieser Charmebolzen von einem Entertainer\, dieses wandelnde Gesa
 mtkunstwerk aus heimeliger Seelenruhe\, original Hamburger Schmodder und e
 inem großen Schuss amüsierter Unberechenbarkeit. Und was heißt überhaupt „
 gewesen“: Er ist das alles ja noch\, irgendwie zumindest\, und immer mal w
 ieder. So\, wie es ihm gerade gefällt.\n\nUnd Stefan Gwildis gefällt Viele
 s\, schon immer. Verschiedenste Dinge\, die zu noch mehr Ideen und schließ
 lich zu unendlich vielen erzählenswerten Geschichten führten. Fast zu viel
  für nur ein Leben – und allemal genug für einen zum Bersten gefüllten Abe
 nd: „Das war doch grad ’erst eben – 50 Jahre auf der Bühne“ ist daher weit
  mehr als ein Konzert\, es ist eine wunderbare Mixtur aus Hits und noch zu
  hebenden Schätzen\, aus Bildern und Anekdoten\, aus Songs und Szenen\, ei
 ne multimediale\, aber sehr analoge Revue des gwildis’schen Schaffens.\n\n
 In seiner klingenden Werkschau lustwandelt Stefan Gwildis sehr freihändig 
 zwischen den verschiedensten Stationen seiner Karriere\, den vielen\, lebe
 nsprägenden „ersten Malen“\, die dem Leben eben so widerfahren: Die erste 
 große Liebe mit Anna\, eine Geschichte wie in „Me and Mrs Jones“. Das erst
 e selbstgebaute Instrument\, ein Bass aus Besenstiel\, einer Tee-Kiste Mar
 ke „Tagtraum“\, Hupen\, Tröten\, diversem Schlagwerk – und mit Regenschirm
  als Reminiszenz an das Hamburger Wetter. Es geht um den ersten selbst gew
 echselten Reifen im väterlichen Betrieb\, um die erste eigene Gitarre. Und
 \, natürlich\, um das erste Mal auf der Bühne – die\, strenggenommen\, gar
  keine war: Stefan Gwildis’ erste Bühne\, das waren die Straßen und Fußgän
 gerzonen seiner Hamburger Heimat. Eine wunderbare Spielwiese für Musik\, T
 heater\, Straßenkunst – eben für alles\, was einem so einfällt. So\, wie S
 tefan Gwildis das seit unglaublichen 50 Jahren handhabt. Und so\, wie es a
 b sofort auch auf seiner Jubiläums-Tournee zu erleben ist.\n\nmehr Informa
 tionen unter http://pages.destination.one/de/lueneburg/streaming/detail/Ev
 ent/e_101017825/stefan-gwildis-das-war-doch-grad-erst-eben-50-jahre-auf-de
 r-b-hne
DTEND;TZID=Europe/Berlin:20260426T235900
DTSTAMP:20260421T091558Z
DTSTART;TZID=Europe/Berlin:20260426T190000
GEO:53.262840;10.371900
LOCATION:Kulturforum Lüneburg\, Gut Wienebüttel 1\, Lüneburg
SEQUENCE:0
SUMMARY:Stefan Gwildis - das war doch grad' erst eben - 50 Jahre auf der Bü
 hne
UID:e_101017825_iv0
URL:http://pages.destination.one/de/lueneburg/streaming/detail/Event/e_1010
 17825/stefan-gwildis-das-war-doch-grad-erst-eben-50-jahre-auf-der-b-hne
END:VEVENT
BEGIN:VTIMEZONE
TZID:Europe/Berlin
X-LIC-LOCATION:Europe/Berlin
BEGIN:DAYLIGHT
DTSTART:19700329T020000
RRULE:FREQ=YEARLY;BYDAY=-1SU;BYMONTH=3
TZNAME:CEST
TZOFFSETFROM:+0100
TZOFFSETTO:+0200
END:DAYLIGHT
BEGIN:STANDARD
DTSTART:19701025T030000
RRULE:FREQ=YEARLY;BYDAY=-1SU;BYMONTH=10
TZNAME:CET
TZOFFSETFROM:+0200
TZOFFSETTO:+0100
END:STANDARD
END:VTIMEZONE
END:VCALENDAR
