BEGIN:VCALENDAR
VERSION:2.0
PRODID:-//destination.one//NONSGML destination.meta API//DE
X-WR-CALDESC:A calendar powered by destination.meta
X-WR-CALNAME:lueneburg Kalender via destination.meta
BEGIN:VEVENT
CATEGORIES:Konzert
DESCRIPTION:Game of Thrones & House of the Dragon\nDas Konzert\nGroßes Orch
 ester\, Solisten und Sänger der Cinema Festival Symphonics\n\nDie packende
 n Geschichten und legendären Charaktere der beliebten Fantasy-Serien „Game
  of Thrones“ und „House of the Dragon“ werden musikalisch bei diesem Konze
 rt zum Leben erweckt.\nMit über 150 Aufführungen in vier Ländern und Tause
 nden von Zuschauern hat sich die erfolgreiche Konzertreihe „Game of Throne
 s – The Concert Show“ bereits als äußerst populär erwiesen. Jetzt\, in Kom
 bination mit der Nachfolgeserie „House of the Dragon“\, entfaltet sich ein
  weiteres einzigartiges Showerlebnis.\n\nDer Soundtrack – Ein Meisterwerk:
 \n\nDer Emmy-prämierte Soundtrack zu „Game of Thrones“ ist musikalisch her
 ausragend\, und auch tief in die Erzählung eingebettet. Ramin Djawadis Mei
 sterwerk glänzt mit spannungsgeladenen Sequenzen\, die perfekt auf die Cha
 raktere und ihre Reisen abgestimmt sind. Mit jedem kraftvollen Ton der iko
 nischen Titelmelodie und den eindringlichen Themen\, die die Handlung vora
 ntreiben\, wird das Publikum in die turbulente Welt von Westeros gezogen. 
 Ebenso bietet der Soundtrack von „House of the Dragon“\, der die tiefen Wu
 rzeln der Targaryen-Dynastie beleuchtet\, neue und faszinierende Klänge un
 d Themen.\n\nEin Komponist mit visionärem Talent:\n\nRamin Djawadi\, der t
 alentierte Komponist aus Duisburg\, hat sich weiterentwickelt und einen un
 verwechselbaren Stil gefunden\, nachdem er bei Hans Zimmer gelernt hatte. 
 Sowohl sein Soundtrack zu „Game of Thrones“ als auch der zu „House of the 
 Dragon“ haben nicht nur die Fans der Serien begeistert\, sondern ihn auch 
 weltweit berühmt gemacht. Mit jedem Takt und jeder Melodie hat Djawadi ein
 e Klanglandschaft geschaffen\, die das Herz und die Seele der Zuschauer be
 rührt und sie auf eine emotionale Reise mitnimmt.\n\nDas renommierte Ensem
 ble der Cinema Festival Symphonics unter der Leitung von Stephen Ellery br
 ingen diese Melodien nun im großen Stil auf der Bühne. Begleitet von Solis
 ten und Chor\, nimmt es das Publikum mit auf eine majestätische musikalisc
 he Reise durch die Königreiche der Familien Stark\, Lennister\, und Targar
 yen.\n\nDie Geschichten von George R. R. Martin:\n\nWährend „Game of Thron
 es" mit seiner packenden Geschichte rund um den Hauptcharakter Jon Snow se
 it 2011 weltweit sämtliche Rekorde brach\, so erfreut sich auch das Spin-O
 ff „House of the Dragon" immenser Popularität. Die Serie spielt rund 200 J
 ahre bevor Jon Snow und die Familie Stark von der Gefahr der Weißen Wander
 er erfahren. Wie der Name schon andeutet\, steht bei „House of the Dragon"
  die Familie Targaryen mit ihren Drachen im Vordergrund. In mittlerweile b
 ereits zwei Staffeln wird ebenso packend\, wie in der Hauptserie die Herku
 nft von Publikumsliebling Daenerys Targaryen und ihrer Familie erzählt- na
 türlich stets untermalt von epischem Soundtrack.\n\nmehr Informationen unt
 er http://pages.destination.one/de/lueneburg/streaming/detail/Event/e_1010
 33337/game-of-thrones-house-of-the-dragon-das-konzert
DTEND;TZID=Europe/Berlin:20260417T235900
DTSTAMP:20260420T123950Z
DTSTART;TZID=Europe/Berlin:20260417T200000
GEO:53.228442;10.404695
LOCATION:Leuphana Universität (Libeskind Auditorium)\, Universitätsallee 1\
 , Lüneburg
SEQUENCE:0
SUMMARY:Game of Thrones & House of the Dragon - Das Konzert
UID:e_101033337_iv0
URL:http://pages.destination.one/de/lueneburg/streaming/detail/Event/e_1010
 33337/game-of-thrones-house-of-the-dragon-das-konzert
END:VEVENT
BEGIN:VTIMEZONE
TZID:Europe/Berlin
X-LIC-LOCATION:Europe/Berlin
BEGIN:DAYLIGHT
DTSTART:19700329T020000
RRULE:FREQ=YEARLY;BYDAY=-1SU;BYMONTH=3
TZNAME:CEST
TZOFFSETFROM:+0100
TZOFFSETTO:+0200
END:DAYLIGHT
BEGIN:STANDARD
DTSTART:19701025T030000
RRULE:FREQ=YEARLY;BYDAY=-1SU;BYMONTH=10
TZNAME:CET
TZOFFSETFROM:+0200
TZOFFSETTO:+0100
END:STANDARD
END:VTIMEZONE
END:VCALENDAR
