BEGIN:VCALENDAR
VERSION:2.0
PRODID:-//destination.one//NONSGML destination.meta API//DE
X-WR-CALDESC:A calendar powered by destination.meta
X-WR-CALNAME:lueneburg Kalender via destination.meta
BEGIN:VEVENT
CATEGORIES:Kabarett
DESCRIPTION:Christian Ehring\nChristian Ehring ist bekannt als Moderator vo
 n „extra3“ und als Sidekick von Oliver\nWelke in der „Heute Show“. Wer ihn
  live erlebt\, kann überdies einen ausgesprochen\nvielseitigen und sensibl
 en Bühnenkünstler kennenlernen.\nSein neues Solo heißt: „Stand jetzt“. In 
 der Polykrise eine allgegenwärtige Floskel.\nStand jetzt weiß man nichts G
 enaueres. Stand jetzt ist nicht klar\, welche Kriege\nweiter eskalieren. S
 tand jetzt ist ungewiss\, ob die Menschheit die Klimakatastrophe\nüberlebt
 .\nDie Zukunft ist nicht mehr planbar. Politik ist nur noch hektische\nSch
 adensbegrenzung. Und auch Überzeugungen sind schneller obsolet\, als Anton
 \nHofreiter Waffengattungen aufzählen kann. Die Zeiten\, in denen man sich
  behaglich\neingerichtet hatte in der Illusion\, dass alles irgendwie scho
 n weitergehen würde wie\nbisher\, sind vorbei. Zumindest sieht es so aus -
  Stand jetzt.\nKann man angesichts von Krieg und Katastrophe\, von Inflati
 on und Doppelwumms\nüberhaupt noch lachen? Christian Ehring sagt: Man muss
 . Er stellt sich seinen\nÄngsten\, redet Klartext und demaskiert die Larmo
 yanz der Privilegierten. Wenn er\nselbst dabei auch nicht immer gut wegkom
 mt\, egal. Der Witz hat Vorfahrt. Das gilt\nheute mehr denn je.\n„Stand je
 tzt“ ist hochaktuelle Satire nach der Zeitenwende. Natürlich kann niemand\
 nganz genau sagen\, was bis zu diesem Abend noch alles passiert\, aber so 
 viel steht\nfest: Ehring wird es verarbeiten. Stand jetzt wird’s lustig.\n
 „Christian Ehring geht ja gerne da hin\, wo es weh tut\, und das wie immer
 : mit\nSchwung\, Verve\, Empathie und Witz.“ (Süddeutsche Zeitung)\n\nmehr
  Informationen unter http://pages.destination.one/de/lueneburg/streaming/d
 etail/Event/e_101053132/christian-ehring-neues-programm-2026
DTEND;TZID=Europe/Berlin:20260424T223000
DTSTAMP:20260421T081253Z
DTSTART;TZID=Europe/Berlin:20260424T200000
GEO:53.262840;10.371900
LOCATION:Kulturforum Lüneburg\, Gut Wienebüttel 1\, Lüneburg
SEQUENCE:0
SUMMARY:Christian Ehring - Neues Programm 2026
UID:e_101053132_iv0
URL:http://pages.destination.one/de/lueneburg/streaming/detail/Event/e_1010
 53132/christian-ehring-neues-programm-2026
END:VEVENT
BEGIN:VTIMEZONE
TZID:Europe/Berlin
X-LIC-LOCATION:Europe/Berlin
BEGIN:DAYLIGHT
DTSTART:19700329T020000
RRULE:FREQ=YEARLY;BYDAY=-1SU;BYMONTH=3
TZNAME:CEST
TZOFFSETFROM:+0100
TZOFFSETTO:+0200
END:DAYLIGHT
BEGIN:STANDARD
DTSTART:19701025T030000
RRULE:FREQ=YEARLY;BYDAY=-1SU;BYMONTH=10
TZNAME:CET
TZOFFSETFROM:+0200
TZOFFSETTO:+0100
END:STANDARD
END:VTIMEZONE
END:VCALENDAR
