BEGIN:VCALENDAR
VERSION:2.0
PRODID:-//destination.one//NONSGML destination.meta API//DE
X-WR-CALDESC:A calendar powered by destination.meta
X-WR-CALNAME:lueneburg Kalender via destination.meta
BEGIN:VEVENT
CATEGORIES:Comedy
DESCRIPTION:Beziehungsstatus: erledigt\n\nDas schreiende Komik Tiefsinn nic
 ht ausschließen muss\, beweisen Elena Uhlig und Fritz Karl mit ihrem neuen
  Programm. Dabei bleibt keine Facette des unerschöpflichen Themas Liebe au
 sgespart. Von den Irrungen und Wirrungen leidenschaftlicher Verliebtheit ü
 ber die oftmals grotesk komischen Auswüchse ehelichen Beziehungslebens bis
  zu den mitunter absurd heiteren Abgründen des Trennungsschmerzes spannt s
 ich der Bogen. Keine Spielart bleibt ausgespart. Texte von Erich Kästner\,
  Kurt Tucholski\, Paulo Coehlo \,Christine Nöstlinger\, aber auch Elena Uh
 ligs eigene Texte bieten den Boden für die virtuose Vortragskunst des beli
 ebten Schauspielerpaares.\n\nBesetzung:\n\nElena Uhlig\nFritz Karl\nDramat
 urgie: Hans Escher\n\nmehr Informationen unter http://pages.destination.on
 e/de/lueneburg/streaming/detail/Event/e_101053667/elena-uhlig-fritz-karl-b
 eziehungsstatus-erledigt
DTEND;TZID=Europe/Berlin:20260426T235900
DTSTAMP:20260421T091413Z
DTSTART;TZID=Europe/Berlin:20260426T200000
GEO:53.228442;10.404695
LOCATION:Leuphana Universität (Libeskind Auditorium)\, Universitätsallee 1\
 , Lüneburg
SEQUENCE:0
SUMMARY:Elena Uhlig & Fritz Karl - Beziehungsstatus: erledigt
UID:e_101053667_iv0
URL:http://pages.destination.one/de/lueneburg/streaming/detail/Event/e_1010
 53667/elena-uhlig-fritz-karl-beziehungsstatus-erledigt
END:VEVENT
BEGIN:VTIMEZONE
TZID:Europe/Berlin
X-LIC-LOCATION:Europe/Berlin
BEGIN:DAYLIGHT
DTSTART:19700329T020000
RRULE:FREQ=YEARLY;BYDAY=-1SU;BYMONTH=3
TZNAME:CEST
TZOFFSETFROM:+0100
TZOFFSETTO:+0200
END:DAYLIGHT
BEGIN:STANDARD
DTSTART:19701025T030000
RRULE:FREQ=YEARLY;BYDAY=-1SU;BYMONTH=10
TZNAME:CET
TZOFFSETFROM:+0200
TZOFFSETTO:+0100
END:STANDARD
END:VTIMEZONE
END:VCALENDAR
