BEGIN:VCALENDAR
VERSION:2.0
PRODID:-//destination.one//NONSGML destination.meta API//DE
X-WR-CALDESC:A calendar powered by destination.meta
X-WR-CALNAME:lueneburg Kalender via destination.meta
BEGIN:VEVENT
CATEGORIES:Musical
DESCRIPTION:Das ultimative Tribute- Event für die unvergleichliche Powerfra
 u mit der markanten Stimme auf großer Tournee durch Deutschland   \n\nSie 
 war bereit alle Regeln zu brechen. Tina Turners Lebensgeschichte ist eine 
 Quelle der Inspiration. Ihre Musik: ein kraftvolles Kaleidoskop genreüberg
 reifender Top-Hits von Rock und Pop bis hin zu Soul und R&B. Ihre Live-Auf
 tritte: energiegeladen\, einzigartig\, leidenschaftlich\, ikonisch.\n\n"TI
 NA – The Rock Legend" bringt die unvergleichliche Energie und Leidenschaft
  von Tina Turners außergewöhnlichen Bühnenshows zurück. Diese einzigartige
  Tribute-Show ist eine Hommage an die legendäre Pop-Diva Tina Turner und s
 etzt neue Maßstäbe in der Welt des Musiktheaters.\nReset Production\, eine
 r der führenden deutschen Showveranstalter\, bringt ein hochkarätiges Ense
 mble aus erstklassigen Sängern\, Musikern und Tänzern auf die Bühne. Mit d
 en größten Hits der Rocklegende startet die Show erneut eine große Deutsch
 landtournee und garantiert ein unvergessliches Erlebnis. Die Show legt bes
 onderen Wert auf Detailtreue und bietet höchste Qualität in Sound- und Lic
 httechnik – vor allem aber transportiert sie das Temperament der Live-Auft
 ritte. "TINA – The Rock Legend" lässt das beeindruckende Leben und die Kar
 riere von Tina Turner\, der Powerfrau mit der markanten Stimme und der unv
 erwechselbaren Löwenmähne\, Revue passieren. Von den unvergesslichen Anfän
 gen an der Seite von Ike Turner bis hin zu ihrer erfolgreichen Solo-Karrie
 re: Live performte Hits wie „Simply The Best“\, „Private Dancer“\, „Proud 
 Mary“\, „Nutbush City Limits“ sowie die ikonischen Titelsongs „We don’t ne
 ed another Hero“ (Mad Max) und „Golden Eye“ (James Bond) dürfen dabei natü
 rlich nicht fehlen.\n\nEin Leben voller Hits und Leidenschaft\nTurner bega
 nn ihre Karriere in den 1950er Jahren und erzielte gemeinsam mit Ike in de
 n 1960er und frühen 1970er Jahren große Erfolge. Mit Mut und verzweifelter
  Kraft löste sie sich aus der toxischen Beziehung zu Ike und allen Widerst
 änden zum Trotz gelang es ihr\, eine noch erfolgreichere Solokarriere zu s
 tarten. Mit über 180 Millionen verkauften Tonträgern\, zahlreichen Grammys
  sowie Gold- und Platin-Auszeichnungen wurde Tina Turner zum größten weibl
 ichen Star des Rock und Vorbild für viele Nachfolgerinnen. Ihre sexy-provo
 kanten Outfits und faszinierende Bühnenpräsenz sind unvergessen.\n\nJulie 
 Mayaya als Tina Turner\nJulie Mayaya\, die stimmgewaltige Rumänin mit kong
 olesischen Wurzeln\, verkörpert Tina Turner wie keine andere. Nachdem sie 
 Mathematik und Informatik studierte\, folgte sie ihrer Leidenschaft für di
 e Musik. Seit 2008 begeistert sie im Soul\, Rock & Pop-Bereich europaweit 
 und gewann 2012 als erste Frau die hochdotierte rumänische Version von „Th
 e Voice“. Als gefragte Solistin und Songwriterin freut sie sich auf die nä
 chste ausgedehnte Deutschlandtournee mit “TINA – The Rock Legend”. „TINA –
  The Rock Legend“ ist mehr als ein Tribute – es ist das ultimative Enterta
 inment-Erlebnis\, leidenschaftlich und mitreißend\, genau wie Tina Turner 
 selbst.\n\nPressestimmen zu „TINA – The Rock Legend“\n„Feuer im Blut und G
 lut in der Stimme -Julie Mayaya begeistert als Tina Turner“ Allgemeine Zei
 tung\n„Die Rock-Röhre riss die Fans von den Sitzen“ Rhein-Neckar-Zeitung\n
 „Tina-Double mit echter Stimmgewalt“ Südwest Presse\n„Sie kam\, sang und r
 iss die Zuhörer von ihren Sitzen“ Westfalen-Blatt\n„Eine mitreißende Show“
  HNA\n\nmehr Informationen unter http://pages.destination.one/de/lueneburg
 /streaming/detail/Event/e_101058044/tina-the-rock-legend
DTEND;TZID=Europe/Berlin:20260514T235900
DTSTAMP:20260422T083921Z
DTSTART;TZID=Europe/Berlin:20260514T193000
GEO:53.228442;10.404695
LOCATION:Leuphana Universität (Libeskind Auditorium)\, Universitätsallee 1\
 , Lüneburg
SEQUENCE:0
SUMMARY:Tina - The Rock Legend
UID:e_101058044_iv0
URL:http://pages.destination.one/de/lueneburg/streaming/detail/Event/e_1010
 58044/tina-the-rock-legend
END:VEVENT
BEGIN:VTIMEZONE
TZID:Europe/Berlin
X-LIC-LOCATION:Europe/Berlin
BEGIN:DAYLIGHT
DTSTART:19700329T020000
RRULE:FREQ=YEARLY;BYDAY=-1SU;BYMONTH=3
TZNAME:CEST
TZOFFSETFROM:+0100
TZOFFSETTO:+0200
END:DAYLIGHT
BEGIN:STANDARD
DTSTART:19701025T030000
RRULE:FREQ=YEARLY;BYDAY=-1SU;BYMONTH=10
TZNAME:CET
TZOFFSETFROM:+0200
TZOFFSETTO:+0100
END:STANDARD
END:VTIMEZONE
END:VCALENDAR
