BEGIN:VCALENDAR
VERSION:2.0
PRODID:-//destination.one//NONSGML destination.meta API//DE
X-WR-CALDESC:A calendar powered by destination.meta
X-WR-CALNAME:lueneburg Kalender via destination.meta
BEGIN:VEVENT
CATEGORIES:Konzert
CATEGORIES:Musik sonstige
DESCRIPTION:Seit mehr als 15 Jahren begeistern sie ihr Publikum mit großen 
 Stimmen\, eindrucksvollen Choreographien\, witzigem Entertainment und char
 manten Moderationen auf ihren Konzerten in Europa\, China\, Japan und Südk
 orea. Nun sind sie mit ihrer neuen Show auf Tournee - ein musikalisches Er
 lebnis\, das die Grenzen von Zeit und Raum sprengt!\n\nMit dem Motto SONGS
  OF ETERNITY entführen die 12 Ausnahmesänger das Publikum in eine Welt\, i
 n der Musik zu einem unsterblichen Begleiter wird. Die außergewöhnliche Sh
 ow feiert ikonische Lieder\, die über Generationen hinweg die Herzen der M
 enschen berührt haben. Von Klassikern der Popgeschichte über unvergesslich
 e Balladen bis hin zu ergreifenden Hymnen der letzten Jahrzehnte – SONGS O
 F ETERNITY präsentiert eine sorgfältige Auswahl an Liedern\, die mit ihrer
  Schönheit und Tiefe einen bleibenden\n\nEindruck hinterlassen. Ob in ruhi
 gen Momenten der Besinnung oder in kraftvollen Höhepunkten der musikalisch
 en Energie - diese Show verspricht\, den Zuschauer in eine andere Dimensio
 n zu entführen\, in der die Musik das einzige Maß für Zeit ist. Jede Perfo
 rmance ist eine Hommage an das Erbe der Musik\, die uns durch unser Leben 
 begleitet – von den ersten Melodien der Kindheit bis hin zu den Liedern\, 
 die uns als Erwachsene prägen.\n\nmehr Informationen unter http://pages.de
 stination.one/de/lueneburg/streaming/detail/Event/e_101067616/the-12-tenor
 s-songs-of-eternity
DTEND;TZID=Europe/Berlin:20260501T235900
DTSTAMP:20260421T091536Z
DTSTART;TZID=Europe/Berlin:20260501T190000
GEO:53.228442;10.404695
LOCATION:Leuphana Universität (Libeskind Auditorium)\, Universitätsallee 1\
 , Lüneburg
SEQUENCE:0
SUMMARY:The 12 Tenors - Songs of Eternity
UID:e_101067616_iv0
URL:http://pages.destination.one/de/lueneburg/streaming/detail/Event/e_1010
 67616/the-12-tenors-songs-of-eternity
END:VEVENT
BEGIN:VTIMEZONE
TZID:Europe/Berlin
X-LIC-LOCATION:Europe/Berlin
BEGIN:DAYLIGHT
DTSTART:19700329T020000
RRULE:FREQ=YEARLY;BYDAY=-1SU;BYMONTH=3
TZNAME:CEST
TZOFFSETFROM:+0100
TZOFFSETTO:+0200
END:DAYLIGHT
BEGIN:STANDARD
DTSTART:19701025T030000
RRULE:FREQ=YEARLY;BYDAY=-1SU;BYMONTH=10
TZNAME:CET
TZOFFSETFROM:+0200
TZOFFSETTO:+0100
END:STANDARD
END:VTIMEZONE
END:VCALENDAR
