BEGIN:VCALENDAR
VERSION:2.0
PRODID:-//destination.one//NONSGML destination.meta API//DE
X-WR-CALDESC:A calendar powered by destination.meta
X-WR-CALNAME:lueneburg Kalender via destination.meta
BEGIN:VEVENT
CATEGORIES:Musik sonstige
CATEGORIES:Konzert
DESCRIPTION:Eine Veranstaltung der Reihe SchlagerErlebnis mit Kerstin Ott u
 .v.a. - Kerstin Ott\, Norman Langen\, Julian David\nDIE Schlagernacht der 
 Superlative startet 2026.\n\nUnd als Top-Act präsentieren wir DEN Shooting
 -Star der Szene: KERSTIN OTT!\n\nWas war das 2016 für ein Start! „Die imme
 r lacht“ schaffte es im Spitzen-Tempo in die Top 5 aller deutschen und öst
 erreichischen Charts und befütterte monatelang jede Playlist auf allen ver
 fügbaren Streaming-Portalen. 1\,2 Millionen verkaufte Tonträger und 200 Mi
 llionen YOUTUBE-Clicks verschafften der ge-remixten Version der eingängige
 n Mitsing-Discofox-Nummer einen Veröffentlichungsstand\, den man erstmal e
 rreichen muss. Und dennoch haben alle „Unkenrufer“ sich geirrt: Kerstin Ot
 t tauchte nicht als „One-Hit-Wonder“ wieder unter\, sondern schrieb unbeir
 rbar neue Songs\, Lieder mit kleinen Geschichten aus der Realität\, glaubh
 aft\, besonders und tanzbar. Vier Alben hat sie ihren Fans bis heute gesch
 enkt und ausnahmslos alle landeten in Deutschland unter den Top 5. Mittler
 weile ist sie aus keiner großen Schlager-Produktion mehr wegzudenken und h
 at mit großen Stars der Szene Duette abgeliefert\, die nicht mehr zu überh
 ören sind (Howard Carpendale\, Helene Fischer). Keine Schlager-Party mehr 
 ohne „Wegen Dir“\,„Regenbogenfarben“ oder „Nachts Sind Alle Katzen Grau“.\
 n\nGenau das gibt es live und mit großem technischem Aufwand zu erleben. U
 nd um den Abend rund zu machen\, hat sie noch coole Gäste mit im Gepäck. E
 inen mega-fetten Support liefern das Nachwuchstalent ANNA MARIA ZIVKOV\, D
 er neue Stern am Himmel JULIAN DAVID und kein Geringerer als NORMAN LANGEN
  mit „Mein Engel“ und zahlreichen Alben.\n\nmehr Informationen unter http:
 //pages.destination.one/de/lueneburg/streaming/detail/Event/e_101073341/sc
 hlagererlebnis-mit-kerstin-ott-u-v-a-kerstin-ott-norman-langen-julian-davi
 d
DTEND;TZID=Europe/Berlin:20260912T235900
DTSTAMP:20260422T101835Z
DTSTART;TZID=Europe/Berlin:20260912T193000
GEO:53.272355;10.423034
LOCATION:LKH Arena\, Lüner Rennbahn 5\, Lüneburg
SEQUENCE:0
SUMMARY:SchlagerErlebnis mit Kerstin Ott u.v.a - Kerstin Ott\, Norman Lange
 n\, Julian David
UID:e_101073341_iv0
URL:http://pages.destination.one/de/lueneburg/streaming/detail/Event/e_1010
 73341/schlagererlebnis-mit-kerstin-ott-u-v-a-kerstin-ott-norman-langen-jul
 ian-david
END:VEVENT
BEGIN:VTIMEZONE
TZID:Europe/Berlin
X-LIC-LOCATION:Europe/Berlin
BEGIN:DAYLIGHT
DTSTART:19700329T020000
RRULE:FREQ=YEARLY;BYDAY=-1SU;BYMONTH=3
TZNAME:CEST
TZOFFSETFROM:+0100
TZOFFSETTO:+0200
END:DAYLIGHT
BEGIN:STANDARD
DTSTART:19701025T030000
RRULE:FREQ=YEARLY;BYDAY=-1SU;BYMONTH=10
TZNAME:CET
TZOFFSETFROM:+0200
TZOFFSETTO:+0100
END:STANDARD
END:VTIMEZONE
END:VCALENDAR
