BEGIN:VCALENDAR
VERSION:2.0
PRODID:-//destination.one//NONSGML destination.meta API//DE
X-WR-CALDESC:A calendar powered by destination.meta
X-WR-CALNAME:lueneburg Kalender via destination.meta
BEGIN:VEVENT
CATEGORIES:Comedy
DESCRIPTION:Eine Veranstaltung der Reihe Dave Davis - Neue Show\n„KONFETTI 
 FÜR ALLE!“ - Ein Aufstand in Farbe \n\n\n\nDave Davis ist wieder da – mit 
 einem Knall der komödiantischen\nExtraklasse: »Konfetti für alle!« \n\n\n\
 nSein brandneues\, abendfüllendes Humorwerk ist das Live-Rezept\ngegen ein
 e Welt\, die zunehmend fahl wirkt und nur noch Trübsal\nbläst. \n\nDer zwe
 ifache Prix-Pantheon-Preisträger und Träger des\nDeutschen Comedypreises s
 agt: \n\n„Man kann den Wahnsinn der Welt nicht immer ändern\, aber man\nka
 nn ihn mit Konfetti bewerfen. Konfetti ist wie ein vom Leben\ngelochtes Ma
 nifest: Es erinnert uns daran\, dass selbst im\ngrößten Durcheinander Leic
 htigkeit möglich ist.“\nRecht hat er. \n\n\n\nMit »Konfetti für alle!« def
 ibrilliert Davis\njedes Jammerflimmern und beweist einmal mehr\, warum er\
 nder Ristretto des Kabaretts ist: kurzweilig\, stark\, schwarz.\nEr jongli
 ert mit herrlich absurden Geschichten\, pointierten\nLiedern und der Freud
 e am Schrägen – und beherrscht\ndiese Register wie ein olympischer Clown m
 it Doktortitel. Die\nRealität wird so lange verbogen\, bis selbst der letz
 te\nPessimist im Saal sein Grinsen nicht mehr verstecken kann.\nKommen Sie
  zu »Konfetti für alle!« – denn: „Lachen braucht\nkeine Rechtfertigung – n
 icht einmal Zähne.“\n\nmehr Informationen unter http://pages.destination.o
 ne/de/lueneburg/streaming/detail/Event/e_101074057/dave-davis-neues-progra
 mm-2026
DTEND;TZID=Europe/Berlin:20260510T235900
DTSTAMP:20260421T081134Z
DTSTART;TZID=Europe/Berlin:20260510T190000
GEO:53.262840;10.371900
LOCATION:Kulturforum Lüneburg\, Gut Wienebüttel 1\, Lüneburg
SEQUENCE:0
SUMMARY:Dave Davis - Neues Programm 2026
UID:e_101074057_iv0
URL:http://pages.destination.one/de/lueneburg/streaming/detail/Event/e_1010
 74057/dave-davis-neues-programm-2026
END:VEVENT
BEGIN:VTIMEZONE
TZID:Europe/Berlin
X-LIC-LOCATION:Europe/Berlin
BEGIN:DAYLIGHT
DTSTART:19700329T020000
RRULE:FREQ=YEARLY;BYDAY=-1SU;BYMONTH=3
TZNAME:CEST
TZOFFSETFROM:+0100
TZOFFSETTO:+0200
END:DAYLIGHT
BEGIN:STANDARD
DTSTART:19701025T030000
RRULE:FREQ=YEARLY;BYDAY=-1SU;BYMONTH=10
TZNAME:CET
TZOFFSETFROM:+0200
TZOFFSETTO:+0100
END:STANDARD
END:VTIMEZONE
END:VCALENDAR
