BEGIN:VCALENDAR
VERSION:2.0
PRODID:-//destination.one//NONSGML destination.meta API//DE
X-WR-CALDESC:A calendar powered by destination.meta
X-WR-CALNAME:lueneburg Kalender via destination.meta
BEGIN:VEVENT
CATEGORIES:Seminar/Kurs/Workshop sonstige
DESCRIPTION:Das ABENDATELIER (am 28.01.2026 zu Claude Monets "Die Elster") 
 richtet sich an alle kunst- und kreativbegeisterten Erwachsenen\, die sich
  in entspannter Runde\, bei einem Glas Wein oder einer Tasse Tee\, über ei
 n ausgewähltes Kunstwerk austauschen und im Anschluss schöpferische Impuls
 e in die Tat umsetzen möchten. Geleitet wird der Abend von der Künstlerin 
 und Kunstvermittlerin Christina Kaul\, die in ihrem Atelier einen Ort der 
 Inspiration und des Experimentierens sieht. Jeder Abend ist einem Kunstwer
 k gewidmet (Auswahl siehe Homepage)\, das gemeinsam betrachtet wird. Zunäc
 hst liegt der Fokus auf den ganz persönlichen Gedanken\, die das Gemälde a
 uslöst. Erst im nächsten Schritt folgen Informationen zur Künstlerin / zum
  Künstler\, zu Hintergründen der Bildentstehung und tiefergehende Interpre
 tationen. Daran schließt sich der eigene kreative Prozess an. Alle Materia
 lien stehen im Atelier zur Verfügung und laden zu Experimenten ein.\nDas A
 BENDATELIER findet einmal im Monat an einem Mittwoch von 19 - 22 Uhr statt
 . Die Termine können einzeln\, unabhängig voneinander gebucht werden. Vork
 enntnisse sind nicht erforderlich!\n\nmehr Informationen unter http://page
 s.destination.one/de/lueneburg/streaming/detail/Event/e_101086110/abendate
 lier
DTEND;TZID=Europe/Berlin:20260128T220000
DTSTAMP:20260421T075837Z
DTSTART;TZID=Europe/Berlin:20260128T190000
GEO:53.242860;10.411540
LOCATION:Atelier Christina Kaul\, Wilschenbrucher Weg 38\, Lüneburg
SEQUENCE:0
SUMMARY:ABENDATELIER
UID:e_101086110_iv0
URL:http://pages.destination.one/de/lueneburg/streaming/detail/Event/e_1010
 86110/abendatelier
END:VEVENT
BEGIN:VEVENT
CATEGORIES:Seminar/Kurs/Workshop sonstige
DESCRIPTION:Das ABENDATELIER (am 28.01.2026 zu Claude Monets "Die Elster") 
 richtet sich an alle kunst- und kreativbegeisterten Erwachsenen\, die sich
  in entspannter Runde\, bei einem Glas Wein oder einer Tasse Tee\, über ei
 n ausgewähltes Kunstwerk austauschen und im Anschluss schöpferische Impuls
 e in die Tat umsetzen möchten. Geleitet wird der Abend von der Künstlerin 
 und Kunstvermittlerin Christina Kaul\, die in ihrem Atelier einen Ort der 
 Inspiration und des Experimentierens sieht. Jeder Abend ist einem Kunstwer
 k gewidmet (Auswahl siehe Homepage)\, das gemeinsam betrachtet wird. Zunäc
 hst liegt der Fokus auf den ganz persönlichen Gedanken\, die das Gemälde a
 uslöst. Erst im nächsten Schritt folgen Informationen zur Künstlerin / zum
  Künstler\, zu Hintergründen der Bildentstehung und tiefergehende Interpre
 tationen. Daran schließt sich der eigene kreative Prozess an. Alle Materia
 lien stehen im Atelier zur Verfügung und laden zu Experimenten ein.\nDas A
 BENDATELIER findet einmal im Monat an einem Mittwoch von 19 - 22 Uhr statt
 . Die Termine können einzeln\, unabhängig voneinander gebucht werden. Vork
 enntnisse sind nicht erforderlich!\n\nmehr Informationen unter http://page
 s.destination.one/de/lueneburg/streaming/detail/Event/e_101086110/abendate
 lier
DTEND;TZID=Europe/Berlin:20260225T220000
DTSTAMP:20260421T075837Z
DTSTART;TZID=Europe/Berlin:20260225T190000
GEO:53.242860;10.411540
LOCATION:Atelier Christina Kaul\, Wilschenbrucher Weg 38\, Lüneburg
SEQUENCE:0
SUMMARY:ABENDATELIER
UID:e_101086110_iv1
URL:http://pages.destination.one/de/lueneburg/streaming/detail/Event/e_1010
 86110/abendatelier
END:VEVENT
BEGIN:VEVENT
CATEGORIES:Seminar/Kurs/Workshop sonstige
DESCRIPTION:Das ABENDATELIER (am 28.01.2026 zu Claude Monets "Die Elster") 
 richtet sich an alle kunst- und kreativbegeisterten Erwachsenen\, die sich
  in entspannter Runde\, bei einem Glas Wein oder einer Tasse Tee\, über ei
 n ausgewähltes Kunstwerk austauschen und im Anschluss schöpferische Impuls
 e in die Tat umsetzen möchten. Geleitet wird der Abend von der Künstlerin 
 und Kunstvermittlerin Christina Kaul\, die in ihrem Atelier einen Ort der 
 Inspiration und des Experimentierens sieht. Jeder Abend ist einem Kunstwer
 k gewidmet (Auswahl siehe Homepage)\, das gemeinsam betrachtet wird. Zunäc
 hst liegt der Fokus auf den ganz persönlichen Gedanken\, die das Gemälde a
 uslöst. Erst im nächsten Schritt folgen Informationen zur Künstlerin / zum
  Künstler\, zu Hintergründen der Bildentstehung und tiefergehende Interpre
 tationen. Daran schließt sich der eigene kreative Prozess an. Alle Materia
 lien stehen im Atelier zur Verfügung und laden zu Experimenten ein.\nDas A
 BENDATELIER findet einmal im Monat an einem Mittwoch von 19 - 22 Uhr statt
 . Die Termine können einzeln\, unabhängig voneinander gebucht werden. Vork
 enntnisse sind nicht erforderlich!\n\nmehr Informationen unter http://page
 s.destination.one/de/lueneburg/streaming/detail/Event/e_101086110/abendate
 lier
DTEND;TZID=Europe/Berlin:20260318T220000
DTSTAMP:20260421T075837Z
DTSTART;TZID=Europe/Berlin:20260318T190000
GEO:53.242860;10.411540
LOCATION:Atelier Christina Kaul\, Wilschenbrucher Weg 38\, Lüneburg
SEQUENCE:0
SUMMARY:ABENDATELIER
UID:e_101086110_iv2
URL:http://pages.destination.one/de/lueneburg/streaming/detail/Event/e_1010
 86110/abendatelier
END:VEVENT
BEGIN:VEVENT
CATEGORIES:Seminar/Kurs/Workshop sonstige
DESCRIPTION:Das ABENDATELIER (am 28.01.2026 zu Claude Monets "Die Elster") 
 richtet sich an alle kunst- und kreativbegeisterten Erwachsenen\, die sich
  in entspannter Runde\, bei einem Glas Wein oder einer Tasse Tee\, über ei
 n ausgewähltes Kunstwerk austauschen und im Anschluss schöpferische Impuls
 e in die Tat umsetzen möchten. Geleitet wird der Abend von der Künstlerin 
 und Kunstvermittlerin Christina Kaul\, die in ihrem Atelier einen Ort der 
 Inspiration und des Experimentierens sieht. Jeder Abend ist einem Kunstwer
 k gewidmet (Auswahl siehe Homepage)\, das gemeinsam betrachtet wird. Zunäc
 hst liegt der Fokus auf den ganz persönlichen Gedanken\, die das Gemälde a
 uslöst. Erst im nächsten Schritt folgen Informationen zur Künstlerin / zum
  Künstler\, zu Hintergründen der Bildentstehung und tiefergehende Interpre
 tationen. Daran schließt sich der eigene kreative Prozess an. Alle Materia
 lien stehen im Atelier zur Verfügung und laden zu Experimenten ein.\nDas A
 BENDATELIER findet einmal im Monat an einem Mittwoch von 19 - 22 Uhr statt
 . Die Termine können einzeln\, unabhängig voneinander gebucht werden. Vork
 enntnisse sind nicht erforderlich!\n\nmehr Informationen unter http://page
 s.destination.one/de/lueneburg/streaming/detail/Event/e_101086110/abendate
 lier
DTEND;TZID=Europe/Berlin:20260429T220000
DTSTAMP:20260421T075837Z
DTSTART;TZID=Europe/Berlin:20260429T190000
GEO:53.242860;10.411540
LOCATION:Atelier Christina Kaul\, Wilschenbrucher Weg 38\, Lüneburg
SEQUENCE:0
SUMMARY:ABENDATELIER
UID:e_101086110_iv3
URL:http://pages.destination.one/de/lueneburg/streaming/detail/Event/e_1010
 86110/abendatelier
END:VEVENT
BEGIN:VEVENT
CATEGORIES:Seminar/Kurs/Workshop sonstige
DESCRIPTION:Das ABENDATELIER (am 28.01.2026 zu Claude Monets "Die Elster") 
 richtet sich an alle kunst- und kreativbegeisterten Erwachsenen\, die sich
  in entspannter Runde\, bei einem Glas Wein oder einer Tasse Tee\, über ei
 n ausgewähltes Kunstwerk austauschen und im Anschluss schöpferische Impuls
 e in die Tat umsetzen möchten. Geleitet wird der Abend von der Künstlerin 
 und Kunstvermittlerin Christina Kaul\, die in ihrem Atelier einen Ort der 
 Inspiration und des Experimentierens sieht. Jeder Abend ist einem Kunstwer
 k gewidmet (Auswahl siehe Homepage)\, das gemeinsam betrachtet wird. Zunäc
 hst liegt der Fokus auf den ganz persönlichen Gedanken\, die das Gemälde a
 uslöst. Erst im nächsten Schritt folgen Informationen zur Künstlerin / zum
  Künstler\, zu Hintergründen der Bildentstehung und tiefergehende Interpre
 tationen. Daran schließt sich der eigene kreative Prozess an. Alle Materia
 lien stehen im Atelier zur Verfügung und laden zu Experimenten ein.\nDas A
 BENDATELIER findet einmal im Monat an einem Mittwoch von 19 - 22 Uhr statt
 . Die Termine können einzeln\, unabhängig voneinander gebucht werden. Vork
 enntnisse sind nicht erforderlich!\n\nmehr Informationen unter http://page
 s.destination.one/de/lueneburg/streaming/detail/Event/e_101086110/abendate
 lier
DTEND;TZID=Europe/Berlin:20260527T220000
DTSTAMP:20260421T075837Z
DTSTART;TZID=Europe/Berlin:20260527T190000
GEO:53.242860;10.411540
LOCATION:Atelier Christina Kaul\, Wilschenbrucher Weg 38\, Lüneburg
SEQUENCE:0
SUMMARY:ABENDATELIER
UID:e_101086110_iv4
URL:http://pages.destination.one/de/lueneburg/streaming/detail/Event/e_1010
 86110/abendatelier
END:VEVENT
BEGIN:VEVENT
CATEGORIES:Seminar/Kurs/Workshop sonstige
DESCRIPTION:Das ABENDATELIER (am 28.01.2026 zu Claude Monets "Die Elster") 
 richtet sich an alle kunst- und kreativbegeisterten Erwachsenen\, die sich
  in entspannter Runde\, bei einem Glas Wein oder einer Tasse Tee\, über ei
 n ausgewähltes Kunstwerk austauschen und im Anschluss schöpferische Impuls
 e in die Tat umsetzen möchten. Geleitet wird der Abend von der Künstlerin 
 und Kunstvermittlerin Christina Kaul\, die in ihrem Atelier einen Ort der 
 Inspiration und des Experimentierens sieht. Jeder Abend ist einem Kunstwer
 k gewidmet (Auswahl siehe Homepage)\, das gemeinsam betrachtet wird. Zunäc
 hst liegt der Fokus auf den ganz persönlichen Gedanken\, die das Gemälde a
 uslöst. Erst im nächsten Schritt folgen Informationen zur Künstlerin / zum
  Künstler\, zu Hintergründen der Bildentstehung und tiefergehende Interpre
 tationen. Daran schließt sich der eigene kreative Prozess an. Alle Materia
 lien stehen im Atelier zur Verfügung und laden zu Experimenten ein.\nDas A
 BENDATELIER findet einmal im Monat an einem Mittwoch von 19 - 22 Uhr statt
 . Die Termine können einzeln\, unabhängig voneinander gebucht werden. Vork
 enntnisse sind nicht erforderlich!\n\nmehr Informationen unter http://page
 s.destination.one/de/lueneburg/streaming/detail/Event/e_101086110/abendate
 lier
DTEND;TZID=Europe/Berlin:20260624T220000
DTSTAMP:20260421T075837Z
DTSTART;TZID=Europe/Berlin:20260624T190000
GEO:53.242860;10.411540
LOCATION:Atelier Christina Kaul\, Wilschenbrucher Weg 38\, Lüneburg
SEQUENCE:0
SUMMARY:ABENDATELIER
UID:e_101086110_iv5
URL:http://pages.destination.one/de/lueneburg/streaming/detail/Event/e_1010
 86110/abendatelier
END:VEVENT
BEGIN:VEVENT
CATEGORIES:Seminar/Kurs/Workshop sonstige
DESCRIPTION:Das ABENDATELIER (am 28.01.2026 zu Claude Monets "Die Elster") 
 richtet sich an alle kunst- und kreativbegeisterten Erwachsenen\, die sich
  in entspannter Runde\, bei einem Glas Wein oder einer Tasse Tee\, über ei
 n ausgewähltes Kunstwerk austauschen und im Anschluss schöpferische Impuls
 e in die Tat umsetzen möchten. Geleitet wird der Abend von der Künstlerin 
 und Kunstvermittlerin Christina Kaul\, die in ihrem Atelier einen Ort der 
 Inspiration und des Experimentierens sieht. Jeder Abend ist einem Kunstwer
 k gewidmet (Auswahl siehe Homepage)\, das gemeinsam betrachtet wird. Zunäc
 hst liegt der Fokus auf den ganz persönlichen Gedanken\, die das Gemälde a
 uslöst. Erst im nächsten Schritt folgen Informationen zur Künstlerin / zum
  Künstler\, zu Hintergründen der Bildentstehung und tiefergehende Interpre
 tationen. Daran schließt sich der eigene kreative Prozess an. Alle Materia
 lien stehen im Atelier zur Verfügung und laden zu Experimenten ein.\nDas A
 BENDATELIER findet einmal im Monat an einem Mittwoch von 19 - 22 Uhr statt
 . Die Termine können einzeln\, unabhängig voneinander gebucht werden. Vork
 enntnisse sind nicht erforderlich!\n\nmehr Informationen unter http://page
 s.destination.one/de/lueneburg/streaming/detail/Event/e_101086110/abendate
 lier
DTEND;TZID=Europe/Berlin:20260826T220000
DTSTAMP:20260421T075837Z
DTSTART;TZID=Europe/Berlin:20260826T190000
GEO:53.242860;10.411540
LOCATION:Atelier Christina Kaul\, Wilschenbrucher Weg 38\, Lüneburg
SEQUENCE:0
SUMMARY:ABENDATELIER
UID:e_101086110_iv6
URL:http://pages.destination.one/de/lueneburg/streaming/detail/Event/e_1010
 86110/abendatelier
END:VEVENT
BEGIN:VEVENT
CATEGORIES:Seminar/Kurs/Workshop sonstige
DESCRIPTION:Das ABENDATELIER (am 28.01.2026 zu Claude Monets "Die Elster") 
 richtet sich an alle kunst- und kreativbegeisterten Erwachsenen\, die sich
  in entspannter Runde\, bei einem Glas Wein oder einer Tasse Tee\, über ei
 n ausgewähltes Kunstwerk austauschen und im Anschluss schöpferische Impuls
 e in die Tat umsetzen möchten. Geleitet wird der Abend von der Künstlerin 
 und Kunstvermittlerin Christina Kaul\, die in ihrem Atelier einen Ort der 
 Inspiration und des Experimentierens sieht. Jeder Abend ist einem Kunstwer
 k gewidmet (Auswahl siehe Homepage)\, das gemeinsam betrachtet wird. Zunäc
 hst liegt der Fokus auf den ganz persönlichen Gedanken\, die das Gemälde a
 uslöst. Erst im nächsten Schritt folgen Informationen zur Künstlerin / zum
  Künstler\, zu Hintergründen der Bildentstehung und tiefergehende Interpre
 tationen. Daran schließt sich der eigene kreative Prozess an. Alle Materia
 lien stehen im Atelier zur Verfügung und laden zu Experimenten ein.\nDas A
 BENDATELIER findet einmal im Monat an einem Mittwoch von 19 - 22 Uhr statt
 . Die Termine können einzeln\, unabhängig voneinander gebucht werden. Vork
 enntnisse sind nicht erforderlich!\n\nmehr Informationen unter http://page
 s.destination.one/de/lueneburg/streaming/detail/Event/e_101086110/abendate
 lier
DTEND;TZID=Europe/Berlin:20260930T220000
DTSTAMP:20260421T075837Z
DTSTART;TZID=Europe/Berlin:20260930T190000
GEO:53.242860;10.411540
LOCATION:Atelier Christina Kaul\, Wilschenbrucher Weg 38\, Lüneburg
SEQUENCE:0
SUMMARY:ABENDATELIER
UID:e_101086110_iv7
URL:http://pages.destination.one/de/lueneburg/streaming/detail/Event/e_1010
 86110/abendatelier
END:VEVENT
BEGIN:VEVENT
CATEGORIES:Seminar/Kurs/Workshop sonstige
DESCRIPTION:Das ABENDATELIER (am 28.01.2026 zu Claude Monets "Die Elster") 
 richtet sich an alle kunst- und kreativbegeisterten Erwachsenen\, die sich
  in entspannter Runde\, bei einem Glas Wein oder einer Tasse Tee\, über ei
 n ausgewähltes Kunstwerk austauschen und im Anschluss schöpferische Impuls
 e in die Tat umsetzen möchten. Geleitet wird der Abend von der Künstlerin 
 und Kunstvermittlerin Christina Kaul\, die in ihrem Atelier einen Ort der 
 Inspiration und des Experimentierens sieht. Jeder Abend ist einem Kunstwer
 k gewidmet (Auswahl siehe Homepage)\, das gemeinsam betrachtet wird. Zunäc
 hst liegt der Fokus auf den ganz persönlichen Gedanken\, die das Gemälde a
 uslöst. Erst im nächsten Schritt folgen Informationen zur Künstlerin / zum
  Künstler\, zu Hintergründen der Bildentstehung und tiefergehende Interpre
 tationen. Daran schließt sich der eigene kreative Prozess an. Alle Materia
 lien stehen im Atelier zur Verfügung und laden zu Experimenten ein.\nDas A
 BENDATELIER findet einmal im Monat an einem Mittwoch von 19 - 22 Uhr statt
 . Die Termine können einzeln\, unabhängig voneinander gebucht werden. Vork
 enntnisse sind nicht erforderlich!\n\nmehr Informationen unter http://page
 s.destination.one/de/lueneburg/streaming/detail/Event/e_101086110/abendate
 lier
DTEND;TZID=Europe/Berlin:20261028T220000
DTSTAMP:20260421T075837Z
DTSTART;TZID=Europe/Berlin:20261028T190000
GEO:53.242860;10.411540
LOCATION:Atelier Christina Kaul\, Wilschenbrucher Weg 38\, Lüneburg
SEQUENCE:0
SUMMARY:ABENDATELIER
UID:e_101086110_iv8
URL:http://pages.destination.one/de/lueneburg/streaming/detail/Event/e_1010
 86110/abendatelier
END:VEVENT
BEGIN:VTIMEZONE
TZID:Europe/Berlin
X-LIC-LOCATION:Europe/Berlin
BEGIN:DAYLIGHT
DTSTART:19700329T020000
RRULE:FREQ=YEARLY;BYDAY=-1SU;BYMONTH=3
TZNAME:CEST
TZOFFSETFROM:+0100
TZOFFSETTO:+0200
END:DAYLIGHT
BEGIN:STANDARD
DTSTART:19701025T030000
RRULE:FREQ=YEARLY;BYDAY=-1SU;BYMONTH=10
TZNAME:CET
TZOFFSETFROM:+0200
TZOFFSETTO:+0100
END:STANDARD
END:VTIMEZONE
END:VCALENDAR
