BEGIN:VCALENDAR
VERSION:2.0
PRODID:-//destination.one//NONSGML destination.meta API//DE
X-WR-CALDESC:A calendar powered by destination.meta
X-WR-CALNAME:lueneburg Kalender via destination.meta
BEGIN:VEVENT
CATEGORIES:Musik sonstige
CATEGORIES:Konzert
DESCRIPTION:Ab Oktober 2026 ist Ina Müller zurück auf der Bühne: Begleitet 
 von ihrer Band geht die beliebte Sängerin\, Moderatorin und Entertainerin 
 wieder auf große Tour und spielt insgesamt 49 Konzerte in ganz Deutschland
 . Im Mittelpunkt steht ihr neues Album "6.0"\, das im November erscheint –
  live präsentiert mit ihrem unverwechselbaren Mix aus Musik und Humor.\n\n
 Nach "Weiblich. Ledig. 40" sowie "48" und ihrem letzten Werk "55"\, das nu
 r wenige Wochen nach Veröffentlichung mit einem Gold-Award veredelt wurde\
 , bleibt Ina Müller ihrer Erfolgsformel treu und widmet auch ihrem nächste
 n Lebensabschnitt ein eigenes Album. Ina Müller "6.0" erscheint am 14. Nov
 ember 2025 und kann ab sofort vorbestellt werden.\n\nMit ihrer markanten\,
  rauchig-souligen Stimme\, ihrer mitreißenden Energie und ihrem typisch no
 rddeutschen Humor bringt Ina Müller gemeinsam mit ihrer Band zwischen Okto
 ber 2026 und März 2027 die neuen Songs live auf die Bühne. Authentisch\, n
 ahbar und mitreißend wie eh und je wird sie das Publikum mit ihrer beeindr
 uckenden Bühnenpräsenz in den Bann ziehen und durch die einzigartige Verbi
 ndung von Musik und Unterhaltung unvergessliche Konzertmomente schaffen – 
 echte Ina-Müller Erlebnisse\, wie man sie kennt und liebt\n\nmehr Informat
 ionen unter http://pages.destination.one/de/lueneburg/streaming/detail/Eve
 nt/e_101101795/ina-m-ller-und-band-die-6-0-tour
DTEND;TZID=Europe/Berlin:20261107T235900
DTSTAMP:20260422T092500Z
DTSTART;TZID=Europe/Berlin:20261107T200000
GEO:53.272355;10.423034
LOCATION:LKH Arena\, Lüner Rennbahn 5\, Lüneburg
SEQUENCE:0
SUMMARY:Ina Müller und Band - Die 6.0 Tour
UID:e_101101795_iv0
URL:http://pages.destination.one/de/lueneburg/streaming/detail/Event/e_1011
 01795/ina-m-ller-und-band-die-6-0-tour
END:VEVENT
BEGIN:VEVENT
CATEGORIES:Musik sonstige
CATEGORIES:Konzert
DESCRIPTION:Ab Oktober 2026 ist Ina Müller zurück auf der Bühne: Begleitet 
 von ihrer Band geht die beliebte Sängerin\, Moderatorin und Entertainerin 
 wieder auf große Tour und spielt insgesamt 49 Konzerte in ganz Deutschland
 . Im Mittelpunkt steht ihr neues Album "6.0"\, das im November erscheint –
  live präsentiert mit ihrem unverwechselbaren Mix aus Musik und Humor.\n\n
 Nach "Weiblich. Ledig. 40" sowie "48" und ihrem letzten Werk "55"\, das nu
 r wenige Wochen nach Veröffentlichung mit einem Gold-Award veredelt wurde\
 , bleibt Ina Müller ihrer Erfolgsformel treu und widmet auch ihrem nächste
 n Lebensabschnitt ein eigenes Album. Ina Müller "6.0" erscheint am 14. Nov
 ember 2025 und kann ab sofort vorbestellt werden.\n\nMit ihrer markanten\,
  rauchig-souligen Stimme\, ihrer mitreißenden Energie und ihrem typisch no
 rddeutschen Humor bringt Ina Müller gemeinsam mit ihrer Band zwischen Okto
 ber 2026 und März 2027 die neuen Songs live auf die Bühne. Authentisch\, n
 ahbar und mitreißend wie eh und je wird sie das Publikum mit ihrer beeindr
 uckenden Bühnenpräsenz in den Bann ziehen und durch die einzigartige Verbi
 ndung von Musik und Unterhaltung unvergessliche Konzertmomente schaffen – 
 echte Ina-Müller Erlebnisse\, wie man sie kennt und liebt\n\nmehr Informat
 ionen unter http://pages.destination.one/de/lueneburg/streaming/detail/Eve
 nt/e_101101795/ina-m-ller-und-band-die-6-0-tour
DTEND;TZID=Europe/Berlin:20261108T235900
DTSTAMP:20260422T092500Z
DTSTART;TZID=Europe/Berlin:20261108T190000
GEO:53.272355;10.423034
LOCATION:LKH Arena\, Lüner Rennbahn 5\, Lüneburg
SEQUENCE:0
SUMMARY:Ina Müller und Band - Die 6.0 Tour
UID:e_101101795_iv1
URL:http://pages.destination.one/de/lueneburg/streaming/detail/Event/e_1011
 01795/ina-m-ller-und-band-die-6-0-tour
END:VEVENT
BEGIN:VTIMEZONE
TZID:Europe/Berlin
X-LIC-LOCATION:Europe/Berlin
BEGIN:DAYLIGHT
DTSTART:19700329T020000
RRULE:FREQ=YEARLY;BYDAY=-1SU;BYMONTH=3
TZNAME:CEST
TZOFFSETFROM:+0100
TZOFFSETTO:+0200
END:DAYLIGHT
BEGIN:STANDARD
DTSTART:19701025T030000
RRULE:FREQ=YEARLY;BYDAY=-1SU;BYMONTH=10
TZNAME:CET
TZOFFSETFROM:+0200
TZOFFSETTO:+0100
END:STANDARD
END:VTIMEZONE
END:VCALENDAR
