BEGIN:VCALENDAR
VERSION:2.0
PRODID:-//destination.one//NONSGML destination.meta API//DE
X-WR-CALDESC:A calendar powered by destination.meta
X-WR-CALNAME:lueneburg Kalender via destination.meta
BEGIN:VEVENT
CATEGORIES:Theater sonstige
DESCRIPTION:Eine Veranstaltung der Reihe Amsterdam - Theater Lüneburg\nAmst
 erdam - Theater Lüneburg\n\nmehr Informationen unter http://pages.destinat
 ion.one/de/lueneburg/streaming/detail/Event/e_101102998/amsterdam
DTEND;TZID=Europe/Berlin:20260214T235900
DTSTAMP:20260421T081135Z
DTSTART;TZID=Europe/Berlin:20260214T200000
GEO:53.244345;10.406649
LOCATION:Theater Lüneburg\, An den Reeperbahnen 3\, Lüneburg
SEQUENCE:0
SUMMARY:Amsterdam
UID:e_101102998_iv0
URL:http://pages.destination.one/de/lueneburg/streaming/detail/Event/e_1011
 02998/amsterdam
END:VEVENT
BEGIN:VEVENT
CATEGORIES:Theater sonstige
DESCRIPTION:Eine Veranstaltung der Reihe Amsterdam - Theater Lüneburg\nAmst
 erdam - Theater Lüneburg\n\nmehr Informationen unter http://pages.destinat
 ion.one/de/lueneburg/streaming/detail/Event/e_101102998/amsterdam
DTEND;TZID=Europe/Berlin:20260221T235900
DTSTAMP:20260421T081135Z
DTSTART;TZID=Europe/Berlin:20260221T200000
GEO:53.244345;10.406649
LOCATION:Theater Lüneburg\, An den Reeperbahnen 3\, Lüneburg
SEQUENCE:0
SUMMARY:Amsterdam
UID:e_101102998_iv1
URL:http://pages.destination.one/de/lueneburg/streaming/detail/Event/e_1011
 02998/amsterdam
END:VEVENT
BEGIN:VEVENT
CATEGORIES:Theater sonstige
DESCRIPTION:Eine Veranstaltung der Reihe Amsterdam - Theater Lüneburg\nAmst
 erdam - Theater Lüneburg\n\nmehr Informationen unter http://pages.destinat
 ion.one/de/lueneburg/streaming/detail/Event/e_101102998/amsterdam
DTEND;TZID=Europe/Berlin:20260301T235900
DTSTAMP:20260421T081135Z
DTSTART;TZID=Europe/Berlin:20260301T180000
GEO:53.244345;10.406649
LOCATION:Theater Lüneburg\, An den Reeperbahnen 3\, Lüneburg
SEQUENCE:0
SUMMARY:Amsterdam
UID:e_101102998_iv2
URL:http://pages.destination.one/de/lueneburg/streaming/detail/Event/e_1011
 02998/amsterdam
END:VEVENT
BEGIN:VEVENT
CATEGORIES:Theater sonstige
DESCRIPTION:Eine Veranstaltung der Reihe Amsterdam - Theater Lüneburg\nAmst
 erdam - Theater Lüneburg\n\nmehr Informationen unter http://pages.destinat
 ion.one/de/lueneburg/streaming/detail/Event/e_101102998/amsterdam
DTEND;TZID=Europe/Berlin:20260308T235900
DTSTAMP:20260421T081135Z
DTSTART;TZID=Europe/Berlin:20260308T180000
GEO:53.244345;10.406649
LOCATION:Theater Lüneburg\, An den Reeperbahnen 3\, Lüneburg
SEQUENCE:0
SUMMARY:Amsterdam
UID:e_101102998_iv3
URL:http://pages.destination.one/de/lueneburg/streaming/detail/Event/e_1011
 02998/amsterdam
END:VEVENT
BEGIN:VEVENT
CATEGORIES:Theater sonstige
DESCRIPTION:Eine Veranstaltung der Reihe Amsterdam - Theater Lüneburg\nAmst
 erdam - Theater Lüneburg\n\nmehr Informationen unter http://pages.destinat
 ion.one/de/lueneburg/streaming/detail/Event/e_101102998/amsterdam
DTEND;TZID=Europe/Berlin:20260320T235900
DTSTAMP:20260421T081135Z
DTSTART;TZID=Europe/Berlin:20260320T200000
GEO:53.244345;10.406649
LOCATION:Theater Lüneburg\, An den Reeperbahnen 3\, Lüneburg
SEQUENCE:0
SUMMARY:Amsterdam
UID:e_101102998_iv4
URL:http://pages.destination.one/de/lueneburg/streaming/detail/Event/e_1011
 02998/amsterdam
END:VEVENT
BEGIN:VEVENT
CATEGORIES:Theater sonstige
DESCRIPTION:Eine Veranstaltung der Reihe Amsterdam - Theater Lüneburg\nAmst
 erdam - Theater Lüneburg\n\nmehr Informationen unter http://pages.destinat
 ion.one/de/lueneburg/streaming/detail/Event/e_101102998/amsterdam
DTEND;TZID=Europe/Berlin:20260415T235900
DTSTAMP:20260421T081135Z
DTSTART;TZID=Europe/Berlin:20260415T200000
GEO:53.244345;10.406649
LOCATION:Theater Lüneburg\, An den Reeperbahnen 3\, Lüneburg
SEQUENCE:0
SUMMARY:Amsterdam
UID:e_101102998_iv5
URL:http://pages.destination.one/de/lueneburg/streaming/detail/Event/e_1011
 02998/amsterdam
END:VEVENT
BEGIN:VEVENT
CATEGORIES:Theater sonstige
DESCRIPTION:Eine Veranstaltung der Reihe Amsterdam - Theater Lüneburg\nAmst
 erdam - Theater Lüneburg\n\nmehr Informationen unter http://pages.destinat
 ion.one/de/lueneburg/streaming/detail/Event/e_101102998/amsterdam
DTEND;TZID=Europe/Berlin:20260417T235900
DTSTAMP:20260421T081135Z
DTSTART;TZID=Europe/Berlin:20260417T200000
GEO:53.244345;10.406649
LOCATION:Theater Lüneburg\, An den Reeperbahnen 3\, Lüneburg
SEQUENCE:0
SUMMARY:Amsterdam
UID:e_101102998_iv6
URL:http://pages.destination.one/de/lueneburg/streaming/detail/Event/e_1011
 02998/amsterdam
END:VEVENT
BEGIN:VEVENT
CATEGORIES:Theater sonstige
DESCRIPTION:Eine Veranstaltung der Reihe Amsterdam - Theater Lüneburg\nAmst
 erdam - Theater Lüneburg\n\nmehr Informationen unter http://pages.destinat
 ion.one/de/lueneburg/streaming/detail/Event/e_101102998/amsterdam
DTEND;TZID=Europe/Berlin:20260429T235900
DTSTAMP:20260421T081135Z
DTSTART;TZID=Europe/Berlin:20260429T200000
GEO:53.244345;10.406649
LOCATION:Theater Lüneburg\, An den Reeperbahnen 3\, Lüneburg
SEQUENCE:0
SUMMARY:Amsterdam
UID:e_101102998_iv7
URL:http://pages.destination.one/de/lueneburg/streaming/detail/Event/e_1011
 02998/amsterdam
END:VEVENT
BEGIN:VEVENT
CATEGORIES:Theater sonstige
DESCRIPTION:Eine Veranstaltung der Reihe Amsterdam - Theater Lüneburg\nAmst
 erdam - Theater Lüneburg\n\nmehr Informationen unter http://pages.destinat
 ion.one/de/lueneburg/streaming/detail/Event/e_101102998/amsterdam
DTEND;TZID=Europe/Berlin:20260513T235900
DTSTAMP:20260421T081135Z
DTSTART;TZID=Europe/Berlin:20260513T200000
GEO:53.244345;10.406649
LOCATION:Theater Lüneburg\, An den Reeperbahnen 3\, Lüneburg
SEQUENCE:0
SUMMARY:Amsterdam
UID:e_101102998_iv8
URL:http://pages.destination.one/de/lueneburg/streaming/detail/Event/e_1011
 02998/amsterdam
END:VEVENT
BEGIN:VEVENT
CATEGORIES:Theater sonstige
DESCRIPTION:Eine Veranstaltung der Reihe Amsterdam - Theater Lüneburg\nAmst
 erdam - Theater Lüneburg\n\nmehr Informationen unter http://pages.destinat
 ion.one/de/lueneburg/streaming/detail/Event/e_101102998/amsterdam
DTEND;TZID=Europe/Berlin:20260521T235900
DTSTAMP:20260421T081135Z
DTSTART;TZID=Europe/Berlin:20260521T200000
GEO:53.244345;10.406649
LOCATION:Theater Lüneburg\, An den Reeperbahnen 3\, Lüneburg
SEQUENCE:0
SUMMARY:Amsterdam
UID:e_101102998_iv9
URL:http://pages.destination.one/de/lueneburg/streaming/detail/Event/e_1011
 02998/amsterdam
END:VEVENT
BEGIN:VTIMEZONE
TZID:Europe/Berlin
X-LIC-LOCATION:Europe/Berlin
BEGIN:DAYLIGHT
DTSTART:19700329T020000
RRULE:FREQ=YEARLY;BYDAY=-1SU;BYMONTH=3
TZNAME:CEST
TZOFFSETFROM:+0100
TZOFFSETTO:+0200
END:DAYLIGHT
BEGIN:STANDARD
DTSTART:19701025T030000
RRULE:FREQ=YEARLY;BYDAY=-1SU;BYMONTH=10
TZNAME:CET
TZOFFSETFROM:+0200
TZOFFSETTO:+0100
END:STANDARD
END:VTIMEZONE
END:VCALENDAR
