BEGIN:VCALENDAR
VERSION:2.0
PRODID:-//destination.one//NONSGML destination.meta API//DE
X-WR-CALDESC:A calendar powered by destination.meta
X-WR-CALNAME:lueneburg Kalender via destination.meta
BEGIN:VEVENT
CATEGORIES:Theater sonstige
DESCRIPTION:Eine Veranstaltung der Reihe Anfang - Kein Ende | Theater Lüneb
 urg\nAnfang - Kein Ende | Theater Lüneburg\n\nmehr Informationen unter htt
 p://pages.destination.one/de/lueneburg/streaming/detail/Event/e_101102999/
 anfang-kein-ende
DTEND;TZID=Europe/Berlin:20260213T235900
DTSTAMP:20260421T081310Z
DTSTART;TZID=Europe/Berlin:20260213T200000
GEO:53.244345;10.406649
LOCATION:Theater Lüneburg\, An den Reeperbahnen 3\, Lüneburg
SEQUENCE:0
SUMMARY:Anfang - Kein Ende
UID:e_101102999_iv0
URL:http://pages.destination.one/de/lueneburg/streaming/detail/Event/e_1011
 02999/anfang-kein-ende
END:VEVENT
BEGIN:VEVENT
CATEGORIES:Theater sonstige
DESCRIPTION:Eine Veranstaltung der Reihe Anfang - Kein Ende | Theater Lüneb
 urg\nAnfang - Kein Ende | Theater Lüneburg\n\nmehr Informationen unter htt
 p://pages.destination.one/de/lueneburg/streaming/detail/Event/e_101102999/
 anfang-kein-ende
DTEND;TZID=Europe/Berlin:20260220T235900
DTSTAMP:20260421T081310Z
DTSTART;TZID=Europe/Berlin:20260220T200000
GEO:53.244345;10.406649
LOCATION:Theater Lüneburg\, An den Reeperbahnen 3\, Lüneburg
SEQUENCE:0
SUMMARY:Anfang - Kein Ende
UID:e_101102999_iv1
URL:http://pages.destination.one/de/lueneburg/streaming/detail/Event/e_1011
 02999/anfang-kein-ende
END:VEVENT
BEGIN:VEVENT
CATEGORIES:Theater sonstige
DESCRIPTION:Eine Veranstaltung der Reihe Anfang - Kein Ende | Theater Lüneb
 urg\nAnfang - Kein Ende | Theater Lüneburg\n\nmehr Informationen unter htt
 p://pages.destination.one/de/lueneburg/streaming/detail/Event/e_101102999/
 anfang-kein-ende
DTEND;TZID=Europe/Berlin:20260225T235900
DTSTAMP:20260421T081310Z
DTSTART;TZID=Europe/Berlin:20260225T200000
GEO:53.244345;10.406649
LOCATION:Theater Lüneburg\, An den Reeperbahnen 3\, Lüneburg
SEQUENCE:0
SUMMARY:Anfang - Kein Ende
UID:e_101102999_iv2
URL:http://pages.destination.one/de/lueneburg/streaming/detail/Event/e_1011
 02999/anfang-kein-ende
END:VEVENT
BEGIN:VEVENT
CATEGORIES:Theater sonstige
DESCRIPTION:Eine Veranstaltung der Reihe Anfang - Kein Ende | Theater Lüneb
 urg\nAnfang - Kein Ende | Theater Lüneburg\n\nmehr Informationen unter htt
 p://pages.destination.one/de/lueneburg/streaming/detail/Event/e_101102999/
 anfang-kein-ende
DTEND;TZID=Europe/Berlin:20260306T235900
DTSTAMP:20260421T081310Z
DTSTART;TZID=Europe/Berlin:20260306T200000
GEO:53.244345;10.406649
LOCATION:Theater Lüneburg\, An den Reeperbahnen 3\, Lüneburg
SEQUENCE:0
SUMMARY:Anfang - Kein Ende
UID:e_101102999_iv3
URL:http://pages.destination.one/de/lueneburg/streaming/detail/Event/e_1011
 02999/anfang-kein-ende
END:VEVENT
BEGIN:VEVENT
CATEGORIES:Theater sonstige
DESCRIPTION:Eine Veranstaltung der Reihe Anfang - Kein Ende | Theater Lüneb
 urg\nAnfang - Kein Ende | Theater Lüneburg\n\nmehr Informationen unter htt
 p://pages.destination.one/de/lueneburg/streaming/detail/Event/e_101102999/
 anfang-kein-ende
DTEND;TZID=Europe/Berlin:20260307T235900
DTSTAMP:20260421T081310Z
DTSTART;TZID=Europe/Berlin:20260307T200000
GEO:53.244345;10.406649
LOCATION:Theater Lüneburg\, An den Reeperbahnen 3\, Lüneburg
SEQUENCE:0
SUMMARY:Anfang - Kein Ende
UID:e_101102999_iv4
URL:http://pages.destination.one/de/lueneburg/streaming/detail/Event/e_1011
 02999/anfang-kein-ende
END:VEVENT
BEGIN:VEVENT
CATEGORIES:Theater sonstige
DESCRIPTION:Eine Veranstaltung der Reihe Anfang - Kein Ende | Theater Lüneb
 urg\nAnfang - Kein Ende | Theater Lüneburg\n\nmehr Informationen unter htt
 p://pages.destination.one/de/lueneburg/streaming/detail/Event/e_101102999/
 anfang-kein-ende
DTEND;TZID=Europe/Berlin:20260322T235900
DTSTAMP:20260421T081310Z
DTSTART;TZID=Europe/Berlin:20260322T180000
GEO:53.244345;10.406649
LOCATION:Theater Lüneburg\, An den Reeperbahnen 3\, Lüneburg
SEQUENCE:0
SUMMARY:Anfang - Kein Ende
UID:e_101102999_iv5
URL:http://pages.destination.one/de/lueneburg/streaming/detail/Event/e_1011
 02999/anfang-kein-ende
END:VEVENT
BEGIN:VEVENT
CATEGORIES:Theater sonstige
DESCRIPTION:Eine Veranstaltung der Reihe Anfang - Kein Ende | Theater Lüneb
 urg\nAnfang - Kein Ende | Theater Lüneburg\n\nmehr Informationen unter htt
 p://pages.destination.one/de/lueneburg/streaming/detail/Event/e_101102999/
 anfang-kein-ende
DTEND;TZID=Europe/Berlin:20260418T235900
DTSTAMP:20260421T081310Z
DTSTART;TZID=Europe/Berlin:20260418T200000
GEO:53.244345;10.406649
LOCATION:Theater Lüneburg\, An den Reeperbahnen 3\, Lüneburg
SEQUENCE:0
SUMMARY:Anfang - Kein Ende
UID:e_101102999_iv6
URL:http://pages.destination.one/de/lueneburg/streaming/detail/Event/e_1011
 02999/anfang-kein-ende
END:VEVENT
BEGIN:VEVENT
CATEGORIES:Theater sonstige
DESCRIPTION:Eine Veranstaltung der Reihe Anfang - Kein Ende | Theater Lüneb
 urg\nAnfang - Kein Ende | Theater Lüneburg\n\nmehr Informationen unter htt
 p://pages.destination.one/de/lueneburg/streaming/detail/Event/e_101102999/
 anfang-kein-ende
DTEND;TZID=Europe/Berlin:20260424T235900
DTSTAMP:20260421T081310Z
DTSTART;TZID=Europe/Berlin:20260424T200000
GEO:53.244345;10.406649
LOCATION:Theater Lüneburg\, An den Reeperbahnen 3\, Lüneburg
SEQUENCE:0
SUMMARY:Anfang - Kein Ende
UID:e_101102999_iv7
URL:http://pages.destination.one/de/lueneburg/streaming/detail/Event/e_1011
 02999/anfang-kein-ende
END:VEVENT
BEGIN:VEVENT
CATEGORIES:Theater sonstige
DESCRIPTION:Eine Veranstaltung der Reihe Anfang - Kein Ende | Theater Lüneb
 urg\nAnfang - Kein Ende | Theater Lüneburg\n\nmehr Informationen unter htt
 p://pages.destination.one/de/lueneburg/streaming/detail/Event/e_101102999/
 anfang-kein-ende
DTEND;TZID=Europe/Berlin:20260430T235900
DTSTAMP:20260421T081310Z
DTSTART;TZID=Europe/Berlin:20260430T200000
GEO:53.244345;10.406649
LOCATION:Theater Lüneburg\, An den Reeperbahnen 3\, Lüneburg
SEQUENCE:0
SUMMARY:Anfang - Kein Ende
UID:e_101102999_iv8
URL:http://pages.destination.one/de/lueneburg/streaming/detail/Event/e_1011
 02999/anfang-kein-ende
END:VEVENT
BEGIN:VEVENT
CATEGORIES:Theater sonstige
DESCRIPTION:Eine Veranstaltung der Reihe Anfang - Kein Ende | Theater Lüneb
 urg\nAnfang - Kein Ende | Theater Lüneburg\n\nmehr Informationen unter htt
 p://pages.destination.one/de/lueneburg/streaming/detail/Event/e_101102999/
 anfang-kein-ende
DTEND;TZID=Europe/Berlin:20260510T235900
DTSTAMP:20260421T081310Z
DTSTART;TZID=Europe/Berlin:20260510T180000
GEO:53.244345;10.406649
LOCATION:Theater Lüneburg\, An den Reeperbahnen 3\, Lüneburg
SEQUENCE:0
SUMMARY:Anfang - Kein Ende
UID:e_101102999_iv9
URL:http://pages.destination.one/de/lueneburg/streaming/detail/Event/e_1011
 02999/anfang-kein-ende
END:VEVENT
BEGIN:VTIMEZONE
TZID:Europe/Berlin
X-LIC-LOCATION:Europe/Berlin
BEGIN:DAYLIGHT
DTSTART:19700329T020000
RRULE:FREQ=YEARLY;BYDAY=-1SU;BYMONTH=3
TZNAME:CEST
TZOFFSETFROM:+0100
TZOFFSETTO:+0200
END:DAYLIGHT
BEGIN:STANDARD
DTSTART:19701025T030000
RRULE:FREQ=YEARLY;BYDAY=-1SU;BYMONTH=10
TZNAME:CET
TZOFFSETFROM:+0200
TZOFFSETTO:+0100
END:STANDARD
END:VTIMEZONE
END:VCALENDAR
