BEGIN:VCALENDAR
VERSION:2.0
PRODID:-//destination.one//NONSGML destination.meta API//DE
X-WR-CALDESC:A calendar powered by destination.meta
X-WR-CALNAME:lueneburg Kalender via destination.meta
BEGIN:VEVENT
CATEGORIES:Show sonstige
DESCRIPTION:Eine Veranstaltung der Reihe Aus den Scherben der Zeit - Theate
 r Lüneburg\nAus den Scherben der Zeit - Theater Lüneburg\n\nmehr Informati
 onen unter http://pages.destination.one/de/lueneburg/streaming/detail/Even
 t/e_101103000/aus-den-scherben-der-zeit
DTEND;TZID=Europe/Berlin:20260416T235900
DTSTAMP:20260421T081311Z
DTSTART;TZID=Europe/Berlin:20260416T200000
GEO:53.244345;10.406649
LOCATION:Theater Lüneburg\, An den Reeperbahnen 3\, Lüneburg
SEQUENCE:0
SUMMARY:Aus den Scherben der Zeit
UID:e_101103000_iv0
URL:http://pages.destination.one/de/lueneburg/streaming/detail/Event/e_1011
 03000/aus-den-scherben-der-zeit
END:VEVENT
BEGIN:VEVENT
CATEGORIES:Show sonstige
DESCRIPTION:Eine Veranstaltung der Reihe Aus den Scherben der Zeit - Theate
 r Lüneburg\nAus den Scherben der Zeit - Theater Lüneburg\n\nmehr Informati
 onen unter http://pages.destination.one/de/lueneburg/streaming/detail/Even
 t/e_101103000/aus-den-scherben-der-zeit
DTEND;TZID=Europe/Berlin:20260510T235900
DTSTAMP:20260421T081311Z
DTSTART;TZID=Europe/Berlin:20260510T180000
GEO:53.244345;10.406649
LOCATION:Theater Lüneburg\, An den Reeperbahnen 3\, Lüneburg
SEQUENCE:0
SUMMARY:Aus den Scherben der Zeit
UID:e_101103000_iv1
URL:http://pages.destination.one/de/lueneburg/streaming/detail/Event/e_1011
 03000/aus-den-scherben-der-zeit
END:VEVENT
BEGIN:VEVENT
CATEGORIES:Show sonstige
DESCRIPTION:Eine Veranstaltung der Reihe Aus den Scherben der Zeit - Theate
 r Lüneburg\nAus den Scherben der Zeit - Theater Lüneburg\n\nmehr Informati
 onen unter http://pages.destination.one/de/lueneburg/streaming/detail/Even
 t/e_101103000/aus-den-scherben-der-zeit
DTEND;TZID=Europe/Berlin:20260520T235900
DTSTAMP:20260421T081311Z
DTSTART;TZID=Europe/Berlin:20260520T200000
GEO:53.244345;10.406649
LOCATION:Theater Lüneburg\, An den Reeperbahnen 3\, Lüneburg
SEQUENCE:0
SUMMARY:Aus den Scherben der Zeit
UID:e_101103000_iv2
URL:http://pages.destination.one/de/lueneburg/streaming/detail/Event/e_1011
 03000/aus-den-scherben-der-zeit
END:VEVENT
BEGIN:VEVENT
CATEGORIES:Show sonstige
DESCRIPTION:Eine Veranstaltung der Reihe Aus den Scherben der Zeit - Theate
 r Lüneburg\nAus den Scherben der Zeit - Theater Lüneburg\n\nmehr Informati
 onen unter http://pages.destination.one/de/lueneburg/streaming/detail/Even
 t/e_101103000/aus-den-scherben-der-zeit
DTEND;TZID=Europe/Berlin:20260528T235900
DTSTAMP:20260421T081311Z
DTSTART;TZID=Europe/Berlin:20260528T200000
GEO:53.244345;10.406649
LOCATION:Theater Lüneburg\, An den Reeperbahnen 3\, Lüneburg
SEQUENCE:0
SUMMARY:Aus den Scherben der Zeit
UID:e_101103000_iv3
URL:http://pages.destination.one/de/lueneburg/streaming/detail/Event/e_1011
 03000/aus-den-scherben-der-zeit
END:VEVENT
BEGIN:VEVENT
CATEGORIES:Show sonstige
DESCRIPTION:Eine Veranstaltung der Reihe Aus den Scherben der Zeit - Theate
 r Lüneburg\nAus den Scherben der Zeit - Theater Lüneburg\n\nmehr Informati
 onen unter http://pages.destination.one/de/lueneburg/streaming/detail/Even
 t/e_101103000/aus-den-scherben-der-zeit
DTEND;TZID=Europe/Berlin:20260610T235900
DTSTAMP:20260421T081311Z
DTSTART;TZID=Europe/Berlin:20260610T200000
GEO:53.244345;10.406649
LOCATION:Theater Lüneburg\, An den Reeperbahnen 3\, Lüneburg
SEQUENCE:0
SUMMARY:Aus den Scherben der Zeit
UID:e_101103000_iv4
URL:http://pages.destination.one/de/lueneburg/streaming/detail/Event/e_1011
 03000/aus-den-scherben-der-zeit
END:VEVENT
BEGIN:VEVENT
CATEGORIES:Show sonstige
DESCRIPTION:Eine Veranstaltung der Reihe Aus den Scherben der Zeit - Theate
 r Lüneburg\nAus den Scherben der Zeit - Theater Lüneburg\n\nmehr Informati
 onen unter http://pages.destination.one/de/lueneburg/streaming/detail/Even
 t/e_101103000/aus-den-scherben-der-zeit
DTEND;TZID=Europe/Berlin:20260618T235900
DTSTAMP:20260421T081311Z
DTSTART;TZID=Europe/Berlin:20260618T200000
GEO:53.244345;10.406649
LOCATION:Theater Lüneburg\, An den Reeperbahnen 3\, Lüneburg
SEQUENCE:0
SUMMARY:Aus den Scherben der Zeit
UID:e_101103000_iv5
URL:http://pages.destination.one/de/lueneburg/streaming/detail/Event/e_1011
 03000/aus-den-scherben-der-zeit
END:VEVENT
BEGIN:VTIMEZONE
TZID:Europe/Berlin
X-LIC-LOCATION:Europe/Berlin
BEGIN:DAYLIGHT
DTSTART:19700329T020000
RRULE:FREQ=YEARLY;BYDAY=-1SU;BYMONTH=3
TZNAME:CEST
TZOFFSETFROM:+0100
TZOFFSETTO:+0200
END:DAYLIGHT
BEGIN:STANDARD
DTSTART:19701025T030000
RRULE:FREQ=YEARLY;BYDAY=-1SU;BYMONTH=10
TZNAME:CET
TZOFFSETFROM:+0200
TZOFFSETTO:+0100
END:STANDARD
END:VTIMEZONE
END:VCALENDAR
