BEGIN:VCALENDAR
VERSION:2.0
PRODID:-//destination.one//NONSGML destination.meta API//DE
X-WR-CALDESC:A calendar powered by destination.meta
X-WR-CALNAME:lueneburg Kalender via destination.meta
BEGIN:VEVENT
CATEGORIES:Theater sonstige
DESCRIPTION:Eine Veranstaltung der Reihe Ein Volksfeind - Theater Lüneburg\
 nEin Volksfeind - Theater Lüneburg\n\nmehr Informationen unter http://page
 s.destination.one/de/lueneburg/streaming/detail/Event/e_101103030/ein-volk
 sfeind
DTEND;TZID=Europe/Berlin:20260328T235900
DTSTAMP:20260421T081139Z
DTSTART;TZID=Europe/Berlin:20260328T200000
GEO:53.244345;10.406649
LOCATION:Theater Lüneburg\, An den Reeperbahnen 3\, Lüneburg
SEQUENCE:0
SUMMARY:Ein Volksfeind
UID:e_101103030_iv0
URL:http://pages.destination.one/de/lueneburg/streaming/detail/Event/e_1011
 03030/ein-volksfeind
END:VEVENT
BEGIN:VEVENT
CATEGORIES:Theater sonstige
DESCRIPTION:Eine Veranstaltung der Reihe Ein Volksfeind - Theater Lüneburg\
 nEin Volksfeind - Theater Lüneburg\n\nmehr Informationen unter http://page
 s.destination.one/de/lueneburg/streaming/detail/Event/e_101103030/ein-volk
 sfeind
DTEND;TZID=Europe/Berlin:20260412T235900
DTSTAMP:20260421T081139Z
DTSTART;TZID=Europe/Berlin:20260412T180000
GEO:53.244345;10.406649
LOCATION:Theater Lüneburg\, An den Reeperbahnen 3\, Lüneburg
SEQUENCE:0
SUMMARY:Ein Volksfeind
UID:e_101103030_iv1
URL:http://pages.destination.one/de/lueneburg/streaming/detail/Event/e_1011
 03030/ein-volksfeind
END:VEVENT
BEGIN:VEVENT
CATEGORIES:Theater sonstige
DESCRIPTION:Eine Veranstaltung der Reihe Ein Volksfeind - Theater Lüneburg\
 nEin Volksfeind - Theater Lüneburg\n\nmehr Informationen unter http://page
 s.destination.one/de/lueneburg/streaming/detail/Event/e_101103030/ein-volk
 sfeind
DTEND;TZID=Europe/Berlin:20260419T235900
DTSTAMP:20260421T081139Z
DTSTART;TZID=Europe/Berlin:20260419T180000
GEO:53.244345;10.406649
LOCATION:Theater Lüneburg\, An den Reeperbahnen 3\, Lüneburg
SEQUENCE:0
SUMMARY:Ein Volksfeind
UID:e_101103030_iv2
URL:http://pages.destination.one/de/lueneburg/streaming/detail/Event/e_1011
 03030/ein-volksfeind
END:VEVENT
BEGIN:VEVENT
CATEGORIES:Theater sonstige
DESCRIPTION:Eine Veranstaltung der Reihe Ein Volksfeind - Theater Lüneburg\
 nEin Volksfeind - Theater Lüneburg\n\nmehr Informationen unter http://page
 s.destination.one/de/lueneburg/streaming/detail/Event/e_101103030/ein-volk
 sfeind
DTEND;TZID=Europe/Berlin:20260502T235900
DTSTAMP:20260421T081139Z
DTSTART;TZID=Europe/Berlin:20260502T200000
GEO:53.244345;10.406649
LOCATION:Theater Lüneburg\, An den Reeperbahnen 3\, Lüneburg
SEQUENCE:0
SUMMARY:Ein Volksfeind
UID:e_101103030_iv3
URL:http://pages.destination.one/de/lueneburg/streaming/detail/Event/e_1011
 03030/ein-volksfeind
END:VEVENT
BEGIN:VEVENT
CATEGORIES:Theater sonstige
DESCRIPTION:Eine Veranstaltung der Reihe Ein Volksfeind - Theater Lüneburg\
 nEin Volksfeind - Theater Lüneburg\n\nmehr Informationen unter http://page
 s.destination.one/de/lueneburg/streaming/detail/Event/e_101103030/ein-volk
 sfeind
DTEND;TZID=Europe/Berlin:20260506T235900
DTSTAMP:20260421T081139Z
DTSTART;TZID=Europe/Berlin:20260506T200000
GEO:53.244345;10.406649
LOCATION:Theater Lüneburg\, An den Reeperbahnen 3\, Lüneburg
SEQUENCE:0
SUMMARY:Ein Volksfeind
UID:e_101103030_iv4
URL:http://pages.destination.one/de/lueneburg/streaming/detail/Event/e_1011
 03030/ein-volksfeind
END:VEVENT
BEGIN:VEVENT
CATEGORIES:Theater sonstige
DESCRIPTION:Eine Veranstaltung der Reihe Ein Volksfeind - Theater Lüneburg\
 nEin Volksfeind - Theater Lüneburg\n\nmehr Informationen unter http://page
 s.destination.one/de/lueneburg/streaming/detail/Event/e_101103030/ein-volk
 sfeind
DTEND;TZID=Europe/Berlin:20260509T235900
DTSTAMP:20260421T081139Z
DTSTART;TZID=Europe/Berlin:20260509T200000
GEO:53.244345;10.406649
LOCATION:Theater Lüneburg\, An den Reeperbahnen 3\, Lüneburg
SEQUENCE:0
SUMMARY:Ein Volksfeind
UID:e_101103030_iv5
URL:http://pages.destination.one/de/lueneburg/streaming/detail/Event/e_1011
 03030/ein-volksfeind
END:VEVENT
BEGIN:VEVENT
CATEGORIES:Theater sonstige
DESCRIPTION:Eine Veranstaltung der Reihe Ein Volksfeind - Theater Lüneburg\
 nEin Volksfeind - Theater Lüneburg\n\nmehr Informationen unter http://page
 s.destination.one/de/lueneburg/streaming/detail/Event/e_101103030/ein-volk
 sfeind
DTEND;TZID=Europe/Berlin:20260515T235900
DTSTAMP:20260421T081139Z
DTSTART;TZID=Europe/Berlin:20260515T200000
GEO:53.244345;10.406649
LOCATION:Theater Lüneburg\, An den Reeperbahnen 3\, Lüneburg
SEQUENCE:0
SUMMARY:Ein Volksfeind
UID:e_101103030_iv6
URL:http://pages.destination.one/de/lueneburg/streaming/detail/Event/e_1011
 03030/ein-volksfeind
END:VEVENT
BEGIN:VEVENT
CATEGORIES:Theater sonstige
DESCRIPTION:Eine Veranstaltung der Reihe Ein Volksfeind - Theater Lüneburg\
 nEin Volksfeind - Theater Lüneburg\n\nmehr Informationen unter http://page
 s.destination.one/de/lueneburg/streaming/detail/Event/e_101103030/ein-volk
 sfeind
DTEND;TZID=Europe/Berlin:20260522T235900
DTSTAMP:20260421T081139Z
DTSTART;TZID=Europe/Berlin:20260522T200000
GEO:53.244345;10.406649
LOCATION:Theater Lüneburg\, An den Reeperbahnen 3\, Lüneburg
SEQUENCE:0
SUMMARY:Ein Volksfeind
UID:e_101103030_iv7
URL:http://pages.destination.one/de/lueneburg/streaming/detail/Event/e_1011
 03030/ein-volksfeind
END:VEVENT
BEGIN:VEVENT
CATEGORIES:Theater sonstige
DESCRIPTION:Eine Veranstaltung der Reihe Ein Volksfeind - Theater Lüneburg\
 nEin Volksfeind - Theater Lüneburg\n\nmehr Informationen unter http://page
 s.destination.one/de/lueneburg/streaming/detail/Event/e_101103030/ein-volk
 sfeind
DTEND;TZID=Europe/Berlin:20260625T235900
DTSTAMP:20260421T081139Z
DTSTART;TZID=Europe/Berlin:20260625T200000
GEO:53.244345;10.406649
LOCATION:Theater Lüneburg\, An den Reeperbahnen 3\, Lüneburg
SEQUENCE:0
SUMMARY:Ein Volksfeind
UID:e_101103030_iv8
URL:http://pages.destination.one/de/lueneburg/streaming/detail/Event/e_1011
 03030/ein-volksfeind
END:VEVENT
BEGIN:VTIMEZONE
TZID:Europe/Berlin
X-LIC-LOCATION:Europe/Berlin
BEGIN:DAYLIGHT
DTSTART:19700329T020000
RRULE:FREQ=YEARLY;BYDAY=-1SU;BYMONTH=3
TZNAME:CEST
TZOFFSETFROM:+0100
TZOFFSETTO:+0200
END:DAYLIGHT
BEGIN:STANDARD
DTSTART:19701025T030000
RRULE:FREQ=YEARLY;BYDAY=-1SU;BYMONTH=10
TZNAME:CET
TZOFFSETFROM:+0200
TZOFFSETTO:+0100
END:STANDARD
END:VTIMEZONE
END:VCALENDAR
