BEGIN:VCALENDAR
VERSION:2.0
PRODID:-//destination.one//NONSGML destination.meta API//DE
X-WR-CALDESC:A calendar powered by destination.meta
X-WR-CALNAME:lueneburg Kalender via destination.meta
BEGIN:VEVENT
CATEGORIES:Musical
DESCRIPTION:Eine Veranstaltung der Reihe Fame - Theater Lüneburg\nFame - Th
 eater Lüneburg\n\nmehr Informationen unter http://pages.destination.one/de
 /lueneburg/streaming/detail/Event/e_101103031/fame
DTEND;TZID=Europe/Berlin:20260117T235900
DTSTAMP:20260421T121019Z
DTSTART;TZID=Europe/Berlin:20260117T200000
GEO:53.244345;10.406649
LOCATION:Theater Lüneburg\, An den Reeperbahnen 3\, Lüneburg
SEQUENCE:0
SUMMARY:Fame
UID:e_101103031_iv0
URL:http://pages.destination.one/de/lueneburg/streaming/detail/Event/e_1011
 03031/fame
END:VEVENT
BEGIN:VEVENT
CATEGORIES:Musical
DESCRIPTION:Eine Veranstaltung der Reihe Fame - Theater Lüneburg\nFame - Th
 eater Lüneburg\n\nmehr Informationen unter http://pages.destination.one/de
 /lueneburg/streaming/detail/Event/e_101103031/fame
DTEND;TZID=Europe/Berlin:20260121T235900
DTSTAMP:20260421T121019Z
DTSTART;TZID=Europe/Berlin:20260121T200000
GEO:53.244345;10.406649
LOCATION:Theater Lüneburg\, An den Reeperbahnen 3\, Lüneburg
SEQUENCE:0
SUMMARY:Fame
UID:e_101103031_iv1
URL:http://pages.destination.one/de/lueneburg/streaming/detail/Event/e_1011
 03031/fame
END:VEVENT
BEGIN:VEVENT
CATEGORIES:Musical
DESCRIPTION:Eine Veranstaltung der Reihe Fame - Theater Lüneburg\nFame - Th
 eater Lüneburg\n\nmehr Informationen unter http://pages.destination.one/de
 /lueneburg/streaming/detail/Event/e_101103031/fame
DTEND;TZID=Europe/Berlin:20260124T235900
DTSTAMP:20260421T121019Z
DTSTART;TZID=Europe/Berlin:20260124T200000
GEO:53.244345;10.406649
LOCATION:Theater Lüneburg\, An den Reeperbahnen 3\, Lüneburg
SEQUENCE:0
SUMMARY:Fame
UID:e_101103031_iv2
URL:http://pages.destination.one/de/lueneburg/streaming/detail/Event/e_1011
 03031/fame
END:VEVENT
BEGIN:VEVENT
CATEGORIES:Musical
DESCRIPTION:Eine Veranstaltung der Reihe Fame - Theater Lüneburg\nFame - Th
 eater Lüneburg\n\nmehr Informationen unter http://pages.destination.one/de
 /lueneburg/streaming/detail/Event/e_101103031/fame
DTEND;TZID=Europe/Berlin:20260131T235900
DTSTAMP:20260421T121019Z
DTSTART;TZID=Europe/Berlin:20260131T200000
GEO:53.244345;10.406649
LOCATION:Theater Lüneburg\, An den Reeperbahnen 3\, Lüneburg
SEQUENCE:0
SUMMARY:Fame
UID:e_101103031_iv3
URL:http://pages.destination.one/de/lueneburg/streaming/detail/Event/e_1011
 03031/fame
END:VEVENT
BEGIN:VEVENT
CATEGORIES:Musical
DESCRIPTION:Eine Veranstaltung der Reihe Fame - Theater Lüneburg\nFame - Th
 eater Lüneburg\n\nmehr Informationen unter http://pages.destination.one/de
 /lueneburg/streaming/detail/Event/e_101103031/fame
DTEND;TZID=Europe/Berlin:20260208T235900
DTSTAMP:20260421T121019Z
DTSTART;TZID=Europe/Berlin:20260208T180000
GEO:53.244345;10.406649
LOCATION:Theater Lüneburg\, An den Reeperbahnen 3\, Lüneburg
SEQUENCE:0
SUMMARY:Fame
UID:e_101103031_iv4
URL:http://pages.destination.one/de/lueneburg/streaming/detail/Event/e_1011
 03031/fame
END:VEVENT
BEGIN:VEVENT
CATEGORIES:Musical
DESCRIPTION:Eine Veranstaltung der Reihe Fame - Theater Lüneburg\nFame - Th
 eater Lüneburg\n\nmehr Informationen unter http://pages.destination.one/de
 /lueneburg/streaming/detail/Event/e_101103031/fame
DTEND;TZID=Europe/Berlin:20260215T235900
DTSTAMP:20260421T121019Z
DTSTART;TZID=Europe/Berlin:20260215T150000
GEO:53.244345;10.406649
LOCATION:Theater Lüneburg\, An den Reeperbahnen 3\, Lüneburg
SEQUENCE:0
SUMMARY:Fame
UID:e_101103031_iv5
URL:http://pages.destination.one/de/lueneburg/streaming/detail/Event/e_1011
 03031/fame
END:VEVENT
BEGIN:VEVENT
CATEGORIES:Musical
DESCRIPTION:Eine Veranstaltung der Reihe Fame - Theater Lüneburg\nFame - Th
 eater Lüneburg\n\nmehr Informationen unter http://pages.destination.one/de
 /lueneburg/streaming/detail/Event/e_101103031/fame
DTEND;TZID=Europe/Berlin:20260222T235900
DTSTAMP:20260421T121019Z
DTSTART;TZID=Europe/Berlin:20260222T150000
GEO:53.244345;10.406649
LOCATION:Theater Lüneburg\, An den Reeperbahnen 3\, Lüneburg
SEQUENCE:0
SUMMARY:Fame
UID:e_101103031_iv6
URL:http://pages.destination.one/de/lueneburg/streaming/detail/Event/e_1011
 03031/fame
END:VEVENT
BEGIN:VEVENT
CATEGORIES:Musical
DESCRIPTION:Eine Veranstaltung der Reihe Fame - Theater Lüneburg\nFame - Th
 eater Lüneburg\n\nmehr Informationen unter http://pages.destination.one/de
 /lueneburg/streaming/detail/Event/e_101103031/fame
DTEND;TZID=Europe/Berlin:20260227T235900
DTSTAMP:20260421T121019Z
DTSTART;TZID=Europe/Berlin:20260227T200000
GEO:53.244345;10.406649
LOCATION:Theater Lüneburg\, An den Reeperbahnen 3\, Lüneburg
SEQUENCE:0
SUMMARY:Fame
UID:e_101103031_iv7
URL:http://pages.destination.one/de/lueneburg/streaming/detail/Event/e_1011
 03031/fame
END:VEVENT
BEGIN:VEVENT
CATEGORIES:Musical
DESCRIPTION:Eine Veranstaltung der Reihe Fame - Theater Lüneburg\nFame - Th
 eater Lüneburg\n\nmehr Informationen unter http://pages.destination.one/de
 /lueneburg/streaming/detail/Event/e_101103031/fame
DTEND;TZID=Europe/Berlin:20260314T235900
DTSTAMP:20260421T121019Z
DTSTART;TZID=Europe/Berlin:20260314T200000
GEO:53.244345;10.406649
LOCATION:Theater Lüneburg\, An den Reeperbahnen 3\, Lüneburg
SEQUENCE:0
SUMMARY:Fame
UID:e_101103031_iv8
URL:http://pages.destination.one/de/lueneburg/streaming/detail/Event/e_1011
 03031/fame
END:VEVENT
BEGIN:VEVENT
CATEGORIES:Musical
DESCRIPTION:Eine Veranstaltung der Reihe Fame - Theater Lüneburg\nFame - Th
 eater Lüneburg\n\nmehr Informationen unter http://pages.destination.one/de
 /lueneburg/streaming/detail/Event/e_101103031/fame
DTEND;TZID=Europe/Berlin:20260315T235900
DTSTAMP:20260421T121019Z
DTSTART;TZID=Europe/Berlin:20260315T180000
GEO:53.244345;10.406649
LOCATION:Theater Lüneburg\, An den Reeperbahnen 3\, Lüneburg
SEQUENCE:0
SUMMARY:Fame
UID:e_101103031_iv9
URL:http://pages.destination.one/de/lueneburg/streaming/detail/Event/e_1011
 03031/fame
END:VEVENT
BEGIN:VEVENT
CATEGORIES:Musical
DESCRIPTION:Eine Veranstaltung der Reihe Fame - Theater Lüneburg\nFame - Th
 eater Lüneburg\n\nmehr Informationen unter http://pages.destination.one/de
 /lueneburg/streaming/detail/Event/e_101103031/fame
DTEND;TZID=Europe/Berlin:20260321T235900
DTSTAMP:20260421T121019Z
DTSTART;TZID=Europe/Berlin:20260321T200000
GEO:53.244345;10.406649
LOCATION:Theater Lüneburg\, An den Reeperbahnen 3\, Lüneburg
SEQUENCE:0
SUMMARY:Fame
UID:e_101103031_iv10
URL:http://pages.destination.one/de/lueneburg/streaming/detail/Event/e_1011
 03031/fame
END:VEVENT
BEGIN:VEVENT
CATEGORIES:Musical
DESCRIPTION:Eine Veranstaltung der Reihe Fame - Theater Lüneburg\nFame - Th
 eater Lüneburg\n\nmehr Informationen unter http://pages.destination.one/de
 /lueneburg/streaming/detail/Event/e_101103031/fame
DTEND;TZID=Europe/Berlin:20260328T235900
DTSTAMP:20260421T121019Z
DTSTART;TZID=Europe/Berlin:20260328T200000
GEO:53.244345;10.406649
LOCATION:Theater Lüneburg\, An den Reeperbahnen 3\, Lüneburg
SEQUENCE:0
SUMMARY:Fame
UID:e_101103031_iv11
URL:http://pages.destination.one/de/lueneburg/streaming/detail/Event/e_1011
 03031/fame
END:VEVENT
BEGIN:VEVENT
CATEGORIES:Musical
DESCRIPTION:Eine Veranstaltung der Reihe Fame - Theater Lüneburg\nFame - Th
 eater Lüneburg\n\nmehr Informationen unter http://pages.destination.one/de
 /lueneburg/streaming/detail/Event/e_101103031/fame
DTEND;TZID=Europe/Berlin:20260417T235900
DTSTAMP:20260421T121019Z
DTSTART;TZID=Europe/Berlin:20260417T200000
GEO:53.244345;10.406649
LOCATION:Theater Lüneburg\, An den Reeperbahnen 3\, Lüneburg
SEQUENCE:0
SUMMARY:Fame
UID:e_101103031_iv12
URL:http://pages.destination.one/de/lueneburg/streaming/detail/Event/e_1011
 03031/fame
END:VEVENT
BEGIN:VEVENT
CATEGORIES:Musical
DESCRIPTION:Eine Veranstaltung der Reihe Fame - Theater Lüneburg\nFame - Th
 eater Lüneburg\n\nmehr Informationen unter http://pages.destination.one/de
 /lueneburg/streaming/detail/Event/e_101103031/fame
DTEND;TZID=Europe/Berlin:20260425T235900
DTSTAMP:20260421T121019Z
DTSTART;TZID=Europe/Berlin:20260425T200000
GEO:53.244345;10.406649
LOCATION:Theater Lüneburg\, An den Reeperbahnen 3\, Lüneburg
SEQUENCE:0
SUMMARY:Fame
UID:e_101103031_iv13
URL:http://pages.destination.one/de/lueneburg/streaming/detail/Event/e_1011
 03031/fame
END:VEVENT
BEGIN:VEVENT
CATEGORIES:Musical
DESCRIPTION:Eine Veranstaltung der Reihe Fame - Theater Lüneburg\nFame - Th
 eater Lüneburg\n\nmehr Informationen unter http://pages.destination.one/de
 /lueneburg/streaming/detail/Event/e_101103031/fame
DTEND;TZID=Europe/Berlin:20260502T235900
DTSTAMP:20260421T121019Z
DTSTART;TZID=Europe/Berlin:20260502T200000
GEO:53.244345;10.406649
LOCATION:Theater Lüneburg\, An den Reeperbahnen 3\, Lüneburg
SEQUENCE:0
SUMMARY:Fame
UID:e_101103031_iv14
URL:http://pages.destination.one/de/lueneburg/streaming/detail/Event/e_1011
 03031/fame
END:VEVENT
BEGIN:VTIMEZONE
TZID:Europe/Berlin
X-LIC-LOCATION:Europe/Berlin
BEGIN:DAYLIGHT
DTSTART:19700329T020000
RRULE:FREQ=YEARLY;BYDAY=-1SU;BYMONTH=3
TZNAME:CEST
TZOFFSETFROM:+0100
TZOFFSETTO:+0200
END:DAYLIGHT
BEGIN:STANDARD
DTSTART:19701025T030000
RRULE:FREQ=YEARLY;BYDAY=-1SU;BYMONTH=10
TZNAME:CET
TZOFFSETFROM:+0200
TZOFFSETTO:+0100
END:STANDARD
END:VTIMEZONE
END:VCALENDAR
