BEGIN:VCALENDAR
VERSION:2.0
PRODID:-//destination.one//NONSGML destination.meta API//DE
X-WR-CALDESC:A calendar powered by destination.meta
X-WR-CALNAME:lueneburg Kalender via destination.meta
BEGIN:VEVENT
CATEGORIES:Theater sonstige
DESCRIPTION:Eine Veranstaltung der Reihe Ich habe Bryan Adams geschreddert 
 - Theater Lüneburg\nIch habe Bryan Adams geschreddert - Theater Lüneburg\n
 \nmehr Informationen unter http://pages.destination.one/de/lueneburg/strea
 ming/detail/Event/e_101103047/ich-habe-bryan-adams-geschreddert
DTEND;TZID=Europe/Berlin:20260606T235900
DTSTAMP:20260421T081311Z
DTSTART;TZID=Europe/Berlin:20260606T200000
GEO:53.244345;10.406649
LOCATION:Theater Lüneburg\, An den Reeperbahnen 3\, Lüneburg
SEQUENCE:0
SUMMARY:Ich habe Bryan Adams geschreddert
UID:e_101103047_iv0
URL:http://pages.destination.one/de/lueneburg/streaming/detail/Event/e_1011
 03047/ich-habe-bryan-adams-geschreddert
END:VEVENT
BEGIN:VEVENT
CATEGORIES:Theater sonstige
DESCRIPTION:Eine Veranstaltung der Reihe Ich habe Bryan Adams geschreddert 
 - Theater Lüneburg\nIch habe Bryan Adams geschreddert - Theater Lüneburg\n
 \nmehr Informationen unter http://pages.destination.one/de/lueneburg/strea
 ming/detail/Event/e_101103047/ich-habe-bryan-adams-geschreddert
DTEND;TZID=Europe/Berlin:20260612T235900
DTSTAMP:20260421T081311Z
DTSTART;TZID=Europe/Berlin:20260612T200000
GEO:53.244345;10.406649
LOCATION:Theater Lüneburg\, An den Reeperbahnen 3\, Lüneburg
SEQUENCE:0
SUMMARY:Ich habe Bryan Adams geschreddert
UID:e_101103047_iv1
URL:http://pages.destination.one/de/lueneburg/streaming/detail/Event/e_1011
 03047/ich-habe-bryan-adams-geschreddert
END:VEVENT
BEGIN:VEVENT
CATEGORIES:Theater sonstige
DESCRIPTION:Eine Veranstaltung der Reihe Ich habe Bryan Adams geschreddert 
 - Theater Lüneburg\nIch habe Bryan Adams geschreddert - Theater Lüneburg\n
 \nmehr Informationen unter http://pages.destination.one/de/lueneburg/strea
 ming/detail/Event/e_101103047/ich-habe-bryan-adams-geschreddert
DTEND;TZID=Europe/Berlin:20260614T235900
DTSTAMP:20260421T081311Z
DTSTART;TZID=Europe/Berlin:20260614T180000
GEO:53.244345;10.406649
LOCATION:Theater Lüneburg\, An den Reeperbahnen 3\, Lüneburg
SEQUENCE:0
SUMMARY:Ich habe Bryan Adams geschreddert
UID:e_101103047_iv2
URL:http://pages.destination.one/de/lueneburg/streaming/detail/Event/e_1011
 03047/ich-habe-bryan-adams-geschreddert
END:VEVENT
BEGIN:VEVENT
CATEGORIES:Theater sonstige
DESCRIPTION:Eine Veranstaltung der Reihe Ich habe Bryan Adams geschreddert 
 - Theater Lüneburg\nIch habe Bryan Adams geschreddert - Theater Lüneburg\n
 \nmehr Informationen unter http://pages.destination.one/de/lueneburg/strea
 ming/detail/Event/e_101103047/ich-habe-bryan-adams-geschreddert
DTEND;TZID=Europe/Berlin:20260624T235900
DTSTAMP:20260421T081311Z
DTSTART;TZID=Europe/Berlin:20260624T200000
GEO:53.244345;10.406649
LOCATION:Theater Lüneburg\, An den Reeperbahnen 3\, Lüneburg
SEQUENCE:0
SUMMARY:Ich habe Bryan Adams geschreddert
UID:e_101103047_iv3
URL:http://pages.destination.one/de/lueneburg/streaming/detail/Event/e_1011
 03047/ich-habe-bryan-adams-geschreddert
END:VEVENT
BEGIN:VTIMEZONE
TZID:Europe/Berlin
X-LIC-LOCATION:Europe/Berlin
BEGIN:DAYLIGHT
DTSTART:19700329T020000
RRULE:FREQ=YEARLY;BYDAY=-1SU;BYMONTH=3
TZNAME:CEST
TZOFFSETFROM:+0100
TZOFFSETTO:+0200
END:DAYLIGHT
BEGIN:STANDARD
DTSTART:19701025T030000
RRULE:FREQ=YEARLY;BYDAY=-1SU;BYMONTH=10
TZNAME:CET
TZOFFSETFROM:+0200
TZOFFSETTO:+0100
END:STANDARD
END:VTIMEZONE
END:VCALENDAR
