BEGIN:VCALENDAR
VERSION:2.0
PRODID:-//destination.one//NONSGML destination.meta API//DE
X-WR-CALDESC:A calendar powered by destination.meta
X-WR-CALNAME:lueneburg Kalender via destination.meta
BEGIN:VEVENT
CATEGORIES:Musical
DESCRIPTION:Eine Veranstaltung der Reihe Love Never Dies - Theater Lüneburg
 \nLove Never Dies - Theater Lüneburg\n\nmehr Informationen unter http://pa
 ges.destination.one/de/lueneburg/streaming/detail/Event/e_101103061/love-n
 ever-dies
DTEND;TZID=Europe/Berlin:20260220T235900
DTSTAMP:20260421T081253Z
DTSTART;TZID=Europe/Berlin:20260220T200000
GEO:53.244345;10.406649
LOCATION:Theater Lüneburg\, An den Reeperbahnen 3\, Lüneburg
SEQUENCE:0
SUMMARY:Love Never Dies
UID:e_101103061_iv0
URL:http://pages.destination.one/de/lueneburg/streaming/detail/Event/e_1011
 03061/love-never-dies
END:VEVENT
BEGIN:VEVENT
CATEGORIES:Musical
DESCRIPTION:Eine Veranstaltung der Reihe Love Never Dies - Theater Lüneburg
 \nLove Never Dies - Theater Lüneburg\n\nmehr Informationen unter http://pa
 ges.destination.one/de/lueneburg/streaming/detail/Event/e_101103061/love-n
 ever-dies
DTEND;TZID=Europe/Berlin:20260228T235900
DTSTAMP:20260421T081253Z
DTSTART;TZID=Europe/Berlin:20260228T200000
GEO:53.244345;10.406649
LOCATION:Theater Lüneburg\, An den Reeperbahnen 3\, Lüneburg
SEQUENCE:0
SUMMARY:Love Never Dies
UID:e_101103061_iv1
URL:http://pages.destination.one/de/lueneburg/streaming/detail/Event/e_1011
 03061/love-never-dies
END:VEVENT
BEGIN:VEVENT
CATEGORIES:Musical
DESCRIPTION:Eine Veranstaltung der Reihe Love Never Dies - Theater Lüneburg
 \nLove Never Dies - Theater Lüneburg\n\nmehr Informationen unter http://pa
 ges.destination.one/de/lueneburg/streaming/detail/Event/e_101103061/love-n
 ever-dies
DTEND;TZID=Europe/Berlin:20260305T235900
DTSTAMP:20260421T081253Z
DTSTART;TZID=Europe/Berlin:20260305T200000
GEO:53.244345;10.406649
LOCATION:Theater Lüneburg\, An den Reeperbahnen 3\, Lüneburg
SEQUENCE:0
SUMMARY:Love Never Dies
UID:e_101103061_iv2
URL:http://pages.destination.one/de/lueneburg/streaming/detail/Event/e_1011
 03061/love-never-dies
END:VEVENT
BEGIN:VEVENT
CATEGORIES:Musical
DESCRIPTION:Eine Veranstaltung der Reihe Love Never Dies - Theater Lüneburg
 \nLove Never Dies - Theater Lüneburg\n\nmehr Informationen unter http://pa
 ges.destination.one/de/lueneburg/streaming/detail/Event/e_101103061/love-n
 ever-dies
DTEND;TZID=Europe/Berlin:20260409T235900
DTSTAMP:20260421T081253Z
DTSTART;TZID=Europe/Berlin:20260409T200000
GEO:53.244345;10.406649
LOCATION:Theater Lüneburg\, An den Reeperbahnen 3\, Lüneburg
SEQUENCE:0
SUMMARY:Love Never Dies
UID:e_101103061_iv3
URL:http://pages.destination.one/de/lueneburg/streaming/detail/Event/e_1011
 03061/love-never-dies
END:VEVENT
BEGIN:VEVENT
CATEGORIES:Musical
DESCRIPTION:Eine Veranstaltung der Reihe Love Never Dies - Theater Lüneburg
 \nLove Never Dies - Theater Lüneburg\n\nmehr Informationen unter http://pa
 ges.destination.one/de/lueneburg/streaming/detail/Event/e_101103061/love-n
 ever-dies
DTEND;TZID=Europe/Berlin:20260426T235900
DTSTAMP:20260421T081253Z
DTSTART;TZID=Europe/Berlin:20260426T180000
GEO:53.244345;10.406649
LOCATION:Theater Lüneburg\, An den Reeperbahnen 3\, Lüneburg
SEQUENCE:0
SUMMARY:Love Never Dies
UID:e_101103061_iv4
URL:http://pages.destination.one/de/lueneburg/streaming/detail/Event/e_1011
 03061/love-never-dies
END:VEVENT
BEGIN:VEVENT
CATEGORIES:Musical
DESCRIPTION:Eine Veranstaltung der Reihe Love Never Dies - Theater Lüneburg
 \nLove Never Dies - Theater Lüneburg\n\nmehr Informationen unter http://pa
 ges.destination.one/de/lueneburg/streaming/detail/Event/e_101103061/love-n
 ever-dies
DTEND;TZID=Europe/Berlin:20260507T235900
DTSTAMP:20260421T081253Z
DTSTART;TZID=Europe/Berlin:20260507T200000
GEO:53.244345;10.406649
LOCATION:Theater Lüneburg\, An den Reeperbahnen 3\, Lüneburg
SEQUENCE:0
SUMMARY:Love Never Dies
UID:e_101103061_iv5
URL:http://pages.destination.one/de/lueneburg/streaming/detail/Event/e_1011
 03061/love-never-dies
END:VEVENT
BEGIN:VEVENT
CATEGORIES:Musical
DESCRIPTION:Eine Veranstaltung der Reihe Love Never Dies - Theater Lüneburg
 \nLove Never Dies - Theater Lüneburg\n\nmehr Informationen unter http://pa
 ges.destination.one/de/lueneburg/streaming/detail/Event/e_101103061/love-n
 ever-dies
DTEND;TZID=Europe/Berlin:20260516T235900
DTSTAMP:20260421T081253Z
DTSTART;TZID=Europe/Berlin:20260516T200000
GEO:53.244345;10.406649
LOCATION:Theater Lüneburg\, An den Reeperbahnen 3\, Lüneburg
SEQUENCE:0
SUMMARY:Love Never Dies
UID:e_101103061_iv6
URL:http://pages.destination.one/de/lueneburg/streaming/detail/Event/e_1011
 03061/love-never-dies
END:VEVENT
BEGIN:VEVENT
CATEGORIES:Musical
DESCRIPTION:Eine Veranstaltung der Reihe Love Never Dies - Theater Lüneburg
 \nLove Never Dies - Theater Lüneburg\n\nmehr Informationen unter http://pa
 ges.destination.one/de/lueneburg/streaming/detail/Event/e_101103061/love-n
 ever-dies
DTEND;TZID=Europe/Berlin:20260530T235900
DTSTAMP:20260421T081253Z
DTSTART;TZID=Europe/Berlin:20260530T200000
GEO:53.244345;10.406649
LOCATION:Theater Lüneburg\, An den Reeperbahnen 3\, Lüneburg
SEQUENCE:0
SUMMARY:Love Never Dies
UID:e_101103061_iv7
URL:http://pages.destination.one/de/lueneburg/streaming/detail/Event/e_1011
 03061/love-never-dies
END:VEVENT
BEGIN:VTIMEZONE
TZID:Europe/Berlin
X-LIC-LOCATION:Europe/Berlin
BEGIN:DAYLIGHT
DTSTART:19700329T020000
RRULE:FREQ=YEARLY;BYDAY=-1SU;BYMONTH=3
TZNAME:CEST
TZOFFSETFROM:+0100
TZOFFSETTO:+0200
END:DAYLIGHT
BEGIN:STANDARD
DTSTART:19701025T030000
RRULE:FREQ=YEARLY;BYDAY=-1SU;BYMONTH=10
TZNAME:CET
TZOFFSETFROM:+0200
TZOFFSETTO:+0100
END:STANDARD
END:VTIMEZONE
END:VCALENDAR
