BEGIN:VCALENDAR
VERSION:2.0
PRODID:-//destination.one//NONSGML destination.meta API//DE
X-WR-CALDESC:A calendar powered by destination.meta
X-WR-CALNAME:lueneburg Kalender via destination.meta
BEGIN:VEVENT
CATEGORIES:Theater sonstige
DESCRIPTION:Eine Veranstaltung der Reihe Sweeney Todd - Theater Lüneburg\nS
 weeney Todd - Theater Lüneburg\n\nmehr Informationen unter http://pages.de
 stination.one/de/lueneburg/streaming/detail/Event/e_101103105/sweeney-todd
DTEND;TZID=Europe/Berlin:20260620T235900
DTSTAMP:20260421T081135Z
DTSTART;TZID=Europe/Berlin:20260620T200000
GEO:53.244345;10.406649
LOCATION:Theater Lüneburg\, An den Reeperbahnen 3\, Lüneburg
SEQUENCE:0
SUMMARY:Sweeney Todd
UID:e_101103105_iv0
URL:http://pages.destination.one/de/lueneburg/streaming/detail/Event/e_1011
 03105/sweeney-todd
END:VEVENT
BEGIN:VEVENT
CATEGORIES:Theater sonstige
DESCRIPTION:Eine Veranstaltung der Reihe Sweeney Todd - Theater Lüneburg\nS
 weeney Todd - Theater Lüneburg\n\nmehr Informationen unter http://pages.de
 stination.one/de/lueneburg/streaming/detail/Event/e_101103105/sweeney-todd
DTEND;TZID=Europe/Berlin:20260621T235900
DTSTAMP:20260421T081135Z
DTSTART;TZID=Europe/Berlin:20260621T180000
GEO:53.244345;10.406649
LOCATION:Theater Lüneburg\, An den Reeperbahnen 3\, Lüneburg
SEQUENCE:0
SUMMARY:Sweeney Todd
UID:e_101103105_iv1
URL:http://pages.destination.one/de/lueneburg/streaming/detail/Event/e_1011
 03105/sweeney-todd
END:VEVENT
BEGIN:VEVENT
CATEGORIES:Theater sonstige
DESCRIPTION:Eine Veranstaltung der Reihe Sweeney Todd - Theater Lüneburg\nS
 weeney Todd - Theater Lüneburg\n\nmehr Informationen unter http://pages.de
 stination.one/de/lueneburg/streaming/detail/Event/e_101103105/sweeney-todd
DTEND;TZID=Europe/Berlin:20260628T235900
DTSTAMP:20260421T081135Z
DTSTART;TZID=Europe/Berlin:20260628T150000
GEO:53.244345;10.406649
LOCATION:Theater Lüneburg\, An den Reeperbahnen 3\, Lüneburg
SEQUENCE:0
SUMMARY:Sweeney Todd
UID:e_101103105_iv2
URL:http://pages.destination.one/de/lueneburg/streaming/detail/Event/e_1011
 03105/sweeney-todd
END:VEVENT
BEGIN:VTIMEZONE
TZID:Europe/Berlin
X-LIC-LOCATION:Europe/Berlin
BEGIN:DAYLIGHT
DTSTART:19700329T020000
RRULE:FREQ=YEARLY;BYDAY=-1SU;BYMONTH=3
TZNAME:CEST
TZOFFSETFROM:+0100
TZOFFSETTO:+0200
END:DAYLIGHT
BEGIN:STANDARD
DTSTART:19701025T030000
RRULE:FREQ=YEARLY;BYDAY=-1SU;BYMONTH=10
TZNAME:CET
TZOFFSETFROM:+0200
TZOFFSETTO:+0100
END:STANDARD
END:VTIMEZONE
END:VCALENDAR
