BEGIN:VCALENDAR
VERSION:2.0
PRODID:-//destination.one//NONSGML destination.meta API//DE
X-WR-CALDESC:A calendar powered by destination.meta
X-WR-CALNAME:lueneburg Kalender via destination.meta
BEGIN:VEVENT
CATEGORIES:Tanzvorführung
DESCRIPTION:Eine Veranstaltung der Reihe Tanzwelten 3 - Theater Lüneburg\nT
 anzwelten 3 - Theater Lüneburg\n\nmehr Informationen unter http://pages.de
 stination.one/de/lueneburg/streaming/detail/Event/e_101103109/tanzwelten-3
 -down-to-the-wire
DTEND;TZID=Europe/Berlin:20260314T235900
DTSTAMP:20260421T091104Z
DTSTART;TZID=Europe/Berlin:20260314T200000
GEO:53.244345;10.406649
LOCATION:Theater Lüneburg\, An den Reeperbahnen 3\, Lüneburg
SEQUENCE:0
SUMMARY:Tanzwelten 3 - "Down to the Wire"
UID:e_101103109_iv0
URL:http://pages.destination.one/de/lueneburg/streaming/detail/Event/e_1011
 03109/tanzwelten-3-down-to-the-wire
END:VEVENT
BEGIN:VEVENT
CATEGORIES:Tanzvorführung
DESCRIPTION:Eine Veranstaltung der Reihe Tanzwelten 3 - Theater Lüneburg\nT
 anzwelten 3 - Theater Lüneburg\n\nmehr Informationen unter http://pages.de
 stination.one/de/lueneburg/streaming/detail/Event/e_101103109/tanzwelten-3
 -down-to-the-wire
DTEND;TZID=Europe/Berlin:20260321T235900
DTSTAMP:20260421T091104Z
DTSTART;TZID=Europe/Berlin:20260321T200000
GEO:53.244345;10.406649
LOCATION:Theater Lüneburg\, An den Reeperbahnen 3\, Lüneburg
SEQUENCE:0
SUMMARY:Tanzwelten 3 - "Down to the Wire"
UID:e_101103109_iv1
URL:http://pages.destination.one/de/lueneburg/streaming/detail/Event/e_1011
 03109/tanzwelten-3-down-to-the-wire
END:VEVENT
BEGIN:VEVENT
CATEGORIES:Tanzvorführung
DESCRIPTION:Eine Veranstaltung der Reihe Tanzwelten 3 - Theater Lüneburg\nT
 anzwelten 3 - Theater Lüneburg\n\nmehr Informationen unter http://pages.de
 stination.one/de/lueneburg/streaming/detail/Event/e_101103109/tanzwelten-3
 -down-to-the-wire
DTEND;TZID=Europe/Berlin:20260430T235900
DTSTAMP:20260421T091104Z
DTSTART;TZID=Europe/Berlin:20260430T200000
GEO:53.244345;10.406649
LOCATION:Theater Lüneburg\, An den Reeperbahnen 3\, Lüneburg
SEQUENCE:0
SUMMARY:Tanzwelten 3 - "Down to the Wire"
UID:e_101103109_iv2
URL:http://pages.destination.one/de/lueneburg/streaming/detail/Event/e_1011
 03109/tanzwelten-3-down-to-the-wire
END:VEVENT
BEGIN:VEVENT
CATEGORIES:Tanzvorführung
DESCRIPTION:Eine Veranstaltung der Reihe Tanzwelten 3 - Theater Lüneburg\nT
 anzwelten 3 - Theater Lüneburg\n\nmehr Informationen unter http://pages.de
 stination.one/de/lueneburg/streaming/detail/Event/e_101103109/tanzwelten-3
 -down-to-the-wire
DTEND;TZID=Europe/Berlin:20260503T235900
DTSTAMP:20260421T091104Z
DTSTART;TZID=Europe/Berlin:20260503T180000
GEO:53.244345;10.406649
LOCATION:Theater Lüneburg\, An den Reeperbahnen 3\, Lüneburg
SEQUENCE:0
SUMMARY:Tanzwelten 3 - "Down to the Wire"
UID:e_101103109_iv3
URL:http://pages.destination.one/de/lueneburg/streaming/detail/Event/e_1011
 03109/tanzwelten-3-down-to-the-wire
END:VEVENT
BEGIN:VEVENT
CATEGORIES:Tanzvorführung
DESCRIPTION:Eine Veranstaltung der Reihe Tanzwelten 3 - Theater Lüneburg\nT
 anzwelten 3 - Theater Lüneburg\n\nmehr Informationen unter http://pages.de
 stination.one/de/lueneburg/streaming/detail/Event/e_101103109/tanzwelten-3
 -down-to-the-wire
DTEND;TZID=Europe/Berlin:20260508T235900
DTSTAMP:20260421T091104Z
DTSTART;TZID=Europe/Berlin:20260508T200000
GEO:53.244345;10.406649
LOCATION:Theater Lüneburg\, An den Reeperbahnen 3\, Lüneburg
SEQUENCE:0
SUMMARY:Tanzwelten 3 - "Down to the Wire"
UID:e_101103109_iv4
URL:http://pages.destination.one/de/lueneburg/streaming/detail/Event/e_1011
 03109/tanzwelten-3-down-to-the-wire
END:VEVENT
BEGIN:VEVENT
CATEGORIES:Tanzvorführung
DESCRIPTION:Eine Veranstaltung der Reihe Tanzwelten 3 - Theater Lüneburg\nT
 anzwelten 3 - Theater Lüneburg\n\nmehr Informationen unter http://pages.de
 stination.one/de/lueneburg/streaming/detail/Event/e_101103109/tanzwelten-3
 -down-to-the-wire
DTEND;TZID=Europe/Berlin:20260520T235900
DTSTAMP:20260421T091104Z
DTSTART;TZID=Europe/Berlin:20260520T200000
GEO:53.244345;10.406649
LOCATION:Theater Lüneburg\, An den Reeperbahnen 3\, Lüneburg
SEQUENCE:0
SUMMARY:Tanzwelten 3 - "Down to the Wire"
UID:e_101103109_iv5
URL:http://pages.destination.one/de/lueneburg/streaming/detail/Event/e_1011
 03109/tanzwelten-3-down-to-the-wire
END:VEVENT
BEGIN:VEVENT
CATEGORIES:Tanzvorführung
DESCRIPTION:Eine Veranstaltung der Reihe Tanzwelten 3 - Theater Lüneburg\nT
 anzwelten 3 - Theater Lüneburg\n\nmehr Informationen unter http://pages.de
 stination.one/de/lueneburg/streaming/detail/Event/e_101103109/tanzwelten-3
 -down-to-the-wire
DTEND;TZID=Europe/Berlin:20260626T235900
DTSTAMP:20260421T091104Z
DTSTART;TZID=Europe/Berlin:20260626T200000
GEO:53.244345;10.406649
LOCATION:Theater Lüneburg\, An den Reeperbahnen 3\, Lüneburg
SEQUENCE:0
SUMMARY:Tanzwelten 3 - "Down to the Wire"
UID:e_101103109_iv6
URL:http://pages.destination.one/de/lueneburg/streaming/detail/Event/e_1011
 03109/tanzwelten-3-down-to-the-wire
END:VEVENT
BEGIN:VTIMEZONE
TZID:Europe/Berlin
X-LIC-LOCATION:Europe/Berlin
BEGIN:DAYLIGHT
DTSTART:19700329T020000
RRULE:FREQ=YEARLY;BYDAY=-1SU;BYMONTH=3
TZNAME:CEST
TZOFFSETFROM:+0100
TZOFFSETTO:+0200
END:DAYLIGHT
BEGIN:STANDARD
DTSTART:19701025T030000
RRULE:FREQ=YEARLY;BYDAY=-1SU;BYMONTH=10
TZNAME:CET
TZOFFSETFROM:+0200
TZOFFSETTO:+0100
END:STANDARD
END:VTIMEZONE
END:VCALENDAR
