BEGIN:VCALENDAR
VERSION:2.0
PRODID:-//destination.one//NONSGML destination.meta API//DE
X-WR-CALDESC:A calendar powered by destination.meta
X-WR-CALNAME:lueneburg Kalender via destination.meta
BEGIN:VEVENT
CATEGORIES:Tanzvorführung
DESCRIPTION:Eine Veranstaltung der Reihe Und fiel in einen tiefen Schlaf - 
 Theater Lüneburg\nUnd fiel in einen tiefen Schlaf - Theater Lüneburg\n\nme
 hr Informationen unter http://pages.destination.one/de/lueneburg/streaming
 /detail/Event/e_101103129/und-fiel-in-einen-tiefen-schlaf
DTEND;TZID=Europe/Berlin:20260124T235900
DTSTAMP:20260421T091223Z
DTSTART;TZID=Europe/Berlin:20260124T200000
GEO:53.244345;10.406649
LOCATION:Theater Lüneburg\, An den Reeperbahnen 3\, Lüneburg
SEQUENCE:0
SUMMARY:Und fiel in einen tiefen Schlaf
UID:e_101103129_iv0
URL:http://pages.destination.one/de/lueneburg/streaming/detail/Event/e_1011
 03129/und-fiel-in-einen-tiefen-schlaf
END:VEVENT
BEGIN:VEVENT
CATEGORIES:Tanzvorführung
DESCRIPTION:Eine Veranstaltung der Reihe Und fiel in einen tiefen Schlaf - 
 Theater Lüneburg\nUnd fiel in einen tiefen Schlaf - Theater Lüneburg\n\nme
 hr Informationen unter http://pages.destination.one/de/lueneburg/streaming
 /detail/Event/e_101103129/und-fiel-in-einen-tiefen-schlaf
DTEND;TZID=Europe/Berlin:20260131T235900
DTSTAMP:20260421T091223Z
DTSTART;TZID=Europe/Berlin:20260131T200000
GEO:53.244345;10.406649
LOCATION:Theater Lüneburg\, An den Reeperbahnen 3\, Lüneburg
SEQUENCE:0
SUMMARY:Und fiel in einen tiefen Schlaf
UID:e_101103129_iv1
URL:http://pages.destination.one/de/lueneburg/streaming/detail/Event/e_1011
 03129/und-fiel-in-einen-tiefen-schlaf
END:VEVENT
BEGIN:VEVENT
CATEGORIES:Tanzvorführung
DESCRIPTION:Eine Veranstaltung der Reihe Und fiel in einen tiefen Schlaf - 
 Theater Lüneburg\nUnd fiel in einen tiefen Schlaf - Theater Lüneburg\n\nme
 hr Informationen unter http://pages.destination.one/de/lueneburg/streaming
 /detail/Event/e_101103129/und-fiel-in-einen-tiefen-schlaf
DTEND;TZID=Europe/Berlin:20260206T235900
DTSTAMP:20260421T091223Z
DTSTART;TZID=Europe/Berlin:20260206T200000
GEO:53.244345;10.406649
LOCATION:Theater Lüneburg\, An den Reeperbahnen 3\, Lüneburg
SEQUENCE:0
SUMMARY:Und fiel in einen tiefen Schlaf
UID:e_101103129_iv2
URL:http://pages.destination.one/de/lueneburg/streaming/detail/Event/e_1011
 03129/und-fiel-in-einen-tiefen-schlaf
END:VEVENT
BEGIN:VEVENT
CATEGORIES:Tanzvorführung
DESCRIPTION:Eine Veranstaltung der Reihe Und fiel in einen tiefen Schlaf - 
 Theater Lüneburg\nUnd fiel in einen tiefen Schlaf - Theater Lüneburg\n\nme
 hr Informationen unter http://pages.destination.one/de/lueneburg/streaming
 /detail/Event/e_101103129/und-fiel-in-einen-tiefen-schlaf
DTEND;TZID=Europe/Berlin:20260208T235900
DTSTAMP:20260421T091223Z
DTSTART;TZID=Europe/Berlin:20260208T180000
GEO:53.244345;10.406649
LOCATION:Theater Lüneburg\, An den Reeperbahnen 3\, Lüneburg
SEQUENCE:0
SUMMARY:Und fiel in einen tiefen Schlaf
UID:e_101103129_iv3
URL:http://pages.destination.one/de/lueneburg/streaming/detail/Event/e_1011
 03129/und-fiel-in-einen-tiefen-schlaf
END:VEVENT
BEGIN:VEVENT
CATEGORIES:Tanzvorführung
DESCRIPTION:Eine Veranstaltung der Reihe Und fiel in einen tiefen Schlaf - 
 Theater Lüneburg\nUnd fiel in einen tiefen Schlaf - Theater Lüneburg\n\nme
 hr Informationen unter http://pages.destination.one/de/lueneburg/streaming
 /detail/Event/e_101103129/und-fiel-in-einen-tiefen-schlaf
DTEND;TZID=Europe/Berlin:20260211T235900
DTSTAMP:20260421T091223Z
DTSTART;TZID=Europe/Berlin:20260211T200000
GEO:53.244345;10.406649
LOCATION:Theater Lüneburg\, An den Reeperbahnen 3\, Lüneburg
SEQUENCE:0
SUMMARY:Und fiel in einen tiefen Schlaf
UID:e_101103129_iv4
URL:http://pages.destination.one/de/lueneburg/streaming/detail/Event/e_1011
 03129/und-fiel-in-einen-tiefen-schlaf
END:VEVENT
BEGIN:VEVENT
CATEGORIES:Tanzvorführung
DESCRIPTION:Eine Veranstaltung der Reihe Und fiel in einen tiefen Schlaf - 
 Theater Lüneburg\nUnd fiel in einen tiefen Schlaf - Theater Lüneburg\n\nme
 hr Informationen unter http://pages.destination.one/de/lueneburg/streaming
 /detail/Event/e_101103129/und-fiel-in-einen-tiefen-schlaf
DTEND;TZID=Europe/Berlin:20260215T235900
DTSTAMP:20260421T091223Z
DTSTART;TZID=Europe/Berlin:20260215T180000
GEO:53.244345;10.406649
LOCATION:Theater Lüneburg\, An den Reeperbahnen 3\, Lüneburg
SEQUENCE:0
SUMMARY:Und fiel in einen tiefen Schlaf
UID:e_101103129_iv5
URL:http://pages.destination.one/de/lueneburg/streaming/detail/Event/e_1011
 03129/und-fiel-in-einen-tiefen-schlaf
END:VEVENT
BEGIN:VEVENT
CATEGORIES:Tanzvorführung
DESCRIPTION:Eine Veranstaltung der Reihe Und fiel in einen tiefen Schlaf - 
 Theater Lüneburg\nUnd fiel in einen tiefen Schlaf - Theater Lüneburg\n\nme
 hr Informationen unter http://pages.destination.one/de/lueneburg/streaming
 /detail/Event/e_101103129/und-fiel-in-einen-tiefen-schlaf
DTEND;TZID=Europe/Berlin:20260222T235900
DTSTAMP:20260421T091223Z
DTSTART;TZID=Europe/Berlin:20260222T180000
GEO:53.244345;10.406649
LOCATION:Theater Lüneburg\, An den Reeperbahnen 3\, Lüneburg
SEQUENCE:0
SUMMARY:Und fiel in einen tiefen Schlaf
UID:e_101103129_iv6
URL:http://pages.destination.one/de/lueneburg/streaming/detail/Event/e_1011
 03129/und-fiel-in-einen-tiefen-schlaf
END:VEVENT
BEGIN:VEVENT
CATEGORIES:Tanzvorführung
DESCRIPTION:Eine Veranstaltung der Reihe Und fiel in einen tiefen Schlaf - 
 Theater Lüneburg\nUnd fiel in einen tiefen Schlaf - Theater Lüneburg\n\nme
 hr Informationen unter http://pages.destination.one/de/lueneburg/streaming
 /detail/Event/e_101103129/und-fiel-in-einen-tiefen-schlaf
DTEND;TZID=Europe/Berlin:20260306T235900
DTSTAMP:20260421T091223Z
DTSTART;TZID=Europe/Berlin:20260306T200000
GEO:53.244345;10.406649
LOCATION:Theater Lüneburg\, An den Reeperbahnen 3\, Lüneburg
SEQUENCE:0
SUMMARY:Und fiel in einen tiefen Schlaf
UID:e_101103129_iv7
URL:http://pages.destination.one/de/lueneburg/streaming/detail/Event/e_1011
 03129/und-fiel-in-einen-tiefen-schlaf
END:VEVENT
BEGIN:VEVENT
CATEGORIES:Tanzvorführung
DESCRIPTION:Eine Veranstaltung der Reihe Und fiel in einen tiefen Schlaf - 
 Theater Lüneburg\nUnd fiel in einen tiefen Schlaf - Theater Lüneburg\n\nme
 hr Informationen unter http://pages.destination.one/de/lueneburg/streaming
 /detail/Event/e_101103129/und-fiel-in-einen-tiefen-schlaf
DTEND;TZID=Europe/Berlin:20260410T235900
DTSTAMP:20260421T091223Z
DTSTART;TZID=Europe/Berlin:20260410T200000
GEO:53.244345;10.406649
LOCATION:Theater Lüneburg\, An den Reeperbahnen 3\, Lüneburg
SEQUENCE:0
SUMMARY:Und fiel in einen tiefen Schlaf
UID:e_101103129_iv8
URL:http://pages.destination.one/de/lueneburg/streaming/detail/Event/e_1011
 03129/und-fiel-in-einen-tiefen-schlaf
END:VEVENT
BEGIN:VEVENT
CATEGORIES:Tanzvorführung
DESCRIPTION:Eine Veranstaltung der Reihe Und fiel in einen tiefen Schlaf - 
 Theater Lüneburg\nUnd fiel in einen tiefen Schlaf - Theater Lüneburg\n\nme
 hr Informationen unter http://pages.destination.one/de/lueneburg/streaming
 /detail/Event/e_101103129/und-fiel-in-einen-tiefen-schlaf
DTEND;TZID=Europe/Berlin:20260416T235900
DTSTAMP:20260421T091223Z
DTSTART;TZID=Europe/Berlin:20260416T200000
GEO:53.244345;10.406649
LOCATION:Theater Lüneburg\, An den Reeperbahnen 3\, Lüneburg
SEQUENCE:0
SUMMARY:Und fiel in einen tiefen Schlaf
UID:e_101103129_iv9
URL:http://pages.destination.one/de/lueneburg/streaming/detail/Event/e_1011
 03129/und-fiel-in-einen-tiefen-schlaf
END:VEVENT
BEGIN:VTIMEZONE
TZID:Europe/Berlin
X-LIC-LOCATION:Europe/Berlin
BEGIN:DAYLIGHT
DTSTART:19700329T020000
RRULE:FREQ=YEARLY;BYDAY=-1SU;BYMONTH=3
TZNAME:CEST
TZOFFSETFROM:+0100
TZOFFSETTO:+0200
END:DAYLIGHT
BEGIN:STANDARD
DTSTART:19701025T030000
RRULE:FREQ=YEARLY;BYDAY=-1SU;BYMONTH=10
TZNAME:CET
TZOFFSETFROM:+0200
TZOFFSETTO:+0100
END:STANDARD
END:VTIMEZONE
END:VCALENDAR
