BEGIN:VCALENDAR
VERSION:2.0
PRODID:-//destination.one//NONSGML destination.meta API//DE
X-WR-CALDESC:A calendar powered by destination.meta
X-WR-CALNAME:lueneburg Kalender via destination.meta
BEGIN:VEVENT
CATEGORIES:Show sonstige
DESCRIPTION:Eine Veranstaltung der Reihe Klangtasia | Das Kinderfestival\nW
 illkommen bei Klangtasia\, dem Festival\, das Kinderträume wahr werden läs
 st! Einen ganzen Tag lang verwandelt sich das Gelände in ein farbenfrohes 
 Abenteuerland voller Musik\, Fantasie und Überraschungen. \n\n\nAuf der gr
 oßen Bühne erwarten euch Musiker wie Nilsen\, Zauberer\, Kinderhelden wie 
 Elsa und Highlights wie Jannik Freestyle\, die Kinderaugen zum Leuchten br
 ingen. In den Erlebniswelten können die Kleinen toben\, basteln\, hüpfen o
 der an Schatzsuchen teilnehmen. Hüpfburgen\, Kreativ-Workshops und spannen
 de Mitmachaktionen sorgen dafür\, dass es nie langweilig wird. \n\n\nDoch 
 Klangtasia ist mehr als nur ein Festival – es ist ein Ort\, an dem Kinder 
 die Hauptrolle spielen. Ein Tag ohne Hektik\, ohne Bildschirme\, dafür vol
 ler Lachen\, Staunen und gemeinsamer Momente. Während die Kinder neue Welt
 en entdecken\, können Eltern entspannen\, genießen und die Freude ihrer Ki
 nder erleben.\n\nmehr Informationen unter http://pages.destination.one/de/
 lueneburg/streaming/detail/Event/e_101104318/klangtasia-bardowick-2026
DTEND;TZID=Europe/Berlin:20260530T235900
DTSTAMP:20260420T084623Z
DTSTART;TZID=Europe/Berlin:20260530T100000
GEO:53.306300;10.403600
LOCATION:Schützenplatz Bardowick\, St. Dionyser Weg 2\, Bardowick
SEQUENCE:0
SUMMARY:Klangtasia Bardowick 2026
UID:e_101104318_iv0
URL:http://pages.destination.one/de/lueneburg/streaming/detail/Event/e_1011
 04318/klangtasia-bardowick-2026
END:VEVENT
BEGIN:VTIMEZONE
TZID:Europe/Berlin
X-LIC-LOCATION:Europe/Berlin
BEGIN:DAYLIGHT
DTSTART:19700329T020000
RRULE:FREQ=YEARLY;BYDAY=-1SU;BYMONTH=3
TZNAME:CEST
TZOFFSETFROM:+0100
TZOFFSETTO:+0200
END:DAYLIGHT
BEGIN:STANDARD
DTSTART:19701025T030000
RRULE:FREQ=YEARLY;BYDAY=-1SU;BYMONTH=10
TZNAME:CET
TZOFFSETFROM:+0200
TZOFFSETTO:+0100
END:STANDARD
END:VTIMEZONE
END:VCALENDAR
