BEGIN:VCALENDAR
VERSION:2.0
PRODID:-//destination.one//NONSGML destination.meta API//DE
X-WR-CALDESC:A calendar powered by destination.meta
X-WR-CALNAME:lueneburg Kalender via destination.meta
BEGIN:VEVENT
CATEGORIES:Comedy
DESCRIPTION:In „PolkaMania!“\, dem neuen Programm von Pawel Popolski geht w
 ieder „der Post ab durch der Decke!“. Von den rasenden Rhythmen der Cheavy
  Metal Polka (Chighway to Chell) bis zur chammercharten Electro-Polka (chi
 t me baby one more time) spannt Pawel den musikalischen Bogen „fur der jun
 ge und der alte Fans".\n\nNach dem Motto PSPS (Pawel sucht den Polkastar) 
 wird neben einem Schlagzeuger diesmal auch ein weibliches Gesangstalent au
 s dem Publikum „auf da Buhne gecholt“ um gemeinsam mit Pawel der nächste P
 olka Chit zu singen. Und natürlich wird mit dem gesamten Publikum wieder o
 rdentlich ein Wodka „in der Fritteuse geschnetzelt“.\n\nmehr Informationen
  unter http://pages.destination.one/de/lueneburg/streaming/detail/Event/e_
 101104773/pawel-popolski-polkamania
DTEND;TZID=Europe/Berlin:20260425T235900
DTSTAMP:20260420T111919Z
DTSTART;TZID=Europe/Berlin:20260425T200000
GEO:53.228442;10.404695
LOCATION:Leuphana Universität (Libeskind Auditorium)\, Universitätsallee 1\
 , Lüneburg
SEQUENCE:0
SUMMARY:Pawel Popolski - PolkaMania!
UID:e_101104773_iv0
URL:http://pages.destination.one/de/lueneburg/streaming/detail/Event/e_1011
 04773/pawel-popolski-polkamania
END:VEVENT
BEGIN:VTIMEZONE
TZID:Europe/Berlin
X-LIC-LOCATION:Europe/Berlin
BEGIN:DAYLIGHT
DTSTART:19700329T020000
RRULE:FREQ=YEARLY;BYDAY=-1SU;BYMONTH=3
TZNAME:CEST
TZOFFSETFROM:+0100
TZOFFSETTO:+0200
END:DAYLIGHT
BEGIN:STANDARD
DTSTART:19701025T030000
RRULE:FREQ=YEARLY;BYDAY=-1SU;BYMONTH=10
TZNAME:CET
TZOFFSETFROM:+0200
TZOFFSETTO:+0100
END:STANDARD
END:VTIMEZONE
END:VCALENDAR
