BEGIN:VCALENDAR
VERSION:2.0
PRODID:-//destination.one//NONSGML destination.meta API//DE
X-WR-CALDESC:A calendar powered by destination.meta
X-WR-CALNAME:lueneburg Kalender via destination.meta
BEGIN:VEVENT
CATEGORIES:Vortrag\, Diskussion\, Lesung sonstige
DESCRIPTION:Vortrag von Dr.-Ing. Karl-Heinz Rehbein / Lüneburg\nBald nach s
 einer Gründung 1209 entspinnt sich zwischen Welfen und Askaniern ein Dauer
 konflikt um den Flecken Bleckede. Dieser endet erst 1308 mit dem Rückkauf 
 der Terra Bleckede durch die Welfen. Jüngst publizierte Forschungsergebnis
 se ermöglichen hier einen frischen Blick auf diese für die Entwicklung des
  Fleckens Bleckede entscheidenden Jahre.\n\nmehr Informationen unter http:
 //pages.destination.one/de/lueneburg/streaming/detail/Event/e_101106711/di
 e-entwicklung-des-fleckens-bleckede-im-13-jahrhundert
DTEND;TZID=Europe/Berlin:20260415T200000
DTSTAMP:20260422T085424Z
DTSTART;TZID=Europe/Berlin:20260415T183000
GEO:53.247066;10.415862
LOCATION:Museum Lüneburg\, Willy-Brandt-Straße 1\, Lüneburg
SEQUENCE:0
SUMMARY:„Die Entwicklung des Fleckens Bleckede im 13. Jahrhundert“
UID:e_101106711_iv0
URL:http://pages.destination.one/de/lueneburg/streaming/detail/Event/e_1011
 06711/die-entwicklung-des-fleckens-bleckede-im-13-jahrhundert
END:VEVENT
BEGIN:VTIMEZONE
TZID:Europe/Berlin
X-LIC-LOCATION:Europe/Berlin
BEGIN:DAYLIGHT
DTSTART:19700329T020000
RRULE:FREQ=YEARLY;BYDAY=-1SU;BYMONTH=3
TZNAME:CEST
TZOFFSETFROM:+0100
TZOFFSETTO:+0200
END:DAYLIGHT
BEGIN:STANDARD
DTSTART:19701025T030000
RRULE:FREQ=YEARLY;BYDAY=-1SU;BYMONTH=10
TZNAME:CET
TZOFFSETFROM:+0200
TZOFFSETTO:+0100
END:STANDARD
END:VTIMEZONE
END:VCALENDAR
