BEGIN:VCALENDAR
VERSION:2.0
PRODID:-//destination.one//NONSGML destination.meta API//DE
X-WR-CALDESC:A calendar powered by destination.meta
X-WR-CALNAME:lueneburg Kalender via destination.meta
BEGIN:VEVENT
CATEGORIES:Comedy
DESCRIPTION:Eine Veranstaltung der Reihe Comedyflash - Die Stand Up Comedy 
 Show in Lüneburg\nLIVE Stand Up Comedy in Lüneburg!\n\nWir zeigen euch ein
 en Mix aus erfahrenen Profi-Comedians und den heißesten Newcomern der deut
 schen Comedy-Szene.\n\nComedyflash - bekannt aus TikTok und Instagram\, di
 e junge authentische Comedy-Show.\n\nEgal wer an diesem Abend auf der Bühn
 e steht - Euch erwartet absolut authentische Stand Up Comedy nach amerikan
 ischem Vorbild!Das Ticket muss nicht ausgedruckt werden und kann bis zu 24
  Stunden vor der Show erstattet werden.\n\nDas LineUp besteht nicht unbedi
 ngt aus den KünstlerInnen\, die auf dem Bild zu sehen sind.\n\nmehr Inform
 ationen unter http://pages.destination.one/de/lueneburg/streaming/detail/E
 vent/e_101112198/comedyflash-die-stand-up-comedy-show
DTEND;TZID=Europe/Berlin:20251219T235900
DTSTAMP:20260421T081215Z
DTSTART;TZID=Europe/Berlin:20251219T200000
GEO:53.240652;10.402079
LOCATION:Seminaris Hotel Lüneburg\, Soltauer Straße 3\, Lüneburg
SEQUENCE:0
SUMMARY:Comedyflash - Die Stand Up Comedy Show
UID:e_101112198_iv0
URL:http://pages.destination.one/de/lueneburg/streaming/detail/Event/e_1011
 12198/comedyflash-die-stand-up-comedy-show
END:VEVENT
BEGIN:VEVENT
CATEGORIES:Comedy
DESCRIPTION:Eine Veranstaltung der Reihe Comedyflash - Die Stand Up Comedy 
 Show in Lüneburg\nLIVE Stand Up Comedy in Lüneburg!\n\nWir zeigen euch ein
 en Mix aus erfahrenen Profi-Comedians und den heißesten Newcomern der deut
 schen Comedy-Szene.\n\nComedyflash - bekannt aus TikTok und Instagram\, di
 e junge authentische Comedy-Show.\n\nEgal wer an diesem Abend auf der Bühn
 e steht - Euch erwartet absolut authentische Stand Up Comedy nach amerikan
 ischem Vorbild!Das Ticket muss nicht ausgedruckt werden und kann bis zu 24
  Stunden vor der Show erstattet werden.\n\nDas LineUp besteht nicht unbedi
 ngt aus den KünstlerInnen\, die auf dem Bild zu sehen sind.\n\nmehr Inform
 ationen unter http://pages.destination.one/de/lueneburg/streaming/detail/E
 vent/e_101112198/comedyflash-die-stand-up-comedy-show
DTEND;TZID=Europe/Berlin:20260124T235900
DTSTAMP:20260421T081215Z
DTSTART;TZID=Europe/Berlin:20260124T183000
GEO:53.240652;10.402079
LOCATION:Seminaris Hotel Lüneburg\, Soltauer Straße 3\, Lüneburg
SEQUENCE:0
SUMMARY:Comedyflash - Die Stand Up Comedy Show
UID:e_101112198_iv1
URL:http://pages.destination.one/de/lueneburg/streaming/detail/Event/e_1011
 12198/comedyflash-die-stand-up-comedy-show
END:VEVENT
BEGIN:VEVENT
CATEGORIES:Comedy
DESCRIPTION:Eine Veranstaltung der Reihe Comedyflash - Die Stand Up Comedy 
 Show in Lüneburg\nLIVE Stand Up Comedy in Lüneburg!\n\nWir zeigen euch ein
 en Mix aus erfahrenen Profi-Comedians und den heißesten Newcomern der deut
 schen Comedy-Szene.\n\nComedyflash - bekannt aus TikTok und Instagram\, di
 e junge authentische Comedy-Show.\n\nEgal wer an diesem Abend auf der Bühn
 e steht - Euch erwartet absolut authentische Stand Up Comedy nach amerikan
 ischem Vorbild!Das Ticket muss nicht ausgedruckt werden und kann bis zu 24
  Stunden vor der Show erstattet werden.\n\nDas LineUp besteht nicht unbedi
 ngt aus den KünstlerInnen\, die auf dem Bild zu sehen sind.\n\nmehr Inform
 ationen unter http://pages.destination.one/de/lueneburg/streaming/detail/E
 vent/e_101112198/comedyflash-die-stand-up-comedy-show
DTEND;TZID=Europe/Berlin:20260124T235900
DTSTAMP:20260421T081215Z
DTSTART;TZID=Europe/Berlin:20260124T210000
GEO:53.240652;10.402079
LOCATION:Seminaris Hotel Lüneburg\, Soltauer Straße 3\, Lüneburg
SEQUENCE:0
SUMMARY:Comedyflash - Die Stand Up Comedy Show
UID:e_101112198_iv2
URL:http://pages.destination.one/de/lueneburg/streaming/detail/Event/e_1011
 12198/comedyflash-die-stand-up-comedy-show
END:VEVENT
BEGIN:VEVENT
CATEGORIES:Comedy
DESCRIPTION:Eine Veranstaltung der Reihe Comedyflash - Die Stand Up Comedy 
 Show in Lüneburg\nLIVE Stand Up Comedy in Lüneburg!\n\nWir zeigen euch ein
 en Mix aus erfahrenen Profi-Comedians und den heißesten Newcomern der deut
 schen Comedy-Szene.\n\nComedyflash - bekannt aus TikTok und Instagram\, di
 e junge authentische Comedy-Show.\n\nEgal wer an diesem Abend auf der Bühn
 e steht - Euch erwartet absolut authentische Stand Up Comedy nach amerikan
 ischem Vorbild!Das Ticket muss nicht ausgedruckt werden und kann bis zu 24
  Stunden vor der Show erstattet werden.\n\nDas LineUp besteht nicht unbedi
 ngt aus den KünstlerInnen\, die auf dem Bild zu sehen sind.\n\nmehr Inform
 ationen unter http://pages.destination.one/de/lueneburg/streaming/detail/E
 vent/e_101112198/comedyflash-die-stand-up-comedy-show
DTEND;TZID=Europe/Berlin:20260221T235900
DTSTAMP:20260421T081215Z
DTSTART;TZID=Europe/Berlin:20260221T183000
GEO:53.240652;10.402079
LOCATION:Seminaris Hotel Lüneburg\, Soltauer Straße 3\, Lüneburg
SEQUENCE:0
SUMMARY:Comedyflash - Die Stand Up Comedy Show
UID:e_101112198_iv3
URL:http://pages.destination.one/de/lueneburg/streaming/detail/Event/e_1011
 12198/comedyflash-die-stand-up-comedy-show
END:VEVENT
BEGIN:VEVENT
CATEGORIES:Comedy
DESCRIPTION:Eine Veranstaltung der Reihe Comedyflash - Die Stand Up Comedy 
 Show in Lüneburg\nLIVE Stand Up Comedy in Lüneburg!\n\nWir zeigen euch ein
 en Mix aus erfahrenen Profi-Comedians und den heißesten Newcomern der deut
 schen Comedy-Szene.\n\nComedyflash - bekannt aus TikTok und Instagram\, di
 e junge authentische Comedy-Show.\n\nEgal wer an diesem Abend auf der Bühn
 e steht - Euch erwartet absolut authentische Stand Up Comedy nach amerikan
 ischem Vorbild!Das Ticket muss nicht ausgedruckt werden und kann bis zu 24
  Stunden vor der Show erstattet werden.\n\nDas LineUp besteht nicht unbedi
 ngt aus den KünstlerInnen\, die auf dem Bild zu sehen sind.\n\nmehr Inform
 ationen unter http://pages.destination.one/de/lueneburg/streaming/detail/E
 vent/e_101112198/comedyflash-die-stand-up-comedy-show
DTEND;TZID=Europe/Berlin:20260221T235900
DTSTAMP:20260421T081215Z
DTSTART;TZID=Europe/Berlin:20260221T210000
GEO:53.240652;10.402079
LOCATION:Seminaris Hotel Lüneburg\, Soltauer Straße 3\, Lüneburg
SEQUENCE:0
SUMMARY:Comedyflash - Die Stand Up Comedy Show
UID:e_101112198_iv4
URL:http://pages.destination.one/de/lueneburg/streaming/detail/Event/e_1011
 12198/comedyflash-die-stand-up-comedy-show
END:VEVENT
BEGIN:VEVENT
CATEGORIES:Comedy
DESCRIPTION:Eine Veranstaltung der Reihe Comedyflash - Die Stand Up Comedy 
 Show in Lüneburg\nLIVE Stand Up Comedy in Lüneburg!\n\nWir zeigen euch ein
 en Mix aus erfahrenen Profi-Comedians und den heißesten Newcomern der deut
 schen Comedy-Szene.\n\nComedyflash - bekannt aus TikTok und Instagram\, di
 e junge authentische Comedy-Show.\n\nEgal wer an diesem Abend auf der Bühn
 e steht - Euch erwartet absolut authentische Stand Up Comedy nach amerikan
 ischem Vorbild!Das Ticket muss nicht ausgedruckt werden und kann bis zu 24
  Stunden vor der Show erstattet werden.\n\nDas LineUp besteht nicht unbedi
 ngt aus den KünstlerInnen\, die auf dem Bild zu sehen sind.\n\nmehr Inform
 ationen unter http://pages.destination.one/de/lueneburg/streaming/detail/E
 vent/e_101112198/comedyflash-die-stand-up-comedy-show
DTEND;TZID=Europe/Berlin:20260321T235900
DTSTAMP:20260421T081215Z
DTSTART;TZID=Europe/Berlin:20260321T183000
GEO:53.240652;10.402079
LOCATION:Seminaris Hotel Lüneburg\, Soltauer Straße 3\, Lüneburg
SEQUENCE:0
SUMMARY:Comedyflash - Die Stand Up Comedy Show
UID:e_101112198_iv5
URL:http://pages.destination.one/de/lueneburg/streaming/detail/Event/e_1011
 12198/comedyflash-die-stand-up-comedy-show
END:VEVENT
BEGIN:VEVENT
CATEGORIES:Comedy
DESCRIPTION:Eine Veranstaltung der Reihe Comedyflash - Die Stand Up Comedy 
 Show in Lüneburg\nLIVE Stand Up Comedy in Lüneburg!\n\nWir zeigen euch ein
 en Mix aus erfahrenen Profi-Comedians und den heißesten Newcomern der deut
 schen Comedy-Szene.\n\nComedyflash - bekannt aus TikTok und Instagram\, di
 e junge authentische Comedy-Show.\n\nEgal wer an diesem Abend auf der Bühn
 e steht - Euch erwartet absolut authentische Stand Up Comedy nach amerikan
 ischem Vorbild!Das Ticket muss nicht ausgedruckt werden und kann bis zu 24
  Stunden vor der Show erstattet werden.\n\nDas LineUp besteht nicht unbedi
 ngt aus den KünstlerInnen\, die auf dem Bild zu sehen sind.\n\nmehr Inform
 ationen unter http://pages.destination.one/de/lueneburg/streaming/detail/E
 vent/e_101112198/comedyflash-die-stand-up-comedy-show
DTEND;TZID=Europe/Berlin:20260321T235900
DTSTAMP:20260421T081215Z
DTSTART;TZID=Europe/Berlin:20260321T210000
GEO:53.240652;10.402079
LOCATION:Seminaris Hotel Lüneburg\, Soltauer Straße 3\, Lüneburg
SEQUENCE:0
SUMMARY:Comedyflash - Die Stand Up Comedy Show
UID:e_101112198_iv6
URL:http://pages.destination.one/de/lueneburg/streaming/detail/Event/e_1011
 12198/comedyflash-die-stand-up-comedy-show
END:VEVENT
BEGIN:VEVENT
CATEGORIES:Comedy
DESCRIPTION:Eine Veranstaltung der Reihe Comedyflash - Die Stand Up Comedy 
 Show in Lüneburg\nLIVE Stand Up Comedy in Lüneburg!\n\nWir zeigen euch ein
 en Mix aus erfahrenen Profi-Comedians und den heißesten Newcomern der deut
 schen Comedy-Szene.\n\nComedyflash - bekannt aus TikTok und Instagram\, di
 e junge authentische Comedy-Show.\n\nEgal wer an diesem Abend auf der Bühn
 e steht - Euch erwartet absolut authentische Stand Up Comedy nach amerikan
 ischem Vorbild!Das Ticket muss nicht ausgedruckt werden und kann bis zu 24
  Stunden vor der Show erstattet werden.\n\nDas LineUp besteht nicht unbedi
 ngt aus den KünstlerInnen\, die auf dem Bild zu sehen sind.\n\nmehr Inform
 ationen unter http://pages.destination.one/de/lueneburg/streaming/detail/E
 vent/e_101112198/comedyflash-die-stand-up-comedy-show
DTEND;TZID=Europe/Berlin:20260418T235900
DTSTAMP:20260421T081215Z
DTSTART;TZID=Europe/Berlin:20260418T183000
GEO:53.240652;10.402079
LOCATION:Seminaris Hotel Lüneburg\, Soltauer Straße 3\, Lüneburg
SEQUENCE:0
SUMMARY:Comedyflash - Die Stand Up Comedy Show
UID:e_101112198_iv7
URL:http://pages.destination.one/de/lueneburg/streaming/detail/Event/e_1011
 12198/comedyflash-die-stand-up-comedy-show
END:VEVENT
BEGIN:VEVENT
CATEGORIES:Comedy
DESCRIPTION:Eine Veranstaltung der Reihe Comedyflash - Die Stand Up Comedy 
 Show in Lüneburg\nLIVE Stand Up Comedy in Lüneburg!\n\nWir zeigen euch ein
 en Mix aus erfahrenen Profi-Comedians und den heißesten Newcomern der deut
 schen Comedy-Szene.\n\nComedyflash - bekannt aus TikTok und Instagram\, di
 e junge authentische Comedy-Show.\n\nEgal wer an diesem Abend auf der Bühn
 e steht - Euch erwartet absolut authentische Stand Up Comedy nach amerikan
 ischem Vorbild!Das Ticket muss nicht ausgedruckt werden und kann bis zu 24
  Stunden vor der Show erstattet werden.\n\nDas LineUp besteht nicht unbedi
 ngt aus den KünstlerInnen\, die auf dem Bild zu sehen sind.\n\nmehr Inform
 ationen unter http://pages.destination.one/de/lueneburg/streaming/detail/E
 vent/e_101112198/comedyflash-die-stand-up-comedy-show
DTEND;TZID=Europe/Berlin:20260418T235900
DTSTAMP:20260421T081215Z
DTSTART;TZID=Europe/Berlin:20260418T210000
GEO:53.240652;10.402079
LOCATION:Seminaris Hotel Lüneburg\, Soltauer Straße 3\, Lüneburg
SEQUENCE:0
SUMMARY:Comedyflash - Die Stand Up Comedy Show
UID:e_101112198_iv8
URL:http://pages.destination.one/de/lueneburg/streaming/detail/Event/e_1011
 12198/comedyflash-die-stand-up-comedy-show
END:VEVENT
BEGIN:VTIMEZONE
TZID:Europe/Berlin
X-LIC-LOCATION:Europe/Berlin
BEGIN:DAYLIGHT
DTSTART:19700329T020000
RRULE:FREQ=YEARLY;BYDAY=-1SU;BYMONTH=3
TZNAME:CEST
TZOFFSETFROM:+0100
TZOFFSETTO:+0200
END:DAYLIGHT
BEGIN:STANDARD
DTSTART:19701025T030000
RRULE:FREQ=YEARLY;BYDAY=-1SU;BYMONTH=10
TZNAME:CET
TZOFFSETFROM:+0200
TZOFFSETTO:+0100
END:STANDARD
END:VTIMEZONE
END:VCALENDAR
