BEGIN:VCALENDAR
VERSION:2.0
PRODID:-//destination.one//NONSGML destination.meta API//DE
X-WR-CALDESC:A calendar powered by destination.meta
X-WR-CALNAME:lueneburg Kalender via destination.meta
BEGIN:VEVENT
CATEGORIES:Musik sonstige
CATEGORIES:Konzert
DESCRIPTION:Der Liebe zuliebe – ein literarisch–musikalischer Abend mit dem
  Konstantin Wecker Trio - Mal streitbar\, mal besinnlich\, mal sanft – imm
 er leidenschaftlich: So kennt und liebt das Publikum den Poeten und Musike
 r Konstantin Wecker. Er ist nicht nur ein begnadeter Liedermacher\, sonder
 n auch eine wichtige Stimme einer ganzen Generation. Ein unbeugsamer Mahne
 r und Kämpfer gegen Krieg und Faschismus. Mit seinen Liedern und Texten tr
 itt er seit vielen Jahrzehnten ein für Gerechtigkeit und Frieden und ein a
 chtsameres\, liebevolleres Miteinander. \nMit seinem neuen Buch Der Liebe 
 zuliebe (bene! / Droemer Knaur) – zieht Konstantin Wecker die Bilanz seine
 s Lebens. \nDer Liebe zuliebe – ein Buch über eine lebenslange Suche: nach
  Sinn\, nach dem „mehr als alles“\, nach dem großen Geheimnis\, nach Liebe
 \, nach Wegen zum inneren und äußeren Frieden. Die Liebe ist für Wecker de
 r Schlüssel dafür\, dass das Leben gelingen kann. Und dass die Welt eine a
 ndere\, eine bessere wird. \nKonstantin Wecker klammert in seinem neuen Bu
 ch auch die düsteren Zeiten nicht aus: Depression\, Schwermut\, Alkoholsuc
 ht\, Drogenrausch\, zahlreiche Abstürze\, Wahnvorstellungen\, Wut\, Trauri
 gkeit. Er schreibt über eine jahrzehntelange Suche und eine Wende am Abgru
 nd. \nEin bewegendes Buch aus der Feder eines der größten Songpoeten unser
 er Zeit\, der zehntausenden von Fans immer wieder Mut macht\, an das Gute 
 zu glauben und für das Gute einzutreten. \nMit seinem neuen Bühnenprogramm
  wird Konstantin Wecker gemeinsam mit Jo Barnikel (Flügel\, Keyboard) und 
 Fany Kammerlander (Cello) sein neues Buch auf spannende Weise mit seinem m
 usikalischen Werk verknüpfen und Der Liebe zuliebe zu einem einzigartigen 
 Erlebnis machen\; voller Musik\, Poesie\, Mystik – und Liebe.\n\nmehr Info
 rmationen unter http://pages.destination.one/de/lueneburg/streaming/detail
 /Event/e_101112208/konstantin-wecker-der-liebe-zuliebe
DTEND;TZID=Europe/Berlin:20260819T235900
DTSTAMP:20260421T091103Z
DTSTART;TZID=Europe/Berlin:20260819T193000
GEO:53.235894;10.404391
LOCATION:Café im Kurpark Lüneburg\, Uelzener Straße 45\, Lüneburg
SEQUENCE:0
SUMMARY:Konstantin Wecker - Der Liebe zuliebe
UID:e_101112208_iv0
URL:http://pages.destination.one/de/lueneburg/streaming/detail/Event/e_1011
 12208/konstantin-wecker-der-liebe-zuliebe
END:VEVENT
BEGIN:VTIMEZONE
TZID:Europe/Berlin
X-LIC-LOCATION:Europe/Berlin
BEGIN:DAYLIGHT
DTSTART:19700329T020000
RRULE:FREQ=YEARLY;BYDAY=-1SU;BYMONTH=3
TZNAME:CEST
TZOFFSETFROM:+0100
TZOFFSETTO:+0200
END:DAYLIGHT
BEGIN:STANDARD
DTSTART:19701025T030000
RRULE:FREQ=YEARLY;BYDAY=-1SU;BYMONTH=10
TZNAME:CET
TZOFFSETFROM:+0200
TZOFFSETTO:+0100
END:STANDARD
END:VTIMEZONE
END:VCALENDAR
