BEGIN:VCALENDAR
VERSION:2.0
PRODID:-//destination.one//NONSGML destination.meta API//DE
X-WR-CALDESC:A calendar powered by destination.meta
X-WR-CALNAME:lueneburg Kalender via destination.meta
BEGIN:VEVENT
CATEGORIES:Musik sonstige
CATEGORIES:Konzert
DESCRIPTION:Michy Reincke\nAls Verfechter ungehemmter Daseinsfreude sind Mi
 chy Reincke und seine unübertrefflich aufspielenden Musiker Garanten dafür
 \, die Lebensgeister ihres Publikums zu wecken.\n\nAbgesehen von der hohen
  musikalischen Qualität\, wirken kluger Humor\, Gelassenheit und erhellend
 e und leidenschaftliche Textbeiträge als zuverlässige Parameter für bleibe
 nde Erlebnisse erfrischender Unterhaltung. \n\nMichy Reincke Konzert-Abend
 e sind eine umfassende Erinnerung an das reine Vergnügen am Leben zu sein.
  Die Mission der Künstler ist offensichtlich. Sie wollen mit ihrem Vortrag
  ein Publikum auf andere Gedanken bringen\, aufmuntern und inspirieren\, b
 is die Menschen vor Freude in den Sitzen schaukeln oder beginnen zu Singen
  und zu Tanzen. \n\nEin wirkliches Vergnügen erleben. „Das reinste Vergnüg
 en“ eben.\n\nAußerdem werden Song-Klassiker\, wie u.a. „Taxi nach Paris“\,
  „Nächte übers Eis“ und „Valérie\, Valérie“\, gemeinsam mit dem Publikum z
 elebriert.\n\nWer nach einer Möglichkeit zur Stärkung seiner Sinne sucht i
 st hier goldrichtig! \n\nUnd man sollte nie eine Freude aufschieben...\n\n
 mehr Informationen unter http://pages.destination.one/de/lueneburg/streami
 ng/detail/Event/e_101117974/michy-reincke-das-reinste-vergn-gen
DTEND;TZID=Europe/Berlin:20260509T223000
DTSTAMP:20260421T091404Z
DTSTART;TZID=Europe/Berlin:20260509T200000
GEO:53.262840;10.371900
LOCATION:Kulturforum Lüneburg\, Gut Wienebüttel 1\, Lüneburg
SEQUENCE:0
SUMMARY:Michy Reincke - "Das reinste Vergnügen"
UID:e_101117974_iv0
URL:http://pages.destination.one/de/lueneburg/streaming/detail/Event/e_1011
 17974/michy-reincke-das-reinste-vergn-gen
END:VEVENT
BEGIN:VTIMEZONE
TZID:Europe/Berlin
X-LIC-LOCATION:Europe/Berlin
BEGIN:DAYLIGHT
DTSTART:19700329T020000
RRULE:FREQ=YEARLY;BYDAY=-1SU;BYMONTH=3
TZNAME:CEST
TZOFFSETFROM:+0100
TZOFFSETTO:+0200
END:DAYLIGHT
BEGIN:STANDARD
DTSTART:19701025T030000
RRULE:FREQ=YEARLY;BYDAY=-1SU;BYMONTH=10
TZNAME:CET
TZOFFSETFROM:+0200
TZOFFSETTO:+0100
END:STANDARD
END:VTIMEZONE
END:VCALENDAR
