BEGIN:VCALENDAR
VERSION:2.0
PRODID:-//destination.one//NONSGML destination.meta API//DE
X-WR-CALDESC:A calendar powered by destination.meta
X-WR-CALNAME:lueneburg Kalender via destination.meta
BEGIN:VEVENT
CATEGORIES:Comedy
DESCRIPTION:DER PHYSIOPATH - Machen Sie sich bitte frei!\n\nmehr Informatio
 nen unter http://pages.destination.one/de/lueneburg/streaming/detail/Event
 /e_101120636/der-physiopath-machen-sie-sich-bitte-frei
DTEND;TZID=Europe/Berlin:20261003T235900
DTSTAMP:20260421T075943Z
DTSTART;TZID=Europe/Berlin:20261003T200000
GEO:53.262840;10.371900
LOCATION:Kulturforum Lüneburg\, Gut Wienebüttel 1\, Lüneburg
SEQUENCE:0
SUMMARY:DER PHYSIOPATH - Machen Sie sich bitte frei!
UID:e_101120636_iv0
URL:http://pages.destination.one/de/lueneburg/streaming/detail/Event/e_1011
 20636/der-physiopath-machen-sie-sich-bitte-frei
END:VEVENT
BEGIN:VTIMEZONE
TZID:Europe/Berlin
X-LIC-LOCATION:Europe/Berlin
BEGIN:DAYLIGHT
DTSTART:19700329T020000
RRULE:FREQ=YEARLY;BYDAY=-1SU;BYMONTH=3
TZNAME:CEST
TZOFFSETFROM:+0100
TZOFFSETTO:+0200
END:DAYLIGHT
BEGIN:STANDARD
DTSTART:19701025T030000
RRULE:FREQ=YEARLY;BYDAY=-1SU;BYMONTH=10
TZNAME:CET
TZOFFSETFROM:+0200
TZOFFSETTO:+0100
END:STANDARD
END:VTIMEZONE
END:VCALENDAR
