BEGIN:VCALENDAR
VERSION:2.0
PRODID:-//destination.one//NONSGML destination.meta API//DE
X-WR-CALDESC:A calendar powered by destination.meta
X-WR-CALNAME:lueneburg Kalender via destination.meta
BEGIN:VEVENT
CATEGORIES:Comedy
DESCRIPTION:Eine Veranstaltung der Reihe Laura Brümmer\nPressetext - Laura 
 Brümmer „Hochgestapelt“\n\nEndlich! Seit ihrem zehnten Lebensjahr steht La
 ura Brümmer auf der Bühne und nimmt Anlauf für genau diesen Moment: Ihre e
 rste eigene Solo Tour! Das (TV)-Publikum kennt und liebt ihren Humor längs
 t aus Live-Shows und Sendungen wie der »WDR Ladies Night«\, der »Quatsch C
 omedy Show«\, »NightWash TV« oder »Genial Daneben«. Doch obwohl sie seit z
 wanzig Jahren auf den Comedy- und Musicalbühne Deutschlands steht\, hält s
 ie sich nach wie vor für eine Hochstaplerin. Aber jetzt ist mal Schluss da
 mit! Ab sofort wird tiefgestapelt. ?? Laura gelingt der besondere & humorv
 olle Blick auf die Dinge. Dabei spricht sie über die Tücken des Erwachsenw
 erdens und davon\, dass man auch mit 30 noch Torte zum Frühstück essen kan
 n — und es manchmal einfach tut. Clever\, mit viel Leichtigkeit und einer 
 Menge Witz lässt Laura uns den Alltag einen Moment lang vergessen. \n\n»Ho
 chgestapelt« ist ein Abend voller Aha-Momente\, Optimismus und der Erkennt
 nis\, dass niemand so wirklich weiß\, was er eigentlich tut. Egal wie alt 
 man ist oder sich fühlt — hier gibt es was zu lachen! Ein bisschen hochsta
 peln schadet ja nicht. \n\nLaura\, eine erfahrene Musicaldarstellerin\, ha
 t nicht nur mit ihren Rollen in den beliebten Produktionen wie "Das Dschun
 gelbuch" und "Tarzan" die Bühnen Deutschlands und Österreichs erobert. Sei
 t 2020 ist sie als Comedian und Moderatorin in Formaten wie „Ladies Night“
 \, „Ladies Night Youngstars“\, „Quatsch Comedy Club“\, „Quatsch Comedy Sho
 w“\, „NightWash Live“ und dem „Stuttgarter Comedy Clash“ zu sehen und erob
 ert mit ihrem Humor seitdem wie wild die Herzen des Comedy-Publikums.\n\nm
 ehr Informationen unter http://pages.destination.one/de/lueneburg/streamin
 g/detail/Event/e_101122852/laura-br-mmer-hochgestapelt
DTEND;TZID=Europe/Berlin:20261017T235900
DTSTAMP:20260422T083916Z
DTSTART;TZID=Europe/Berlin:20261017T193000
GEO:53.247307;10.403698
LOCATION:Salon Hansen\, Salzstraße 1\, Lüneburg
SEQUENCE:0
SUMMARY:Laura Brümmer - Hochgestapelt
UID:e_101122852_iv0
URL:http://pages.destination.one/de/lueneburg/streaming/detail/Event/e_1011
 22852/laura-br-mmer-hochgestapelt
END:VEVENT
BEGIN:VTIMEZONE
TZID:Europe/Berlin
X-LIC-LOCATION:Europe/Berlin
BEGIN:DAYLIGHT
DTSTART:19700329T020000
RRULE:FREQ=YEARLY;BYDAY=-1SU;BYMONTH=3
TZNAME:CEST
TZOFFSETFROM:+0100
TZOFFSETTO:+0200
END:DAYLIGHT
BEGIN:STANDARD
DTSTART:19701025T030000
RRULE:FREQ=YEARLY;BYDAY=-1SU;BYMONTH=10
TZNAME:CET
TZOFFSETFROM:+0200
TZOFFSETTO:+0100
END:STANDARD
END:VTIMEZONE
END:VCALENDAR
