BEGIN:VCALENDAR
VERSION:2.0
PRODID:-//destination.one//NONSGML destination.meta API//DE
X-WR-CALDESC:A calendar powered by destination.meta
X-WR-CALNAME:lueneburg Kalender via destination.meta
BEGIN:VEVENT
CATEGORIES:Kabarett
DESCRIPTION:Vince Ebert\nEs gibt sie noch\, die guten Nachrichten: Kürzlich
  hat ein Mitglied der Letzten Generation ein Kind bekommen. In Berlin gibt
  es einen Senatsbeschluss\, nach dem neue Straßen nur nach weiblichen Pers
 onen benannt werden dürfen. Sackgassen inbegriffen. Eine neue Studie des W
 irtschaftsministeriums zeigt\, dass Solarparks auch nachts genügend Strom 
 liefern können\, wenn man die Anlagen unter Flutlicht betreibt. Technisch 
 wäre das heute schon möglich. Aber die großen Konzerne verhindern das leid
 er.\n\nDer Wissenschaftskabarettist und Physiker Vince Ebert zieht Bilanz:
  Sind wir in den letzten Jahren rationaler\, besonnener oder gar klüger ge
 worden? Spoiler Alarm: Nein\, sind wir nicht. Nur 18 % der Bevölkerung tra
 gen einen Fahrradhelm\, aber 91 % nutzen eine Schutzhülle für ihr Handy.\n
 \nWenn die Realität immer mehr zur Satire wird\, wenn Regierungserklärunge
 n praktisch nicht mehr von Postillon-Artikeln unterscheidbar sind – wie bi
 tte soll man das als Satiriker noch toppen?\n\nDoch Vince Ebert gibt nicht
  auf. Nach außen mag er ein alter weißer Mann sein. Doch das ist nur ein s
 oziales Konstrukt. In „Vince of Change“ identifiziert er sich als 32-jähri
 ger braungebrannter Surflehrer aus Kalifornien und spricht damit vollkomme
 n neue Zielgruppen an. Denn seine Mission betrifft uns alle: In einer Epoc
 he\, die immer mehr durch Gefühle\, Befindlichkeiten und Irrationalitäten 
 zu versinken droht\, hält er trotzig die Fahne der Vernunft hoch. Und auße
 rdem braucht er das Geld.\n\nÜber Vince Ebert\n\nVince Ebert (*1968) arbei
 tete nach seinem Physikstudium zunächst als Unternehmensberater und in der
  Markt- und Trendforschung. 1998 begann er parallel seine Karriere als Kab
 arettist. Sein Anliegen: die Vermittlung von natur- und gesellschaftswisse
 nschaftlichen Zusammenhängen mit den Gesetzen des Humors. Vince Eberts Büh
 nenprogramme „Physik ist sexy“ (2004)\, „Denken lohnt sich“ (2007)\, „Frei
 heit ist alles“ (2010)\, „Evolution“ (2013)\, „Zukunft is the Future“ (201
 6) und „Make Science Great Again“ (2019) machten ihn als Wissenschaftskaba
 rettisten bekannt\, der mit Wortwitz und Komik sowohl Laien als auch wisse
 nschaftliches Fachpublikum unterhält. Ab 2024 tourt er mit seinem neuen Pr
 ogramm „Vince of Change“ durch Deutschland\, Österreich und die Schweiz.\n
 \nNach 20 Jahren auf Deutsch gibt es Vince Ebert seit 2017 auch in englisc
 her Sprache: Mit seiner Show "Sexy Science. Serious Humor – Made in German
 y" begeisterte er das Publikum in den Comedy Clubs in UK\, auf dem Fringe 
 Festival in Edinburgh 2018 sowie mehrfach im English Theatre Frankfurt. Zu
 dem tourte er zwischen 2019 und 2020 für ein Jahr in den USA und trat dort
  u.a. in den renommierten Häusern Kennedy Center Washington und SoHo Playh
 ouse New York auf.\n\nFür die ARD war Vince Ebert jahrelang kurz vor der T
 agesschau in „Wissen vor acht – Werkstatt“ den großen und kleinen Phänomen
 en des Alltags auf der Spur. Seine zahlreichen Bücher landen regelmäßig au
 f den Bestseller-Listen\, darunter „Denken Sie selbst! Sonst tun es andere
  für Sie“ und „Unberechenbar“ sowie auch der 2022 erschienene Ratgeber zum
  Weltverbessern: „Lichtblick statt Blackout“.\n\nmehr Informationen unter 
 http://pages.destination.one/de/lueneburg/streaming/detail/Event/e_1011228
 69/vince-ebert-vince-of-change
DTEND;TZID=Europe/Berlin:20261023T223000
DTSTAMP:20260420T135155Z
DTSTART;TZID=Europe/Berlin:20261023T200000
GEO:53.262840;10.371900
LOCATION:Kulturforum Lüneburg\, Gut Wienebüttel 1\, Lüneburg
SEQUENCE:0
SUMMARY:Vince Ebert - „Vince of Change“
UID:e_101122869_iv0
URL:http://pages.destination.one/de/lueneburg/streaming/detail/Event/e_1011
 22869/vince-ebert-vince-of-change
END:VEVENT
BEGIN:VTIMEZONE
TZID:Europe/Berlin
X-LIC-LOCATION:Europe/Berlin
BEGIN:DAYLIGHT
DTSTART:19700329T020000
RRULE:FREQ=YEARLY;BYDAY=-1SU;BYMONTH=3
TZNAME:CEST
TZOFFSETFROM:+0100
TZOFFSETTO:+0200
END:DAYLIGHT
BEGIN:STANDARD
DTSTART:19701025T030000
RRULE:FREQ=YEARLY;BYDAY=-1SU;BYMONTH=10
TZNAME:CET
TZOFFSETFROM:+0200
TZOFFSETTO:+0100
END:STANDARD
END:VTIMEZONE
END:VCALENDAR
