BEGIN:VCALENDAR
VERSION:2.0
PRODID:-//destination.one//NONSGML destination.meta API//DE
X-WR-CALDESC:A calendar powered by destination.meta
X-WR-CALNAME:lueneburg Kalender via destination.meta
BEGIN:VEVENT
CATEGORIES:Musik sonstige
CATEGORIES:Konzert
DESCRIPTION:Wildes Holz\nWildes Holz lädt zur Block Party! Ihr neues Progra
 mm feiert die Musik\, das Leben\, die Vielfalt\, die Eigenheiten\, die sel
 tsamen Angewohnheiten\, die schrulligen Ticks\, den Holzrock\, die Blockfl
 öte. Ja\, die Blockflöte\, das Party-Instrument par excellence\, ein Muss 
 für jeden Partygänger!\nSchon seit über 25 Jahren zeigen die drei Wilden\,
  wo der Holz-Hammer hängt. Kraftvolle akustische Musik gepaart mit beiläuf
 igem Witz und Selbstironie ist ihr Markenzeichen. Dabei überrascht immer w
 ieder\, was für atemberaubende Klänge sie aus ihren Instrumenten herauszuh
 olen vermögen - und was neben der Blockflöte eine akustische Gitarre und e
 in Kontrabass so alles aushalten können…\n\n\nFreut euch auf Party-Mucke a
 us vier Jahrhunderten\, dargeboten auf drei einfachen Holzinstrumenten mit
  dem schon legendären Wildes Holz-Furor!\n„Wildes Holz sind ein Synonym fü
 r beste Livemusik\, für eingefangene gute Laune und rotzige Spielfreude. D
 ie Band ist rhythmisch auf Zack\, spielt druckvoll von der Leber weg mit h
 inreißendem Drive."\, berichtet Der Windkanal.\n\n\nTobias Reisige - Block
 flöten\nJohannes Behr - Gitarre\nMarkus Conrads - Kontrabass\, Mandoline\n
 \nmehr Informationen unter http://pages.destination.one/de/lueneburg/strea
 ming/detail/Event/e_101122872/wildes-holz-block-party
DTEND;TZID=Europe/Berlin:20261011T193000
DTSTAMP:20260423T093609Z
DTSTART;TZID=Europe/Berlin:20261011T170000
GEO:53.262840;10.371900
LOCATION:Kulturforum Lüneburg\, Gut Wienebüttel 1\, Lüneburg
SEQUENCE:0
SUMMARY:Wildes Holz - „Block Party“
UID:e_101122872_iv0
URL:http://pages.destination.one/de/lueneburg/streaming/detail/Event/e_1011
 22872/wildes-holz-block-party
END:VEVENT
BEGIN:VTIMEZONE
TZID:Europe/Berlin
X-LIC-LOCATION:Europe/Berlin
BEGIN:DAYLIGHT
DTSTART:19700329T020000
RRULE:FREQ=YEARLY;BYDAY=-1SU;BYMONTH=3
TZNAME:CEST
TZOFFSETFROM:+0100
TZOFFSETTO:+0200
END:DAYLIGHT
BEGIN:STANDARD
DTSTART:19701025T030000
RRULE:FREQ=YEARLY;BYDAY=-1SU;BYMONTH=10
TZNAME:CET
TZOFFSETFROM:+0200
TZOFFSETTO:+0100
END:STANDARD
END:VTIMEZONE
END:VCALENDAR
