BEGIN:VCALENDAR
VERSION:2.0
PRODID:-//destination.one//NONSGML destination.meta API//DE
X-WR-CALDESC:A calendar powered by destination.meta
X-WR-CALNAME:lueneburg Kalender via destination.meta
BEGIN:VEVENT
CATEGORIES:Musical
DESCRIPTION:Eine Veranstaltung der Reihe Thorsten Havener - Alles Kopfsache
 ?\nThorsten Havener - Alles Kopfsache?\n\nmehr Informationen unter http://
 pages.destination.one/de/lueneburg/streaming/detail/Event/e_101125914/thor
 sten-havener-alles-kofsache
DTEND;TZID=Europe/Berlin:20261121T235900
DTSTAMP:20260421T080121Z
DTSTART;TZID=Europe/Berlin:20261121T200000
GEO:53.262840;10.371900
LOCATION:Kulturforum Lüneburg\, Gut Wienebüttel 1\, Lüneburg
SEQUENCE:0
SUMMARY:Thorsten Havener - Alles Kofsache ?
UID:e_101125914_iv0
URL:http://pages.destination.one/de/lueneburg/streaming/detail/Event/e_1011
 25914/thorsten-havener-alles-kofsache
END:VEVENT
BEGIN:VTIMEZONE
TZID:Europe/Berlin
X-LIC-LOCATION:Europe/Berlin
BEGIN:DAYLIGHT
DTSTART:19700329T020000
RRULE:FREQ=YEARLY;BYDAY=-1SU;BYMONTH=3
TZNAME:CEST
TZOFFSETFROM:+0100
TZOFFSETTO:+0200
END:DAYLIGHT
BEGIN:STANDARD
DTSTART:19701025T030000
RRULE:FREQ=YEARLY;BYDAY=-1SU;BYMONTH=10
TZNAME:CET
TZOFFSETFROM:+0200
TZOFFSETTO:+0100
END:STANDARD
END:VTIMEZONE
END:VCALENDAR
