BEGIN:VCALENDAR
VERSION:2.0
PRODID:-//destination.one//NONSGML destination.meta API//DE
X-WR-CALDESC:A calendar powered by destination.meta
X-WR-CALNAME:lueneburg Kalender via destination.meta
BEGIN:VEVENT
CATEGORIES:Kabarett
DESCRIPTION:Alfons\nAlfons kam\, sah - und verknallte sich sofort: Vor über
  drei Jahrzehnten verliebten sich Alfons und \nDeutschland ineinander. Und
  nun? Was ist geworden aus der Liebes-Heirat? Brennt sie noch\, die \nLeid
 enschaft? Oder sitzen Alfons und Deutschland nur noch zusammen vorm „Tator
 t“\, in \nUnterwäsche auf dem Sofa\, und keiner redet mehr mit dem anderen
 ? Und überhaupt: Wie geht es \nDeutschland? Wie geht es den Deutschen und 
 Deutschinnen? Was ist los mit dem Miteinander im \nLand der Dichter und Re
 ntner? Zwischen ost und west\, arm und reich\, zwischen jung und nicht meh
 r \nganz so jung? Ist unsere Demokratie kaputt? Und wenn ja\, ist es ein G
 arantiefall oder müssen wir für \ndie Reparatur am Ende selbst bezahlen? A
 lfons macht sich Sorgen um seine große Liebe: Deutschland. \nUnd er begibt
  sich auf die Suche nach Antworten. Eine Erkenntnis kommt dabei schnell: D
 ie Zeit der \nPantoffeldemokratie ist vorbei! Jeder von uns muss etwas tun
  - nur was? \nAuch in seinem mittlerweile achten Programm gelingt es dem K
 ultreporter und Puschel-Philosophen \nauf unnachahmliche Art\, große Theme
 n in kleine Anekdoten zu verpacken\, warmherzig\, witzig und \nwunderbar w
 eitsichtig. „Klasse!“ ist ein Liebesbrief an Deutschland - und ein Weckruf
  gleichermaßen. \nFalls Sie also schon immer mal wissen wollten\, was Rech
 tsstaat und Raststättentoilette miteinander zu \ntun haben\, wie man von A
 sterix für Tarifverhandlungen in Deutschland lernen kann oder was Alfons \
 nals überforderter Aushilfslehrer in einer deutschen Problemklasse erlebt\
 , dann sind Sie hier richtig. \nUnd wenn Sie einfach mal wieder einen Aben
 d brauchen\, der Ihnen das Vertrauen in die Menschheit \nwiedergibt\, dann
  sind Sie hier sogar noch richtiger. \n"Es geht ihm um Menschlichkeit. Als
  postmoderner Clown und feiner Geschichtenerzähler trifft er das \nPubliku
 m nicht nur damit ins Herz\, Alfons erweist sich in seinem neuen Programm 
 als Streiter für die \nDemokratie\, und das stets mit Humor. Genau das ist
  (die) große Kleinkunst.“ \nHambuger Abendblatt \n"Ein beeindruckender Auf
 tritt\, der mit donnerndem Applaus belohnt wird.“ \nNürnberger Nachrichten
 \n\nmehr Informationen unter http://pages.destination.one/de/lueneburg/str
 eaming/detail/Event/e_101131085/alfons-klasse
DTEND;TZID=Europe/Berlin:20261002T235900
DTSTAMP:20260421T081131Z
DTSTART;TZID=Europe/Berlin:20261002T200000
GEO:53.262840;10.371900
LOCATION:Kulturforum Lüneburg\, Gut Wienebüttel 1\, Lüneburg
SEQUENCE:0
SUMMARY:Alfons - Klasse!
UID:e_101131085_iv0
URL:http://pages.destination.one/de/lueneburg/streaming/detail/Event/e_1011
 31085/alfons-klasse
END:VEVENT
BEGIN:VTIMEZONE
TZID:Europe/Berlin
X-LIC-LOCATION:Europe/Berlin
BEGIN:DAYLIGHT
DTSTART:19700329T020000
RRULE:FREQ=YEARLY;BYDAY=-1SU;BYMONTH=3
TZNAME:CEST
TZOFFSETFROM:+0100
TZOFFSETTO:+0200
END:DAYLIGHT
BEGIN:STANDARD
DTSTART:19701025T030000
RRULE:FREQ=YEARLY;BYDAY=-1SU;BYMONTH=10
TZNAME:CET
TZOFFSETFROM:+0200
TZOFFSETTO:+0100
END:STANDARD
END:VTIMEZONE
END:VCALENDAR
