BEGIN:VCALENDAR
VERSION:2.0
PRODID:-//destination.one//NONSGML destination.meta API//DE
X-WR-CALDESC:A calendar powered by destination.meta
X-WR-CALNAME:lueneburg Kalender via destination.meta
BEGIN:VEVENT
CATEGORIES:Comedy
DESCRIPTION:Wenn Mario Barth in „Männer sind nichts ohne die Frauen“ seine 
 neuen\, irrsinnig komischen Geschichten aus dem Beziehungsalltag auf die B
 ühne bringt\, gibt es kein Halten mehr. In jeder Tourstadt wird der King o
 f Comedy frenetisch gefeiert. Das Publikum liegt ihm tobend zu Füßen.\n\n\
 n\nSeine treffsicheren Analysen über den ganz normalen Wahnsinn zwischen M
 ann und Frau produzieren einen Lachanfall nach dem anderen – etwa\, wenn s
 eine Frau ihn mit einem einfachen Einkaufszettel – Butter und Tomaten – zu
 m Supermarkt schickt. Daraus entwickelt sich ein aberwitziger Schlagabtaus
 ch\, den Mario Barth mit überzogener Gestik\, unverwechselbarer Mimik und 
 seinem untrüglichen Gespür für absurde Alltagsdialoge wiedergibt.\n\n\n\nM
 ario Barth geht fundamentalen Fragen des Zusammenlebens auf den Grund und 
 kommt zu der Erkenntnis: Frauen können nicht nichts sagen. Und wenn sie ni
 chts sagen\, kommunizieren sie mit der Atmung. Wie das geht\, parodiert de
 r dreifache Weltrekordhalter aufs Trefflichste. Frauen haben mehr Fragen\,
  als Männer Antworten – nicht weil Männer keine Lust haben zu antworten\, 
 sondern weil es schlicht keine Antworten gibt. Auch hierzu hat Mario Barth
  köstliche Beispiele parat und zieht dabei alle Register seines Könnens. M
 anchmal fragt selbst er sich\, ob nicht alles über das Zusammenleben von M
 ännern und Frauen gesagt sei. „Aber dann passiert etwas und du denkst: Wie
  geil ist das denn?“\n\n\n\nDoch in seinem neuen Programm geht es nicht nu
 r um Frauen. Mario ist inzwischen achtfacher Patenonkel\, und einige der K
 inder stecken mitten in der Pubertät. Das weckt unmittelbar Erinnerungen a
 n seine eigene Jugend\, in der es kein Internet\, kein Smartphone und kein
  Instagram gab. Heute ist die Verständigung schwieriger geworden: Sein 15-
 jähriger Patensohn redet ganze Sätze – und Mario versteht ihn trotzdem nic
 ht.\n\n\n\nMit „Männer sind nichts ohne die Frauen“ ist Mario Barth auf de
 m besten Weg\, seine eigenen Rekorde zu knacken. Zahlreiche Zusatzshows bi
 s 2026 sind angesetzt. Seinen Erfolg erklärt der Comedian so: „Ich habe ei
 nfach Bock. Es macht mir wahnsinnigen Spaß\, auf der Bühne zu stehen. Und 
 das merken meine Fans. Die Welt ist verrückt geworden\, aber wir machen ei
 nfach das Beste daraus\, indem wir lachen.“\n\nmehr Informationen unter ht
 tp://pages.destination.one/de/lueneburg/streaming/detail/Event/e_101132674
 /mario-barth-m-nner-sind-nichts-ohne-die-frauen
DTEND;TZID=Europe/Berlin:20261106T235900
DTSTAMP:20260422T102058Z
DTSTART;TZID=Europe/Berlin:20261106T200000
GEO:53.272355;10.423034
LOCATION:LKH Arena\, Lüner Rennbahn 5\, Lüneburg
SEQUENCE:0
SUMMARY:Mario Barth - Männer sind nichts ohne die Frauen
UID:e_101132674_iv0
URL:http://pages.destination.one/de/lueneburg/streaming/detail/Event/e_1011
 32674/mario-barth-m-nner-sind-nichts-ohne-die-frauen
END:VEVENT
BEGIN:VTIMEZONE
TZID:Europe/Berlin
X-LIC-LOCATION:Europe/Berlin
BEGIN:DAYLIGHT
DTSTART:19700329T020000
RRULE:FREQ=YEARLY;BYDAY=-1SU;BYMONTH=3
TZNAME:CEST
TZOFFSETFROM:+0100
TZOFFSETTO:+0200
END:DAYLIGHT
BEGIN:STANDARD
DTSTART:19701025T030000
RRULE:FREQ=YEARLY;BYDAY=-1SU;BYMONTH=10
TZNAME:CET
TZOFFSETFROM:+0200
TZOFFSETTO:+0100
END:STANDARD
END:VTIMEZONE
END:VCALENDAR
