BEGIN:VCALENDAR
VERSION:2.0
PRODID:-//destination.one//NONSGML destination.meta API//DE
X-WR-CALDESC:A calendar powered by destination.meta
X-WR-CALNAME:lueneburg Kalender via destination.meta
BEGIN:VEVENT
CATEGORIES:Show sonstige
DESCRIPTION:Stellen Sie sich vor\, Sie müssten mit einem Mörder dieselbe Lu
 ft atmen\, Zeit im selben Raum verbringen\, sich mit ihm unterhalten\, ihm
  zuhören\, ihm Glauben schenken – und ihn dann auch mit allen Mitteln der 
 Kunst vor Gericht\, in der Öffentlichkeit\, gegenüber der Presse verteidig
 en. Würden Sie es tun? Und wenn ja\, könnten Sie es tun? \n\n\nAls Strafve
 rteidiger vertrat Veikko Bartel über 13 Jahre lang Mörderinnen und Mörder 
 vor Gericht – in 41 Tötungsdelikten mit insgesamt 68 Opfern. Die spannends
 ten Fälle hat er in seinem Buch „Mörderinnen und Mörder“ aufgeschrieben.\n
 Gehen Sie mit Veikko Bartel auf eine Reise durch so ein Mandat. Wie beginn
 t es? Wie begegnet man diesen Menschen? Was macht das mit einem selbst? Un
 d versuchen Sie mit ihm die Antwort auf die Frage zu finden: Warum bricht 
 es bei dem einen heraus\, bei einem anderen nicht? Was muss im Leben eines
  Menschen geschehen\, damit dieser zum Mörder wird. \n\n\nFür True Crime F
 ans ist das Live-Event mit Veikko Bartel am 29.05.2026 in Lüneburg ein abs
 olutes Muss. Hier geht es wirklich um die Fälle. Nicht um die Verteidigung
 sstrategie\, nicht um das Urteil oder den Prozess (zumindest nicht vorrang
 ig)\, nur um das Wie und das ewig schwebende „Warum?“. Abstoßend und faszi
 nierend zugleich\, eiskalt und herzerwärmend.\n\nmehr Informationen unter 
 http://pages.destination.one/de/lueneburg/streaming/detail/Event/e_1011330
 85/m-rderinnen-und-m-rdern-die-realit-t-ist-spannender-als-jeder-krimi
DTEND;TZID=Europe/Berlin:20260529T235900
DTSTAMP:20260422T090224Z
DTSTART;TZID=Europe/Berlin:20260529T193000
GEO:53.250494;10.400128
LOCATION:Ritterakademie\, Am Graalwall 12\, Lüneburg
SEQUENCE:0
SUMMARY:Mörderinnen und Mördern | Die Realität ist spannender als jeder Kri
 mi
UID:e_101133085_iv0
URL:http://pages.destination.one/de/lueneburg/streaming/detail/Event/e_1011
 33085/m-rderinnen-und-m-rdern-die-realit-t-ist-spannender-als-jeder-krimi
END:VEVENT
BEGIN:VTIMEZONE
TZID:Europe/Berlin
X-LIC-LOCATION:Europe/Berlin
BEGIN:DAYLIGHT
DTSTART:19700329T020000
RRULE:FREQ=YEARLY;BYDAY=-1SU;BYMONTH=3
TZNAME:CEST
TZOFFSETFROM:+0100
TZOFFSETTO:+0200
END:DAYLIGHT
BEGIN:STANDARD
DTSTART:19701025T030000
RRULE:FREQ=YEARLY;BYDAY=-1SU;BYMONTH=10
TZNAME:CET
TZOFFSETFROM:+0200
TZOFFSETTO:+0100
END:STANDARD
END:VTIMEZONE
END:VCALENDAR
