BEGIN:VCALENDAR
VERSION:2.0
PRODID:-//destination.one//NONSGML destination.meta API//DE
X-WR-CALDESC:A calendar powered by destination.meta
X-WR-CALNAME:lueneburg Kalender via destination.meta
BEGIN:VEVENT
CATEGORIES:Comedy
DESCRIPTION:Quichotte - Guter Dinge\n\nRollstuhlnutzende und Schwerbehinder
 te (mit „B“ im Ausweis) zahlen den normalen Kartenpreis und melden sich bi
 tte per Mail an hallo@salonhansen.com. \nDeren Begleitungen haben freien E
 intritt und benötigen keine Eintrittskarten.\n\nmehr Informationen unter h
 ttp://pages.destination.one/de/lueneburg/streaming/detail/Event/e_10113308
 7/quichotte
DTEND;TZID=Europe/Berlin:20261210T235900
DTSTAMP:20260421T081132Z
DTSTART;TZID=Europe/Berlin:20261210T200000
GEO:53.247307;10.403698
LOCATION:Salon Hansen\, Salzstraße 1\, Lüneburg
SEQUENCE:0
SUMMARY:Quichotte
UID:e_101133087_iv0
URL:http://pages.destination.one/de/lueneburg/streaming/detail/Event/e_1011
 33087/quichotte
END:VEVENT
BEGIN:VTIMEZONE
TZID:Europe/Berlin
X-LIC-LOCATION:Europe/Berlin
BEGIN:DAYLIGHT
DTSTART:19700329T020000
RRULE:FREQ=YEARLY;BYDAY=-1SU;BYMONTH=3
TZNAME:CEST
TZOFFSETFROM:+0100
TZOFFSETTO:+0200
END:DAYLIGHT
BEGIN:STANDARD
DTSTART:19701025T030000
RRULE:FREQ=YEARLY;BYDAY=-1SU;BYMONTH=10
TZNAME:CET
TZOFFSETFROM:+0200
TZOFFSETTO:+0100
END:STANDARD
END:VTIMEZONE
END:VCALENDAR
