BEGIN:VCALENDAR
VERSION:2.0
PRODID:-//destination.one//NONSGML destination.meta API//DE
X-WR-CALDESC:A calendar powered by destination.meta
X-WR-CALNAME:lueneburg Kalender via destination.meta
BEGIN:VEVENT
CATEGORIES:Show sonstige
DESCRIPTION:Erlebe Biyons neues Live-Programm "Eine Reise zum Glück" – eine
  Feel-Good-Show\, die nicht nur für Lacher\, sondern auch für jede Menge I
 nspiration\, Dankbarkeit und Glück sorgt.\n\nBiyon nimmt uns mit seinem ei
 nzigartigen Mix aus Humor und tiefen\, inspirierenden Gedanken mit auf ein
 e Reise zu uns selbst.\n\nHier geht es nicht nur um kurzweilige Unterhaltu
 ng\, sondern um eine tiefgehende Erfahrung\, die das Publikum zum Lachen\,
  Nachdenken und Fühlen bringt.\n\nAm Ende bleibt nicht nur ein Lächeln\, s
 ondern auch das Gefühl von Glück und Dankbarkeit\, das uns noch lange begl
 eitet.\n\nSei dabei und komm mit auf eine Reise zum Glück.\n\nmehr Informa
 tionen unter http://pages.destination.one/de/lueneburg/streaming/detail/Ev
 ent/e_101135863/biyon-kattilathu-eine-reise-zum-gl-ck
DTEND;TZID=Europe/Berlin:20261024T235900
DTSTAMP:20260421T112039Z
DTSTART;TZID=Europe/Berlin:20261024T200000
GEO:53.228442;10.404695
LOCATION:Leuphana Universität (Libeskind Auditorium)\, Universitätsallee 1\
 , Lüneburg
SEQUENCE:0
SUMMARY:Biyon Kattilathu - Eine Reise zum Glück
UID:e_101135863_iv0
URL:http://pages.destination.one/de/lueneburg/streaming/detail/Event/e_1011
 35863/biyon-kattilathu-eine-reise-zum-gl-ck
END:VEVENT
BEGIN:VTIMEZONE
TZID:Europe/Berlin
X-LIC-LOCATION:Europe/Berlin
BEGIN:DAYLIGHT
DTSTART:19700329T020000
RRULE:FREQ=YEARLY;BYDAY=-1SU;BYMONTH=3
TZNAME:CEST
TZOFFSETFROM:+0100
TZOFFSETTO:+0200
END:DAYLIGHT
BEGIN:STANDARD
DTSTART:19701025T030000
RRULE:FREQ=YEARLY;BYDAY=-1SU;BYMONTH=10
TZNAME:CET
TZOFFSETFROM:+0200
TZOFFSETTO:+0100
END:STANDARD
END:VTIMEZONE
END:VCALENDAR
