BEGIN:VCALENDAR
VERSION:2.0
PRODID:-//destination.one//NONSGML destination.meta API//DE
X-WR-CALDESC:A calendar powered by destination.meta
X-WR-CALNAME:lueneburg Kalender via destination.meta
BEGIN:VEVENT
CATEGORIES:Comedy
DESCRIPTION:„KONFETTI FÜR ALLE!“ - Ein Aufstand in Farbe \n\n\n\nDave Davis
  ist wieder da – mit einem Knall der komödiantischen\nExtraklasse: »Konfet
 ti für alle!« \n\n\n\nSein brandneues\, abendfüllendes Humorwerk ist das L
 ive-Rezept\ngegen eine Welt\, die zunehmend fahl wirkt und nur noch Trübsa
 l\nbläst. \n\nDer zweifache Prix-Pantheon-Preisträger und Träger des\nDeut
 schen Comedypreises sagt: \n\n„Man kann den Wahnsinn der Welt nicht immer 
 ändern\, aber man\nkann ihn mit Konfetti bewerfen. Konfetti ist wie ein vo
 m Leben\ngelochtes Manifest: Es erinnert uns daran\, dass selbst im\ngrößt
 en Durcheinander Leichtigkeit möglich ist.“\nRecht hat er. \n\n\n\nMit »Ko
 nfetti für alle!« defibrilliert Davis\njedes Jammerflimmern und beweist ei
 nmal mehr\, warum er\nder Ristretto des Kabaretts ist: kurzweilig\, stark\
 , schwarz.\nEr jongliert mit herrlich absurden Geschichten\, pointierten\n
 Liedern und der Freude am Schrägen – und beherrscht\ndiese Register wie ei
 n olympischer Clown mit Doktortitel. Die\nRealität wird so lange verbogen\
 , bis selbst der letzte\nPessimist im Saal sein Grinsen nicht mehr verstec
 ken kann.\nKommen Sie zu »Konfetti für alle!« – denn: „Lachen braucht\nkei
 ne Rechtfertigung – nicht einmal Zähne.“\n\nmehr Informationen unter http:
 //pages.destination.one/de/lueneburg/streaming/detail/Event/e_101135868/da
 ve-davis-konfetti-f-r-alle
DTEND;TZID=Europe/Berlin:20260510T235900
DTSTAMP:20260422T085241Z
DTSTART;TZID=Europe/Berlin:20260510T190000
GEO:53.262840;10.371900
LOCATION:Kulturforum Lüneburg\, Gut Wienebüttel 1\, Lüneburg
SEQUENCE:0
SUMMARY:Dave Davis - Konfetti für Alle!
UID:e_101135868_iv0
URL:http://pages.destination.one/de/lueneburg/streaming/detail/Event/e_1011
 35868/dave-davis-konfetti-f-r-alle
END:VEVENT
BEGIN:VTIMEZONE
TZID:Europe/Berlin
X-LIC-LOCATION:Europe/Berlin
BEGIN:DAYLIGHT
DTSTART:19700329T020000
RRULE:FREQ=YEARLY;BYDAY=-1SU;BYMONTH=3
TZNAME:CEST
TZOFFSETFROM:+0100
TZOFFSETTO:+0200
END:DAYLIGHT
BEGIN:STANDARD
DTSTART:19701025T030000
RRULE:FREQ=YEARLY;BYDAY=-1SU;BYMONTH=10
TZNAME:CET
TZOFFSETFROM:+0200
TZOFFSETTO:+0100
END:STANDARD
END:VTIMEZONE
END:VCALENDAR
