BEGIN:VCALENDAR
VERSION:2.0
PRODID:-//destination.one//NONSGML destination.meta API//DE
X-WR-CALDESC:A calendar powered by destination.meta
X-WR-CALNAME:lueneburg Kalender via destination.meta
BEGIN:VEVENT
CATEGORIES:Musik sonstige
CATEGORIES:Konzert
DESCRIPTION:2026 - Oehl verlängert die Tour der guten Hoffnung\n\nOehl\, di
 e 4-köpfige Liveband um Sänger Ariel Oehl\, schmeißt eine Party\, die Tour
  der guten Hoffnung. Nach einer ausverkauften Großstädtetour 2024 geht die
 se in die zweite Runde\, und wie bei jedem ordentlichen Festakt darf auch 
 bei den Shows von Oehl mitgegröhlt\, geschwitzt und getanzt werden\, in ru
 higen Momenten\, etwa dem Akustik-Set\, werden allerdings auch feuchte Aug
 en serviert und das ein oder andere Tränchen vergossen.\n\n„Männer weinen 
 Heimlich“ singt Herbert Grönemeyer 1984 im Song Männer. Nicht so Ariel Oeh
 l\, der Sänger und Songwriter zeigt seine Gefühle auf mittlerweile vier Pl
 atten\, im monatlichen Newsletter\, auf Instagram\, auf der Bühne. Seine L
 ieder gehen tief unter die Haut und sind dabei alles andere als gefühlsdus
 elig. Sie verhandeln die großen Themen der Gesellschaft und werden auf tre
 ibenden Beats serviert\, mit lebendigen Bass-Lines und einer Sanftmut\, di
 e im deutschsprachigen Indiepop ihresgleichen sucht. Die Musik von Oehl is
 t schwer und leicht zugleich\, eine Summe von Gegensätzen\, die in der Mus
 ik zusammenkommt und sich\, wie man in Österreich sagt\, ganz selbstverstä
 ndlich „ausgeht“.\n\nDazu meint Ariel: "Ganz egal wie man zur Lage dieser 
 Welt steht – ein Abend mit viel Gefühl und ein bisschen kollektive Hoffnun
 g sei uns gegönnt!"\n\nmehr Informationen unter http://pages.destination.o
 ne/de/lueneburg/streaming/detail/Event/e_101136700/oehl-tour-der-guten-hof
 fnung-verl-ngerung
DTEND;TZID=Europe/Berlin:20260418T235900
DTSTAMP:20260421T091414Z
DTSTART;TZID=Europe/Berlin:20260418T200000
GEO:53.247307;10.403698
LOCATION:Salon Hansen\, Salzstraße 1\, Lüneburg
SEQUENCE:0
SUMMARY:Oehl - Tour der guten Hoffnung (Verlängerung)
UID:e_101136700_iv0
URL:http://pages.destination.one/de/lueneburg/streaming/detail/Event/e_1011
 36700/oehl-tour-der-guten-hoffnung-verl-ngerung
END:VEVENT
BEGIN:VTIMEZONE
TZID:Europe/Berlin
X-LIC-LOCATION:Europe/Berlin
BEGIN:DAYLIGHT
DTSTART:19700329T020000
RRULE:FREQ=YEARLY;BYDAY=-1SU;BYMONTH=3
TZNAME:CEST
TZOFFSETFROM:+0100
TZOFFSETTO:+0200
END:DAYLIGHT
BEGIN:STANDARD
DTSTART:19701025T030000
RRULE:FREQ=YEARLY;BYDAY=-1SU;BYMONTH=10
TZNAME:CET
TZOFFSETFROM:+0200
TZOFFSETTO:+0100
END:STANDARD
END:VTIMEZONE
END:VCALENDAR
