BEGIN:VCALENDAR
VERSION:2.0
PRODID:-//destination.one//NONSGML destination.meta API//DE
X-WR-CALDESC:A calendar powered by destination.meta
X-WR-CALNAME:lueneburg Kalender via destination.meta
BEGIN:VEVENT
CATEGORIES:Musical
DESCRIPTION:Erlebe eine atemberaubende HypnoX Show mit Mr Yasin! In dieser 
 Show entführt er das Publikum in die Welt der Hypnose und fasziniert seine
  Gäste auf unvergessliche Weise. Während der Show wählt Mr Yasin Freiwilli
 ge aus dem Publikum aus und lässt sie unter Hypnose erstaunliche Dinge tun
 . Die Spannung und der Spaß sind garantiert!\n\nErlebe einen Abend voller 
 Faszination\, Spannung und viel zu Lachen. Mr Yasin präsentiert seine Show
  auf humorvolle Art und Weise und bringt dich und deine Begleitung auf ein
 e unvergessliche Reise in die Welt der Hypnose.\n\nmehr Informationen unte
 r http://pages.destination.one/de/lueneburg/streaming/detail/Event/e_10114
 8093/mr-yasin-the-hypnox-show
DTEND;TZID=Europe/Berlin:20261113T235900
DTSTAMP:20260420T135956Z
DTSTART;TZID=Europe/Berlin:20261113T200000
GEO:53.262840;10.371900
LOCATION:Kulturforum Lüneburg\, Gut Wienebüttel 1\, Lüneburg
SEQUENCE:0
SUMMARY:Mr. Yasin - The Hypnox Show
UID:e_101148093_iv0
URL:http://pages.destination.one/de/lueneburg/streaming/detail/Event/e_1011
 48093/mr-yasin-the-hypnox-show
END:VEVENT
BEGIN:VTIMEZONE
TZID:Europe/Berlin
X-LIC-LOCATION:Europe/Berlin
BEGIN:DAYLIGHT
DTSTART:19700329T020000
RRULE:FREQ=YEARLY;BYDAY=-1SU;BYMONTH=3
TZNAME:CEST
TZOFFSETFROM:+0100
TZOFFSETTO:+0200
END:DAYLIGHT
BEGIN:STANDARD
DTSTART:19701025T030000
RRULE:FREQ=YEARLY;BYDAY=-1SU;BYMONTH=10
TZNAME:CET
TZOFFSETFROM:+0200
TZOFFSETTO:+0100
END:STANDARD
END:VTIMEZONE
END:VCALENDAR
