BEGIN:VCALENDAR
VERSION:2.0
PRODID:-//destination.one//NONSGML destination.meta API//DE
X-WR-CALDESC:A calendar powered by destination.meta
X-WR-CALNAME:lueneburg Kalender via destination.meta
BEGIN:VEVENT
CATEGORIES:Historischer Markt
DESCRIPTION:Erleben Sie eine Handwerkerstrasse wie im 16. Jahrhundert in de
 n Gassen der historischen Lüneburger Altstadt!\n\nmehr Informationen unter
  http://pages.destination.one/de/lueneburg/streaming/detail/Event/e_101148
 895/alte-handwerkerstra-e-in-l-neburg
DTEND;TZID=Europe/Berlin:20260905T190000
DTSTAMP:20260422T085134Z
DTSTART;TZID=Europe/Berlin:20260905T120000
GEO:53.248968;10.401564
LOCATION:St. Michaeliskirche\, Johann-Sebastian-Bach-Platz\, Lüneburg
ORGANIZER;CN=Arbeitskreis Lüneburger Altstadt e.V. (ALA):mailto:ALA.eV@t-on
 line.de
SEQUENCE:0
SUMMARY:Alte Handwerkerstraße in Lüneburg
UID:e_101148895_iv0
URL:http://pages.destination.one/de/lueneburg/streaming/detail/Event/e_1011
 48895/alte-handwerkerstra-e-in-l-neburg
END:VEVENT
BEGIN:VEVENT
CATEGORIES:Historischer Markt
DESCRIPTION:Erleben Sie eine Handwerkerstrasse wie im 16. Jahrhundert in de
 n Gassen der historischen Lüneburger Altstadt!\n\nmehr Informationen unter
  http://pages.destination.one/de/lueneburg/streaming/detail/Event/e_101148
 895/alte-handwerkerstra-e-in-l-neburg
DTEND;TZID=Europe/Berlin:20260906T180000
DTSTAMP:20260422T085134Z
DTSTART;TZID=Europe/Berlin:20260906T110000
GEO:53.248968;10.401564
LOCATION:St. Michaeliskirche\, Johann-Sebastian-Bach-Platz\, Lüneburg
ORGANIZER;CN=Arbeitskreis Lüneburger Altstadt e.V. (ALA):mailto:ALA.eV@t-on
 line.de
SEQUENCE:0
SUMMARY:Alte Handwerkerstraße in Lüneburg
UID:e_101148895_iv1
URL:http://pages.destination.one/de/lueneburg/streaming/detail/Event/e_1011
 48895/alte-handwerkerstra-e-in-l-neburg
END:VEVENT
BEGIN:VTIMEZONE
TZID:Europe/Berlin
X-LIC-LOCATION:Europe/Berlin
BEGIN:DAYLIGHT
DTSTART:19700329T020000
RRULE:FREQ=YEARLY;BYDAY=-1SU;BYMONTH=3
TZNAME:CEST
TZOFFSETFROM:+0100
TZOFFSETTO:+0200
END:DAYLIGHT
BEGIN:STANDARD
DTSTART:19701025T030000
RRULE:FREQ=YEARLY;BYDAY=-1SU;BYMONTH=10
TZNAME:CET
TZOFFSETFROM:+0200
TZOFFSETTO:+0100
END:STANDARD
END:VTIMEZONE
END:VCALENDAR
